Workbook

Sheet 1
A1: REMITENTES CON SALDOS MAYORES DEL +5%
A2: Fecha | B2: Remitente
A3: 46266 | B3: {=IFERROR(INDEX(creg185!$B$2:$B$13583,SMALL(IF((creg185!$S$2:$S$13583="MAYOR")*(creg185!$A$2:$A$13583=$A3),ROW(creg185!$S$2:$S$13583)-ROW(creg185!$S$2)+1),COUNTIF($A$3:$A3,$A3))),"")} -> CENIT TRANSPORTEYLOGÍSTICA DE HIDROCARBUROS S.A.S
A4: 46266 | B4: {=IFERROR(INDEX(creg185!$B$2:$B$13583,SMALL(IF((creg185!$S$2:$S$13583="MAYOR")*(creg185!$A$2:$A$13583=$A4),ROW(creg185!$S$2:$S$13583)-ROW(creg185!$S$2)+1),COUNTIF($A$3:$A4,$A4))),"")} -> GASES DE OCCIDENTE S.A.
A5: 46266 | B5: {=IFERROR(INDEX(creg185!$B$2:$B$13583,SMALL(IF((creg185!$S$2:$S$13583="MAYOR")*(creg185!$A$2:$A$13583=$A5),ROW(creg185!$S$2:$S$13583)-ROW(creg185!$S$2)+1),COUNTIF($A$3:$A5,$A5))),"")} -> METROGAS DE COLOMBIA S.A. E.S.P.
A6: 46266 | B6: {=IFERROR(INDEX(creg185!$B$2:$B$13583,SMALL(IF((creg185!$S$2:$S$13583="MAYOR")*(creg185!$A$2:$A$13583=$A6),ROW(creg185!$S$2:$S$13583)-ROW(creg185!$S$2)+1),COUNTIF($A$3:$A6,$A6))),"")} -> VANTI SA ESP
A7: 46266 | B7: {=IFERROR(INDEX(creg185!$B$2:$B$13583,SMALL(IF((creg185!$S$2:$S$13583="MAYOR")*(creg185!$A$2:$A$13583=$A7),ROW(creg185!$S$2:$S$13583)-ROW(creg185!$S$2)+1),COUNTIF($A$3:$A7,$A7))),"")}
A8: 46266 | B8: {=IFERROR(INDEX(creg185!$B$2:$B$13583,SMALL(IF((creg185!$S$2:$S$13583="MAYOR")*(creg185!$A$2:$A$13583=$A8),ROW(creg185!$S$2:$S$13583)-ROW(creg185!$S$2)+1),COUNTIF($A$3:$A8,$A8))),"")}
A9: 46266 | B9: {=IFERROR(INDEX(creg185!$B$2:$B$13583,SMALL(IF((creg185!$S$2:$S$13583="MAYOR")*(creg185!$A$2:$A$13583=$A9),ROW(creg185!$S$2:$S$13583)-ROW(creg185!$S$2)+1),COUNTIF($A$3:$A9,$A9))),"")}
A10: 46266 | B10: {=IFERROR(INDEX(creg185!$B$2:$B$13583,SMALL(IF((creg185!$S$2:$S$13583="MAYOR")*(creg185!$A$2:$A$13583=$A10),ROW(creg185!$S$2:$S$13583)-ROW(creg185!$S$2)+1),COUNTIF($A$3:$A10,$A10))),"")}
A11: 46266 | B11: {=IFERROR(INDEX(creg185!$B$2:$B$13583,SMALL(IF((creg185!$S$2:$S$13583="MAYOR")*(creg185!$A$2:$A$13583=$A11),ROW(creg185!$S$2:$S$13583)-ROW(creg185!$S$2)+1),COUNTIF($A$3:$A11,$A11))),"")}
A12: 46266 | B12: {=IFERROR(INDEX(creg185!$B$2:$B$13583,SMALL(IF((creg185!$S$2:$S$13583="MAYOR")*(creg185!$A$2:$A$13583=$A12),ROW(creg185!$S$2:$S$13583)-ROW(creg185!$S$2)+1),COUNTIF($A$3:$A12,$A12))),"")}
A15: REMITENTES CON SALDOS MENORES DEL -5%
A16: Fecha | B16: Remitente
A17: 46266 | B17: {=IFERROR(INDEX(creg185!$B$2:$B$13583,SMALL(IF((creg185!$T$2:$T$13583="MENOR")*(creg185!$A$2:$A$13583=$A17),ROW(creg185!$S$2:$S$13583)-ROW(creg185!$S$2)+1),COUNTIF($A$17:$A17,$A17))),"")} -> GASES DEL CARIBE
A18: 46266 | B18: {=IFERROR(INDEX(creg185!$B$2:$B$13583,SMALL(IF((creg185!$T$2:$T$13583="MENOR")*(creg185!$A$2:$A$13583=$A18),ROW(creg185!$S$2:$S$13583)-ROW(creg185!$S$2)+1),COUNTIF($A$17:$A18,$A18))),"")} -> KRONOS ENERGY S.A.S E.S.P
A19: 46266 | B19: {=IFERROR(INDEX(creg185!$B$2:$B$13583,SMALL(IF((creg185!$T$2:$T$13583="MENOR")*(creg185!$A$2:$A$13583=$A19),ROW(creg185!$S$2:$S$13583)-ROW(creg185!$S$2)+1),COUNTIF($A$17:$A19,$A19))),"")} -> ORGANIZACION TERPEL S.A.
A20: 46266 | B20: {=IFERROR(INDEX(creg185!$B$2:$B$13583,SMALL(IF((creg185!$T$2:$T$13583="MENOR")*(creg185!$A$2:$A$13583=$A20),ROW(creg185!$S$2:$S$13583)-ROW(creg185!$S$2)+1),COUNTIF($A$17:$A20,$A20))),"")}
A21: 46266 | B21: {=IFERROR(INDEX(creg185!$B$2:$B$13583,SMALL(IF((creg185!$T$2:$T$13583="MENOR")*(creg185!$A$2:$A$13583=$A21),ROW(creg185!$S$2:$S$13583)-ROW(creg185!$S$2)+1),COUNTIF($A$17:$A21,$A21))),"")}
A22: 46266 | B22: {=IFERROR(INDEX(creg185!$B$2:$B$13583,SMALL(IF((creg185!$T$2:$T$13583="MENOR")*(creg185!$A$2:$A$13583=$A22),ROW(creg185!$S$2:$S$13583)-ROW(creg185!$S$2)+1),COUNTIF($A$17:$A22,$A22))),"")}
A23: 46266 | B23: {=IFERROR(INDEX(creg185!$B$2:$B$13583,SMALL(IF((creg185!$T$2:$T$13583="MENOR")*(creg185!$A$2:$A$13583=$A23),ROW(creg185!$S$2:$S$13583)-ROW(creg185!$S$2)+1),COUNTIF($A$17:$A23,$A23))),"")}

Sheet 2
A1: REMITENTES CON SALDOS MAYORES DEL +5%
A2: Fecha | B2: Remitente
A3: 46267 | B3: {=IFERROR(INDEX(creg185!$B$2:$B$13583,SMALL(IF((creg185!$S$2:$S$13583="MAYOR")*(creg185!$A$2:$A$13583=$A3),ROW(creg185!$S$2:$S$13583)-ROW(creg185!$S$2)+1),COUNTIF($A$3:$A3,$A3))),"")} -> CENIT TRANSPORTEYLOGÍSTICA DE HIDROCARBUROS S.A.S
A4: 46267 | B4: {=IFERROR(INDEX(creg185!$B$2:$B$13583,SMALL(IF((creg185!$S$2:$S$13583="MAYOR")*(creg185!$A$2:$A$13583=$A4),ROW(creg185!$S$2:$S$13583)-ROW(creg185!$S$2)+1),COUNTIF($A$3:$A4,$A4))),"")} -> ECOPETROL S.A.
A5: 46267 | B5: {=IFERROR(INDEX(creg185!$B$2:$B$13583,SMALL(IF((creg185!$S$2:$S$13583="MAYOR")*(creg185!$A$2:$A$13583=$A5),ROW(creg185!$S$2:$S$13583)-ROW(creg185!$S$2)+1),COUNTIF($A$3:$A5,$A5))),"")}
A6: 46267 | B6: {=IFERROR(INDEX(creg185!$B$2:$B$13583,SMALL(IF((creg185!$S$2:$S$13583="MAYOR")*(creg185!$A$2:$A$13583=$A6),ROW(creg185!$S$2:$S$13583)-ROW(creg185!$S$2)+1),COUNTIF($A$3:$A6,$A6))),"")}
A7: 46267 | B7: {=IFERROR(INDEX(creg185!$B$2:$B$13583,SMALL(IF((creg185!$S$2:$S$13583="MAYOR")*(creg185!$A$2:$A$13583=$A7),ROW(creg185!$S$2:$S$13583)-ROW(creg185!$S$2)+1),COUNTIF($A$3:$A7,$A7))),"")}
A8: 46267 | B8: {=IFERROR(INDEX(creg185!$B$2:$B$13583,SMALL(IF((creg185!$S$2:$S$13583="MAYOR")*(creg185!$A$2:$A$13583=$A8),ROW(creg185!$S$2:$S$13583)-ROW(creg185!$S$2)+1),COUNTIF($A$3:$A8,$A8))),"")}
A9: 46267 | B9: {=IFERROR(INDEX(creg185!$B$2:$B$13583,SMALL(IF((creg185!$S$2:$S$13583="MAYOR")*(creg185!$A$2:$A$13583=$A9),ROW(creg185!$S$2:$S$13583)-ROW(creg185!$S$2)+1),COUNTIF($A$3:$A9,$A9))),"")}
A10: 46267 | B10: {=IFERROR(INDEX(creg185!$B$2:$B$13583,SMALL(IF((creg185!$S$2:$S$13583="MAYOR")*(creg185!$A$2:$A$13583=$A10),ROW(creg185!$S$2:$S$13583)-ROW(creg185!$S$2)+1),COUNTIF($A$3:$A10,$A10))),"")}
A11: 46267 | B11: {=IFERROR(INDEX(creg185!$B$2:$B$13583,SMALL(IF((creg185!$S$2:$S$13583="MAYOR")*(creg185!$A$2:$A$13583=$A11),ROW(creg185!$S$2:$S$13583)-ROW(creg185!$S$2)+1),COUNTIF($A$3:$A11,$A11))),"")}
A12: 46267 | B12: {=IFERROR(INDEX(creg185!$B$2:$B$13583,SMALL(IF((creg185!$S$2:$S$13583="MAYOR")*(creg185!$A$2:$A$13583=$A12),ROW(creg185!$S$2:$S$13583)-ROW(creg185!$S$2)+1),COUNTIF($A$3:$A12,$A12))),"")}
A15: REMITENTES CON SALDOS MENORES DEL -5%
A16: Fecha | B16: Remitente
A17: 46267 | B17: {=IFERROR(INDEX(creg185!$B$2:$B$13583,SMALL(IF((creg185!$T$2:$T$13583="MENOR")*(creg185!$A$2:$A$13583=$A17),ROW(creg185!$S$2:$S$13583)-ROW(creg185!$S$2)+1),COUNTIF($A$17:$A17,$A17))),"")} -> GASES DEL CARIBE
A18: 46267 | B18: {=IFERROR(INDEX(creg185!$B$2:$B$13583,SMALL(IF((creg185!$T$2:$T$13583="MENOR")*(creg185!$A$2:$A$13583=$A18),ROW(creg185!$S$2:$S$13583)-ROW(creg185!$S$2)+1),COUNTIF($A$17:$A18,$A18))),"")} -> KRONOS ENERGY S.A.S E.S.P
A19: 46267 | B19: {=IFERROR(INDEX(creg185!$B$2:$B$13583,SMALL(IF((creg185!$T$2:$T$13583="MENOR")*(creg185!$A$2:$A$13583=$A19),ROW(creg185!$S$2:$S$13583)-ROW(creg185!$S$2)+1),COUNTIF($A$17:$A19,$A19))),"")} -> ORGANIZACION TERPEL S.A.
A20: 46267 | B20: {=IFERROR(INDEX(creg185!$B$2:$B$13583,SMALL(IF((creg185!$T$2:$T$13583="MENOR")*(creg185!$A$2:$A$13583=$A20),ROW(creg185!$S$2:$S$13583)-ROW(creg185!$S$2)+1),COUNTIF($A$17:$A20,$A20))),"")}
A21: 46267 | B21: {=IFERROR(INDEX(creg185!$B$2:$B$13583,SMALL(IF((creg185!$T$2:$T$13583="MENOR")*(creg185!$A$2:$A$13583=$A21),ROW(creg185!$S$2:$S$13583)-ROW(creg185!$S$2)+1),COUNTIF($A$17:$A21,$A21))),"")}
A22: 46267 | B22: {=IFERROR(INDEX(creg185!$B$2:$B$13583,SMALL(IF((creg185!$T$2:$T$13583="MENOR")*(creg185!$A$2:$A$13583=$A22),ROW(creg185!$S$2:$S$13583)-ROW(creg185!$S$2)+1),COUNTIF($A$17:$A22,$A22))),"")}
A23: 46267 | B23: {=IFERROR(INDEX(creg185!$B$2:$B$13583,SMALL(IF((creg185!$T$2:$T$13583="MENOR")*(creg185!$A$2:$A$13583=$A23),ROW(creg185!$S$2:$S$13583)-ROW(creg185!$S$2)+1),COUNTIF($A$17:$A23,$A23))),"")}

Sheet 3
A1: REMITENTES CON SALDOS MAYORES DEL +5%
A2: Fecha | B2: Remitente
A3: 46268 | B3: {=IFERROR(INDEX(creg185!$B$2:$B$13583,SMALL(IF((creg185!$S$2:$S$13583="MAYOR")*(creg185!$A$2:$A$13583=$A3),ROW(creg185!$S$2:$S$13583)-ROW(creg185!$S$2)+1),COUNTIF($A$3:$A3,$A3))),"")} -> ECOPETROL S.A.
A4: 46268 | B4: {=IFERROR(INDEX(creg185!$B$2:$B$13583,SMALL(IF((creg185!$S$2:$S$13583="MAYOR")*(creg185!$A$2:$A$13583=$A4),ROW(creg185!$S$2:$S$13583)-ROW(creg185!$S$2)+1),COUNTIF($A$3:$A4,$A4))),"")} -> METROGAS DE COLOMBIA S.A. E.S.P.
A5: 46268 | B5: {=IFERROR(INDEX(creg185!$B$2:$B$13583,SMALL(IF((creg185!$S$2:$S$13583="MAYOR")*(creg185!$A$2:$A$13583=$A5),ROW(creg185!$S$2:$S$13583)-ROW(creg185!$S$2)+1),COUNTIF($A$3:$A5,$A5))),"")}
A6: 46268 | B6: {=IFERROR(INDEX(creg185!$B$2:$B$13583,SMALL(IF((creg185!$S$2:$S$13583="MAYOR")*(creg185!$A$2:$A$13583=$A6),ROW(creg185!$S$2:$S$13583)-ROW(creg185!$S$2)+1),COUNTIF($A$3:$A6,$A6))),"")}
A7: 46268 | B7: {=IFERROR(INDEX(creg185!$B$2:$B$13583,SMALL(IF((creg185!$S$2:$S$13583="MAYOR")*(creg185!$A$2:$A$13583=$A7),ROW(creg185!$S$2:$S$13583)-ROW(creg185!$S$2)+1),COUNTIF($A$3:$A7,$A7))),"")}
A8: 46268 | B8: {=IFERROR(INDEX(creg185!$B$2:$B$13583,SMALL(IF((creg185!$S$2:$S$13583="MAYOR")*(creg185!$A$2:$A$13583=$A8),ROW(creg185!$S$2:$S$13583)-ROW(creg185!$S$2)+1),COUNTIF($A$3:$A8,$A8))),"")}
A9: 46268 | B9: {=IFERROR(INDEX(creg185!$B$2:$B$13583,SMALL(IF((creg185!$S$2:$S$13583="MAYOR")*(creg185!$A$2:$A$13583=$A9),ROW(creg185!$S$2:$S$13583)-ROW(creg185!$S$2)+1),COUNTIF($A$3:$A9,$A9))),"")}
A10: 46268 | B10: {=IFERROR(INDEX(creg185!$B$2:$B$13583,SMALL(IF((creg185!$S$2:$S$13583="MAYOR")*(creg185!$A$2:$A$13583=$A10),ROW(creg185!$S$2:$S$13583)-ROW(creg185!$S$2)+1),COUNTIF($A$3:$A10,$A10))),"")}
A11: 46268 | B11: {=IFERROR(INDEX(creg185!$B$2:$B$13583,SMALL(IF((creg185!$S$2:$S$13583="MAYOR")*(creg185!$A$2:$A$13583=$A11),ROW(creg185!$S$2:$S$13583)-ROW(creg185!$S$2)+1),COUNTIF($A$3:$A11,$A11))),"")}
A12: 46268 | B12: {=IFERROR(INDEX(creg185!$B$2:$B$13583,SMALL(IF((creg185!$S$2:$S$13583="MAYOR")*(creg185!$A$2:$A$13583=$A12),ROW(creg185!$S$2:$S$13583)-ROW(creg185!$S$2)+1),COUNTIF($A$3:$A12,$A12))),"")}
A15: REMITENTES CON SALDOS MENORES DEL -5%
A16: Fecha | B16: Remitente
A17: 46268 | B17: {=IFERROR(INDEX(creg185!$B$2:$B$13583,SMALL(IF((creg185!$T$2:$T$13583="MENOR")*(creg185!$A$2:$A$13583=$A17),ROW(creg185!$S$2:$S$13583)-ROW(creg185!$S$2)+1),COUNTIF($A$17:$A17,$A17))),"")} -> CENIT TRANSPORTEYLOGÍSTICA DE HIDROCARBUROS S.A.S
A18: 46268 | B18: {=IFERROR(INDEX(creg185!$B$2:$B$13583,SMALL(IF((creg185!$T$2:$T$13583="MENOR")*(creg185!$A$2:$A$13583=$A18),ROW(creg185!$S$2:$S$13583)-ROW(creg185!$S$2)+1),COUNTIF($A$17:$A18,$A18))),"")} -> ENEL COLOMBIA S.A. E.S.P
A19: 46268 | B19: {=IFERROR(INDEX(creg185!$B$2:$B$13583,SMALL(IF((creg185!$T$2:$T$13583="MENOR")*(creg185!$A$2:$A$13583=$A19),ROW(creg185!$S$2:$S$13583)-ROW(creg185!$S$2)+1),COUNTIF($A$17:$A19,$A19))),"")} -> GASES DEL CARIBE
A20: 46268 | B20: {=IFERROR(INDEX(creg185!$B$2:$B$13583,SMALL(IF((creg185!$T$2:$T$13583="MENOR")*(creg185!$A$2:$A$13583=$A20),ROW(creg185!$S$2:$S$13583)-ROW(creg185!$S$2)+1),COUNTIF($A$17:$A20,$A20))),"")} -> KRONOS ENERGY S.A.S E.S.P
A21: 46268 | B21: {=IFERROR(INDEX(creg185!$B$2:$B$13583,SMALL(IF((creg185!$T$2:$T$13583="MENOR")*(creg185!$A$2:$A$13583=$A21),ROW(creg185!$S$2:$S$13583)-ROW(creg185!$S$2)+1),COUNTIF($A$17:$A21,$A21))),"")} -> ORGANIZACION TERPEL S.A.
A22: 46268 | B22: {=IFERROR(INDEX(creg185!$B$2:$B$13583,SMALL(IF((creg185!$T$2:$T$13583="MENOR")*(creg185!$A$2:$A$13583=$A22),ROW(creg185!$S$2:$S$13583)-ROW(creg185!$S$2)+1),COUNTIF($A$17:$A22,$A22))),"")}
A23: 46268 | B23: {=IFERROR(INDEX(creg185!$B$2:$B$13583,SMALL(IF((creg185!$T$2:$T$13583="MENOR")*(creg185!$A$2:$A$13583=$A23),ROW(creg185!$S$2:$S$13583)-ROW(creg185!$S$2)+1),COUNTIF($A$17:$A23,$A23))),"")}

Sheet 4
A1: REMITENTES CON SALDOS MAYORES DEL +5%
A2: Fecha | B2: Remitente
A3: 46269 | B3: {=IFERROR(INDEX(creg185!$B$2:$B$13583,SMALL(IF((creg185!$S$2:$S$13583="MAYOR")*(creg185!$A$2:$A$13583=$A3),ROW(creg185!$S$2:$S$13583)-ROW(creg185!$S$2)+1),COUNTIF($A$3:$A3,$A3))),"")} -> METROGAS DE COLOMBIA S.A. E.S.P.
A4: 46269 | B4: {=IFERROR(INDEX(creg185!$B$2:$B$13583,SMALL(IF((creg185!$S$2:$S$13583="MAYOR")*(creg185!$A$2:$A$13583=$A4),ROW(creg185!$S$2:$S$13583)-ROW(creg185!$S$2)+1),COUNTIF($A$3:$A4,$A4))),"")}
A5: 46269 | B5: {=IFERROR(INDEX(creg185!$B$2:$B$13583,SMALL(IF((creg185!$S$2:$S$13583="MAYOR")*(creg185!$A$2:$A$13583=$A5),ROW(creg185!$S$2:$S$13583)-ROW(creg185!$S$2)+1),COUNTIF($A$3:$A5,$A5))),"")}
A6: 46269 | B6: {=IFERROR(INDEX(creg185!$B$2:$B$13583,SMALL(IF((creg185!$S$2:$S$13583="MAYOR")*(creg185!$A$2:$A$13583=$A6),ROW(creg185!$S$2:$S$13583)-ROW(creg185!$S$2)+1),COUNTIF($A$3:$A6,$A6))),"")}
A7: 46269 | B7: {=IFERROR(INDEX(creg185!$B$2:$B$13583,SMALL(IF((creg185!$S$2:$S$13583="MAYOR")*(creg185!$A$2:$A$13583=$A7),ROW(creg185!$S$2:$S$13583)-ROW(creg185!$S$2)+1),COUNTIF($A$3:$A7,$A7))),"")}
A8: 46269 | B8: {=IFERROR(INDEX(creg185!$B$2:$B$13583,SMALL(IF((creg185!$S$2:$S$13583="MAYOR")*(creg185!$A$2:$A$13583=$A8),ROW(creg185!$S$2:$S$13583)-ROW(creg185!$S$2)+1),COUNTIF($A$3:$A8,$A8))),"")}
A9: 46269 | B9: {=IFERROR(INDEX(creg185!$B$2:$B$13583,SMALL(IF((creg185!$S$2:$S$13583="MAYOR")*(creg185!$A$2:$A$13583=$A9),ROW(creg185!$S$2:$S$13583)-ROW(creg185!$S$2)+1),COUNTIF($A$3:$A9,$A9))),"")}
A10: 46269 | B10: {=IFERROR(INDEX(creg185!$B$2:$B$13583,SMALL(IF((creg185!$S$2:$S$13583="MAYOR")*(creg185!$A$2:$A$13583=$A10),ROW(creg185!$S$2:$S$13583)-ROW(creg185!$S$2)+1),COUNTIF($A$3:$A10,$A10))),"")}
A11: 46269 | B11: {=IFERROR(INDEX(creg185!$B$2:$B$13583,SMALL(IF((creg185!$S$2:$S$13583="MAYOR")*(creg185!$A$2:$A$13583=$A11),ROW(creg185!$S$2:$S$13583)-ROW(creg185!$S$2)+1),COUNTIF($A$3:$A11,$A11))),"")}
A12: 46269 | B12: {=IFERROR(INDEX(creg185!$B$2:$B$13583,SMALL(IF((creg185!$S$2:$S$13583="MAYOR")*(creg185!$A$2:$A$13583=$A12),ROW(creg185!$S$2:$S$13583)-ROW(creg185!$S$2)+1),COUNTIF($A$3:$A12,$A12))),"")}
A15: REMITENTES CON SALDOS MENORES DEL -5%
A16: Fecha | B16: Remitente
A17: 46269 | B17: {=IFERROR(INDEX(creg185!$B$2:$B$13583,SMALL(IF((creg185!$T$2:$T$13583="MENOR")*(creg185!$A$2:$A$13583=$A17),ROW(creg185!$S$2:$S$13583)-ROW(creg185!$S$2)+1),COUNTIF($A$17:$A17,$A17))),"")} -> CENIT TRANSPORTEYLOGÍSTICA DE HIDROCARBUROS S.A.S
A18: 46269 | B18: {=IFERROR(INDEX(creg185!$B$2:$B$13583,SMALL(IF((creg185!$T$2:$T$13583="MENOR")*(creg185!$A$2:$A$13583=$A18),ROW(creg185!$S$2:$S$13583)-ROW(creg185!$S$2)+1),COUNTIF($A$17:$A18,$A18))),"")} -> ENEL COLOMBIA S.A. E.S.P
A19: 46269 | B19: {=IFERROR(INDEX(creg185!$B$2:$B$13583,SMALL(IF((creg185!$T$2:$T$13583="MENOR")*(creg185!$A$2:$A$13583=$A19),ROW(creg185!$S$2:$S$13583)-ROW(creg185!$S$2)+1),COUNTIF($A$17:$A19,$A19))),"")} -> GASES DEL CARIBE
A20: 46269 | B20: {=IFERROR(INDEX(creg185!$B$2:$B$13583,SMALL(IF((creg185!$T$2:$T$13583="MENOR")*(creg185!$A$2:$A$13583=$A20),ROW(creg185!$S$2:$S$13583)-ROW(creg185!$S$2)+1),COUNTIF($A$17:$A20,$A20))),"")} -> KRONOS ENERGY S.A.S E.S.P
A21: 46269 | B21: {=IFERROR(INDEX(creg185!$B$2:$B$13583,SMALL(IF((creg185!$T$2:$T$13583="MENOR")*(creg185!$A$2:$A$13583=$A21),ROW(creg185!$S$2:$S$13583)-ROW(creg185!$S$2)+1),COUNTIF($A$17:$A21,$A21))),"")} -> ORGANIZACION TERPEL S.A.
A22: 46269 | B22: {=IFERROR(INDEX(creg185!$B$2:$B$13583,SMALL(IF((creg185!$T$2:$T$13583="MENOR")*(creg185!$A$2:$A$13583=$A22),ROW(creg185!$S$2:$S$13583)-ROW(creg185!$S$2)+1),COUNTIF($A$17:$A22,$A22))),"")}
A23: 46269 | B23: {=IFERROR(INDEX(creg185!$B$2:$B$13583,SMALL(IF((creg185!$T$2:$T$13583="MENOR")*(creg185!$A$2:$A$13583=$A23),ROW(creg185!$S$2:$S$13583)-ROW(creg185!$S$2)+1),COUNTIF($A$17:$A23,$A23))),"")}

Sheet 5
A1: REMITENTES CON SALDOS MAYORES DEL +5%
A2: Fecha | B2: Remitente
A3: 46270 | B3: {=IFERROR(INDEX(creg185!$B$2:$B$13583,SMALL(IF((creg185!$S$2:$S$13583="MAYOR")*(creg185!$A$2:$A$13583=$A3),ROW(creg185!$S$2:$S$13583)-ROW(creg185!$S$2)+1),COUNTIF($A$3:$A3,$A3))),"")} -> GNI GAS NATURAL INDUSTRIAL DE COLOMBIA S.A. ESP
A4: 46270 | B4: {=IFERROR(INDEX(creg185!$B$2:$B$13583,SMALL(IF((creg185!$S$2:$S$13583="MAYOR")*(creg185!$A$2:$A$13583=$A4),ROW(creg185!$S$2:$S$13583)-ROW(creg185!$S$2)+1),COUNTIF($A$3:$A4,$A4))),"")} -> METROGAS DE COLOMBIA S.A. E.S.P.
A5: 46270 | B5: {=IFERROR(INDEX(creg185!$B$2:$B$13583,SMALL(IF((creg185!$S$2:$S$13583="MAYOR")*(creg185!$A$2:$A$13583=$A5),ROW(creg185!$S$2:$S$13583)-ROW(creg185!$S$2)+1),COUNTIF($A$3:$A5,$A5))),"")} -> VANTI SA ESP
A6: 46270 | B6: {=IFERROR(INDEX(creg185!$B$2:$B$13583,SMALL(IF((creg185!$S$2:$S$13583="MAYOR")*(creg185!$A$2:$A$13583=$A6),ROW(creg185!$S$2:$S$13583)-ROW(creg185!$S$2)+1),COUNTIF($A$3:$A6,$A6))),"")}
A7: 46270 | B7: {=IFERROR(INDEX(creg185!$B$2:$B$13583,SMALL(IF((creg185!$S$2:$S$13583="MAYOR")*(creg185!$A$2:$A$13583=$A7),ROW(creg185!$S$2:$S$13583)-ROW(creg185!$S$2)+1),COUNTIF($A$3:$A7,$A7))),"")}
A8: 46270 | B8: {=IFERROR(INDEX(creg185!$B$2:$B$13583,SMALL(IF((creg185!$S$2:$S$13583="MAYOR")*(creg185!$A$2:$A$13583=$A8),ROW(creg185!$S$2:$S$13583)-ROW(creg185!$S$2)+1),COUNTIF($A$3:$A8,$A8))),"")}
A9: 46270 | B9: {=IFERROR(INDEX(creg185!$B$2:$B$13583,SMALL(IF((creg185!$S$2:$S$13583="MAYOR")*(creg185!$A$2:$A$13583=$A9),ROW(creg185!$S$2:$S$13583)-ROW(creg185!$S$2)+1),COUNTIF($A$3:$A9,$A9))),"")}
A10: 46270 | B10: {=IFERROR(INDEX(creg185!$B$2:$B$13583,SMALL(IF((creg185!$S$2:$S$13583="MAYOR")*(creg185!$A$2:$A$13583=$A10),ROW(creg185!$S$2:$S$13583)-ROW(creg185!$S$2)+1),COUNTIF($A$3:$A10,$A10))),"")}
A11: 46270 | B11: {=IFERROR(INDEX(creg185!$B$2:$B$13583,SMALL(IF((creg185!$S$2:$S$13583="MAYOR")*(creg185!$A$2:$A$13583=$A11),ROW(creg185!$S$2:$S$13583)-ROW(creg185!$S$2)+1),COUNTIF($A$3:$A11,$A11))),"")}
A12: 46270 | B12: {=IFERROR(INDEX(creg185!$B$2:$B$13583,SMALL(IF((creg185!$S$2:$S$13583="MAYOR")*(creg185!$A$2:$A$13583=$A12),ROW(creg185!$S$2:$S$13583)-ROW(creg185!$S$2)+1),COUNTIF($A$3:$A12,$A12))),"")}
A15: REMITENTES CON SALDOS MENORES DEL -5%
A16: Fecha | B16: Remitente
A17: 46270 | B17: {=IFERROR(INDEX(creg185!$B$2:$B$13583,SMALL(IF((creg185!$T$2:$T$13583="MENOR")*(creg185!$A$2:$A$13583=$A17),ROW(creg185!$S$2:$S$13583)-ROW(creg185!$S$2)+1),COUNTIF($A$17:$A17,$A17))),"")} -> ENEL COLOMBIA S.A. E.S.P
A18: 46270 | B18: {=IFERROR(INDEX(creg185!$B$2:$B$13583,SMALL(IF((creg185!$T$2:$T$13583="MENOR")*(creg185!$A$2:$A$13583=$A18),ROW(creg185!$S$2:$S$13583)-ROW(creg185!$S$2)+1),COUNTIF($A$17:$A18,$A18))),"")} -> GASES DEL CARIBE
A19: 46270 | B19: {=IFERROR(INDEX(creg185!$B$2:$B$13583,SMALL(IF((creg185!$T$2:$T$13583="MENOR")*(creg185!$A$2:$A$13583=$A19),ROW(creg185!$S$2:$S$13583)-ROW(creg185!$S$2)+1),COUNTIF($A$17:$A19,$A19))),"")} -> KRONOS ENERGY S.A.S E.S.P
A20: 46270 | B20: {=IFERROR(INDEX(creg185!$B$2:$B$13583,SMALL(IF((creg185!$T$2:$T$13583="MENOR")*(creg185!$A$2:$A$13583=$A20),ROW(creg185!$S$2:$S$13583)-ROW(creg185!$S$2)+1),COUNTIF($A$17:$A20,$A20))),"")} -> ORGANIZACION TERPEL S.A.
A21: 46270 | B21: {=IFERROR(INDEX(creg185!$B$2:$B$13583,SMALL(IF((creg185!$T$2:$T$13583="MENOR")*(creg185!$A$2:$A$13583=$A21),ROW(creg185!$S$2:$S$13583)-ROW(creg185!$S$2)+1),COUNTIF($A$17:$A21,$A21))),"")}
A22: 46270 | B22: {=IFERROR(INDEX(creg185!$B$2:$B$13583,SMALL(IF((creg185!$T$2:$T$13583="MENOR")*(creg185!$A$2:$A$13583=$A22),ROW(creg185!$S$2:$S$13583)-ROW(creg185!$S$2)+1),COUNTIF($A$17:$A22,$A22))),"")}
A23: 46270 | B23: {=IFERROR(INDEX(creg185!$B$2:$B$13583,SMALL(IF((creg185!$T$2:$T$13583="MENOR")*(creg185!$A$2:$A$13583=$A23),ROW(creg185!$S$2:$S$13583)-ROW(creg185!$S$2)+1),COUNTIF($A$17:$A23,$A23))),"")}

Sheet 6
A1: REMITENTES CON SALDOS MAYORES DEL +5%
A2: Fecha | B2: Remitente
A3: 46271 | B3: {=IFERROR(INDEX(creg185!$B$2:$B$13583,SMALL(IF((creg185!$S$2:$S$13583="MAYOR")*(creg185!$A$2:$A$13583=$A3),ROW(creg185!$S$2:$S$13583)-ROW(creg185!$S$2)+1),COUNTIF($A$3:$A3,$A3))),"")} -> ENEL COLOMBIA S.A. E.S.P
A4: 46271 | B4: {=IFERROR(INDEX(creg185!$B$2:$B$13583,SMALL(IF((creg185!$S$2:$S$13583="MAYOR")*(creg185!$A$2:$A$13583=$A4),ROW(creg185!$S$2:$S$13583)-ROW(creg185!$S$2)+1),COUNTIF($A$3:$A4,$A4))),"")} -> GASES DEL LLANO
A5: 46271 | B5: {=IFERROR(INDEX(creg185!$B$2:$B$13583,SMALL(IF((creg185!$S$2:$S$13583="MAYOR")*(creg185!$A$2:$A$13583=$A5),ROW(creg185!$S$2:$S$13583)-ROW(creg185!$S$2)+1),COUNTIF($A$3:$A5,$A5))),"")} -> METROGAS DE COLOMBIA S.A. E.S.P.
A6: 46271 | B6: {=IFERROR(INDEX(creg185!$B$2:$B$13583,SMALL(IF((creg185!$S$2:$S$13583="MAYOR")*(creg185!$A$2:$A$13583=$A6),ROW(creg185!$S$2:$S$13583)-ROW(creg185!$S$2)+1),COUNTIF($A$3:$A6,$A6))),"")} -> ORGANIZACION TERPEL S.A.
A7: 46271 | B7: {=IFERROR(INDEX(creg185!$B$2:$B$13583,SMALL(IF((creg185!$S$2:$S$13583="MAYOR")*(creg185!$A$2:$A$13583=$A7),ROW(creg185!$S$2:$S$13583)-ROW(creg185!$S$2)+1),COUNTIF($A$3:$A7,$A7))),"")} -> VANTI SA ESP
A8: 46271 | B8: {=IFERROR(INDEX(creg185!$B$2:$B$13583,SMALL(IF((creg185!$S$2:$S$13583="MAYOR")*(creg185!$A$2:$A$13583=$A8),ROW(creg185!$S$2:$S$13583)-ROW(creg185!$S$2)+1),COUNTIF($A$3:$A8,$A8))),"")}
A9: 46271 | B9: {=IFERROR(INDEX(creg185!$B$2:$B$13583,SMALL(IF((creg185!$S$2:$S$13583="MAYOR")*(creg185!$A$2:$A$13583=$A9),ROW(creg185!$S$2:$S$13583)-ROW(creg185!$S$2)+1),COUNTIF($A$3:$A9,$A9))),"")}
A10: 46271 | B10: {=IFERROR(INDEX(creg185!$B$2:$B$13583,SMALL(IF((creg185!$S$2:$S$13583="MAYOR")*(creg185!$A$2:$A$13583=$A10),ROW(creg185!$S$2:$S$13583)-ROW(creg185!$S$2)+1),COUNTIF($A$3:$A10,$A10))),"")}
A11: 46271 | B11: {=IFERROR(INDEX(creg185!$B$2:$B$13583,SMALL(IF((creg185!$S$2:$S$13583="MAYOR")*(creg185!$A$2:$A$13583=$A11),ROW(creg185!$S$2:$S$13583)-ROW(creg185!$S$2)+1),COUNTIF($A$3:$A11,$A11))),"")}
A12: 46271 | B12: {=IFERROR(INDEX(creg185!$B$2:$B$13583,SMALL(IF((creg185!$S$2:$S$13583="MAYOR")*(creg185!$A$2:$A$13583=$A12),ROW(creg185!$S$2:$S$13583)-ROW(creg185!$S$2)+1),COUNTIF($A$3:$A12,$A12))),"")}
A15: REMITENTES CON SALDOS MENORES DEL -5%
A16: Fecha | B16: Remitente
A17: 46271 | B17: {=IFERROR(INDEX(creg185!$B$2:$B$13583,SMALL(IF((creg185!$T$2:$T$13583="MENOR")*(creg185!$A$2:$A$13583=$A17),ROW(creg185!$S$2:$S$13583)-ROW(creg185!$S$2)+1),COUNTIF($A$17:$A17,$A17))),"")} -> CENIT TRANSPORTEYLOGÍSTICA DE HIDROCARBUROS S.A.S
A18: 46271 | B18: {=IFERROR(INDEX(creg185!$B$2:$B$13583,SMALL(IF((creg185!$T$2:$T$13583="MENOR")*(creg185!$A$2:$A$13583=$A18),ROW(creg185!$S$2:$S$13583)-ROW(creg185!$S$2)+1),COUNTIF($A$17:$A18,$A18))),"")} -> GASES DEL CARIBE
A19: 46271 | B19: {=IFERROR(INDEX(creg185!$B$2:$B$13583,SMALL(IF((creg185!$T$2:$T$13583="MENOR")*(creg185!$A$2:$A$13583=$A19),ROW(creg185!$S$2:$S$13583)-ROW(creg185!$S$2)+1),COUNTIF($A$17:$A19,$A19))),"")} -> KRONOS ENERGY S.A.S E.S.P
A20: 46271 | B20: {=IFERROR(INDEX(creg185!$B$2:$B$13583,SMALL(IF((creg185!$T$2:$T$13583="MENOR")*(creg185!$A$2:$A$13583=$A20),ROW(creg185!$S$2:$S$13583)-ROW(creg185!$S$2)+1),COUNTIF($A$17:$A20,$A20))),"")}
A21: 46271 | B21: {=IFERROR(INDEX(creg185!$B$2:$B$13583,SMALL(IF((creg185!$T$2:$T$13583="MENOR")*(creg185!$A$2:$A$13583=$A21),ROW(creg185!$S$2:$S$13583)-ROW(creg185!$S$2)+1),COUNTIF($A$17:$A21,$A21))),"")}
A22: 46271 | B22: {=IFERROR(INDEX(creg185!$B$2:$B$13583,SMALL(IF((creg185!$T$2:$T$13583="MENOR")*(creg185!$A$2:$A$13583=$A22),ROW(creg185!$S$2:$S$13583)-ROW(creg185!$S$2)+1),COUNTIF($A$17:$A22,$A22))),"")}
A23: 46271 | B23: {=IFERROR(INDEX(creg185!$B$2:$B$13583,SMALL(IF((creg185!$T$2:$T$13583="MENOR")*(creg185!$A$2:$A$13583=$A23),ROW(creg185!$S$2:$S$13583)-ROW(creg185!$S$2)+1),COUNTIF($A$17:$A23,$A23))),"")}

Sheet 7
A1: REMITENTES CON SALDOS MAYORES DEL +5%
A2: Fecha | B2: Remitente
A3: 46274 | B3: {=IFERROR(INDEX(creg185!$B$2:$B$13583,SMALL(IF((creg185!$S$2:$S$13583="MAYOR")*(creg185!$A$2:$A$13583=$A3),ROW(creg185!$S$2:$S$13583)-ROW(creg185!$S$2)+1),COUNTIF($A$3:$A3,$A3))),"")} -> CENIT TRANSPORTEYLOGÍSTICA DE HIDROCARBUROS S.A.S
A4: 46274 | B4: {=IFERROR(INDEX(creg185!$B$2:$B$13583,SMALL(IF((creg185!$S$2:$S$13583="MAYOR")*(creg185!$A$2:$A$13583=$A4),ROW(creg185!$S$2:$S$13583)-ROW(creg185!$S$2)+1),COUNTIF($A$3:$A4,$A4))),"")} -> METROGAS DE COLOMBIA S.A. E.S.P.
A5: 46274 | B5: {=IFERROR(INDEX(creg185!$B$2:$B$13583,SMALL(IF((creg185!$S$2:$S$13583="MAYOR")*(creg185!$A$2:$A$13583=$A5),ROW(creg185!$S$2:$S$13583)-ROW(creg185!$S$2)+1),COUNTIF($A$3:$A5,$A5))),"")}
A6: 46274 | B6: {=IFERROR(INDEX(creg185!$B$2:$B$13583,SMALL(IF((creg185!$S$2:$S$13583="MAYOR")*(creg185!$A$2:$A$13583=$A6),ROW(creg185!$S$2:$S$13583)-ROW(creg185!$S$2)+1),COUNTIF($A$3:$A6,$A6))),"")}
A7: 46274 | B7: {=IFERROR(INDEX(creg185!$B$2:$B$13583,SMALL(IF((creg185!$S$2:$S$13583="MAYOR")*(creg185!$A$2:$A$13583=$A7),ROW(creg185!$S$2:$S$13583)-ROW(creg185!$S$2)+1),COUNTIF($A$3:$A7,$A7))),"")}
A8: 46274 | B8: {=IFERROR(INDEX(creg185!$B$2:$B$13583,SMALL(IF((creg185!$S$2:$S$13583="MAYOR")*(creg185!$A$2:$A$13583=$A8),ROW(creg185!$S$2:$S$13583)-ROW(creg185!$S$2)+1),COUNTIF($A$3:$A8,$A8))),"")}
A9: 46274 | B9: {=IFERROR(INDEX(creg185!$B$2:$B$13583,SMALL(IF((creg185!$S$2:$S$13583="MAYOR")*(creg185!$A$2:$A$13583=$A9),ROW(creg185!$S$2:$S$13583)-ROW(creg185!$S$2)+1),COUNTIF($A$3:$A9,$A9))),"")}
A10: 46274 | B10: {=IFERROR(INDEX(creg185!$B$2:$B$13583,SMALL(IF((creg185!$S$2:$S$13583="MAYOR")*(creg185!$A$2:$A$13583=$A10),ROW(creg185!$S$2:$S$13583)-ROW(creg185!$S$2)+1),COUNTIF($A$3:$A10,$A10))),"")}
A11: 46274 | B11: {=IFERROR(INDEX(creg185!$B$2:$B$13583,SMALL(IF((creg185!$S$2:$S$13583="MAYOR")*(creg185!$A$2:$A$13583=$A11),ROW(creg185!$S$2:$S$13583)-ROW(creg185!$S$2)+1),COUNTIF($A$3:$A11,$A11))),"")}
A12: 46274 | B12: {=IFERROR(INDEX(creg185!$B$2:$B$13583,SMALL(IF((creg185!$S$2:$S$13583="MAYOR")*(creg185!$A$2:$A$13583=$A12),ROW(creg185!$S$2:$S$13583)-ROW(creg185!$S$2)+1),COUNTIF($A$3:$A12,$A12))),"")}
A15: REMITENTES CON SALDOS MENORES DEL -5%
A16: Fecha | B16: Remitente
A17: 46274 | B17: {=IFERROR(INDEX(creg185!$B$2:$B$13583,SMALL(IF((creg185!$T$2:$T$13583="MENOR")*(creg185!$A$2:$A$13583=$A17),ROW(creg185!$S$2:$S$13583)-ROW(creg185!$S$2)+1),COUNTIF($A$17:$A17,$A17))),"")} -> ENEL COLOMBIA S.A. E.S.P
A18: 46274 | B18: {=IFERROR(INDEX(creg185!$B$2:$B$13583,SMALL(IF((creg185!$T$2:$T$13583="MENOR")*(creg185!$A$2:$A$13583=$A18),ROW(creg185!$S$2:$S$13583)-ROW(creg185!$S$2)+1),COUNTIF($A$17:$A18,$A18))),"")} -> ORGANIZACION TERPEL S.A.
A19: 46274 | B19: {=IFERROR(INDEX(creg185!$B$2:$B$13583,SMALL(IF((creg185!$T$2:$T$13583="MENOR")*(creg185!$A$2:$A$13583=$A19),ROW(creg185!$S$2:$S$13583)-ROW(creg185!$S$2)+1),COUNTIF($A$17:$A19,$A19))),"")} -> PERENCO COLOMBIA LTD.
A20: 46274 | B20: {=IFERROR(INDEX(creg185!$B$2:$B$13583,SMALL(IF((creg185!$T$2:$T$13583="MENOR")*(creg185!$A$2:$A$13583=$A20),ROW(creg185!$S$2:$S$13583)-ROW(creg185!$S$2)+1),COUNTIF($A$17:$A20,$A20))),"")}
A21: 46274 | B21: {=IFERROR(INDEX(creg185!$B$2:$B$13583,SMALL(IF((creg185!$T$2:$T$13583="MENOR")*(creg185!$A$2:$A$13583=$A21),ROW(creg185!$S$2:$S$13583)-ROW(creg185!$S$2)+1),COUNTIF($A$17:$A21,$A21))),"")}
A22: 46274 | B22: {=IFERROR(INDEX(creg185!$B$2:$B$13583,SMALL(IF((creg185!$T$2:$T$13583="MENOR")*(creg185!$A$2:$A$13583=$A22),ROW(creg185!$S$2:$S$13583)-ROW(creg185!$S$2)+1),COUNTIF($A$17:$A22,$A22))),"")}
A23: 46274 | B23: {=IFERROR(INDEX(creg185!$B$2:$B$13583,SMALL(IF((creg185!$T$2:$T$13583="MENOR")*(creg185!$A$2:$A$13583=$A23),ROW(creg185!$S$2:$S$13583)-ROW(creg185!$S$2)+1),COUNTIF($A$17:$A23,$A23))),"")}

Sheet 8
A1: REMITENTES CON SALDOS MAYORES DEL +5%
A2: Fecha | B2: Remitente
A3: 46274 | B3: {=IFERROR(INDEX(creg185!$B$2:$B$13583,SMALL(IF((creg185!$S$2:$S$13583="MAYOR")*(creg185!$A$2:$A$13583=$A3),ROW(creg185!$S$2:$S$13583)-ROW(creg185!$S$2)+1),COUNTIF($A$3:$A3,$A3))),"")} -> CENIT TRANSPORTEYLOGÍSTICA DE HIDROCARBUROS S.A.S
A4: 46274 | B4: {=IFERROR(INDEX(creg185!$B$2:$B$13583,SMALL(IF((creg185!$S$2:$S$13583="MAYOR")*(creg185!$A$2:$A$13583=$A4),ROW(creg185!$S$2:$S$13583)-ROW(creg185!$S$2)+1),COUNTIF($A$3:$A4,$A4))),"")} -> METROGAS DE COLOMBIA S.A. E.S.P.
A5: 46274 | B5: {=IFERROR(INDEX(creg185!$B$2:$B$13583,SMALL(IF((creg185!$S$2:$S$13583="MAYOR")*(creg185!$A$2:$A$13583=$A5),ROW(creg185!$S$2:$S$13583)-ROW(creg185!$S$2)+1),COUNTIF($A$3:$A5,$A5))),"")}
A6: 46274 | B6: {=IFERROR(INDEX(creg185!$B$2:$B$13583,SMALL(IF((creg185!$S$2:$S$13583="MAYOR")*(creg185!$A$2:$A$13583=$A6),ROW(creg185!$S$2:$S$13583)-ROW(creg185!$S$2)+1),COUNTIF($A$3:$A6,$A6))),"")}
A7: 46274 | B7: {=IFERROR(INDEX(creg185!$B$2:$B$13583,SMALL(IF((creg185!$S$2:$S$13583="MAYOR")*(creg185!$A$2:$A$13583=$A7),ROW(creg185!$S$2:$S$13583)-ROW(creg185!$S$2)+1),COUNTIF($A$3:$A7,$A7))),"")}
A8: 46274 | B8: {=IFERROR(INDEX(creg185!$B$2:$B$13583,SMALL(IF((creg185!$S$2:$S$13583="MAYOR")*(creg185!$A$2:$A$13583=$A8),ROW(creg185!$S$2:$S$13583)-ROW(creg185!$S$2)+1),COUNTIF($A$3:$A8,$A8))),"")}
A9: 46274 | B9: {=IFERROR(INDEX(creg185!$B$2:$B$13583,SMALL(IF((creg185!$S$2:$S$13583="MAYOR")*(creg185!$A$2:$A$13583=$A9),ROW(creg185!$S$2:$S$13583)-ROW(creg185!$S$2)+1),COUNTIF($A$3:$A9,$A9))),"")}
A10: 46274 | B10: {=IFERROR(INDEX(creg185!$B$2:$B$13583,SMALL(IF((creg185!$S$2:$S$13583="MAYOR")*(creg185!$A$2:$A$13583=$A10),ROW(creg185!$S$2:$S$13583)-ROW(creg185!$S$2)+1),COUNTIF($A$3:$A10,$A10))),"")}
A11: 46274 | B11: {=IFERROR(INDEX(creg185!$B$2:$B$13583,SMALL(IF((creg185!$S$2:$S$13583="MAYOR")*(creg185!$A$2:$A$13583=$A11),ROW(creg185!$S$2:$S$13583)-ROW(creg185!$S$2)+1),COUNTIF($A$3:$A11,$A11))),"")}
A12: 46274 | B12: {=IFERROR(INDEX(creg185!$B$2:$B$13583,SMALL(IF((creg185!$S$2:$S$13583="MAYOR")*(creg185!$A$2:$A$13583=$A12),ROW(creg185!$S$2:$S$13583)-ROW(creg185!$S$2)+1),COUNTIF($A$3:$A12,$A12))),"")}
A15: REMITENTES CON SALDOS MENORES DEL -5%
A16: Fecha | B16: Remitente
A17: 46274 | B17: {=IFERROR(INDEX(creg185!$B$2:$B$13583,SMALL(IF((creg185!$T$2:$T$13583="MENOR")*(creg185!$A$2:$A$13583=$A17),ROW(creg185!$S$2:$S$13583)-ROW(creg185!$S$2)+1),COUNTIF($A$17:$A17,$A17))),"")} -> ENEL COLOMBIA S.A. E.S.P
A18: 46274 | B18: {=IFERROR(INDEX(creg185!$B$2:$B$13583,SMALL(IF((creg185!$T$2:$T$13583="MENOR")*(creg185!$A$2:$A$13583=$A18),ROW(creg185!$S$2:$S$13583)-ROW(creg185!$S$2)+1),COUNTIF($A$17:$A18,$A18))),"")} -> ORGANIZACION TERPEL S.A.
A19: 46274 | B19: {=IFERROR(INDEX(creg185!$B$2:$B$13583,SMALL(IF((creg185!$T$2:$T$13583="MENOR")*(creg185!$A$2:$A$13583=$A19),ROW(creg185!$S$2:$S$13583)-ROW(creg185!$S$2)+1),COUNTIF($A$17:$A19,$A19))),"")} -> PERENCO COLOMBIA LTD.
A20: 46274 | B20: {=IFERROR(INDEX(creg185!$B$2:$B$13583,SMALL(IF((creg185!$T$2:$T$13583="MENOR")*(creg185!$A$2:$A$13583=$A20),ROW(creg185!$S$2:$S$13583)-ROW(creg185!$S$2)+1),COUNTIF($A$17:$A20,$A20))),"")}
A21: 46274 | B21: {=IFERROR(INDEX(creg185!$B$2:$B$13583,SMALL(IF((creg185!$T$2:$T$13583="MENOR")*(creg185!$A$2:$A$13583=$A21),ROW(creg185!$S$2:$S$13583)-ROW(creg185!$S$2)+1),COUNTIF($A$17:$A21,$A21))),"")}
A22: 46274 | B22: {=IFERROR(INDEX(creg185!$B$2:$B$13583,SMALL(IF((creg185!$T$2:$T$13583="MENOR")*(creg185!$A$2:$A$13583=$A22),ROW(creg185!$S$2:$S$13583)-ROW(creg185!$S$2)+1),COUNTIF($A$17:$A22,$A22))),"")}
A23: 46274 | B23: {=IFERROR(INDEX(creg185!$B$2:$B$13583,SMALL(IF((creg185!$T$2:$T$13583="MENOR")*(creg185!$A$2:$A$13583=$A23),ROW(creg185!$S$2:$S$13583)-ROW(creg185!$S$2)+1),COUNTIF($A$17:$A23,$A23))),"")}

Sheet 9
A1: REMITENTES CON SALDOS MAYORES DEL +5%
A2: Fecha | B2: Remitente
A3: 46274 | B3: {=IFERROR(INDEX(creg185!$B$2:$B$13583,SMALL(IF((creg185!$S$2:$S$13583="MAYOR")*(creg185!$A$2:$A$13583=$A3),ROW(creg185!$S$2:$S$13583)-ROW(creg185!$S$2)+1),COUNTIF($A$3:$A3,$A3))),"")} -> CENIT TRANSPORTEYLOGÍSTICA DE HIDROCARBUROS S.A.S
A4: 46274 | B4: {=IFERROR(INDEX(creg185!$B$2:$B$13583,SMALL(IF((creg185!$S$2:$S$13583="MAYOR")*(creg185!$A$2:$A$13583=$A4),ROW(creg185!$S$2:$S$13583)-ROW(creg185!$S$2)+1),COUNTIF($A$3:$A4,$A4))),"")} -> METROGAS DE COLOMBIA S.A. E.S.P.
A5: 46274 | B5: {=IFERROR(INDEX(creg185!$B$2:$B$13583,SMALL(IF((creg185!$S$2:$S$13583="MAYOR")*(creg185!$A$2:$A$13583=$A5),ROW(creg185!$S$2:$S$13583)-ROW(creg185!$S$2)+1),COUNTIF($A$3:$A5,$A5))),"")}
A6: 46274 | B6: {=IFERROR(INDEX(creg185!$B$2:$B$13583,SMALL(IF((creg185!$S$2:$S$13583="MAYOR")*(creg185!$A$2:$A$13583=$A6),ROW(creg185!$S$2:$S$13583)-ROW(creg185!$S$2)+1),COUNTIF($A$3:$A6,$A6))),"")}
A7: 46274 | B7: {=IFERROR(INDEX(creg185!$B$2:$B$13583,SMALL(IF((creg185!$S$2:$S$13583="MAYOR")*(creg185!$A$2:$A$13583=$A7),ROW(creg185!$S$2:$S$13583)-ROW(creg185!$S$2)+1),COUNTIF($A$3:$A7,$A7))),"")}
A8: 46274 | B8: {=IFERROR(INDEX(creg185!$B$2:$B$13583,SMALL(IF((creg185!$S$2:$S$13583="MAYOR")*(creg185!$A$2:$A$13583=$A8),ROW(creg185!$S$2:$S$13583)-ROW(creg185!$S$2)+1),COUNTIF($A$3:$A8,$A8))),"")}
A9: 46274 | B9: {=IFERROR(INDEX(creg185!$B$2:$B$13583,SMALL(IF((creg185!$S$2:$S$13583="MAYOR")*(creg185!$A$2:$A$13583=$A9),ROW(creg185!$S$2:$S$13583)-ROW(creg185!$S$2)+1),COUNTIF($A$3:$A9,$A9))),"")}
A10: 46274 | B10: {=IFERROR(INDEX(creg185!$B$2:$B$13583,SMALL(IF((creg185!$S$2:$S$13583="MAYOR")*(creg185!$A$2:$A$13583=$A10),ROW(creg185!$S$2:$S$13583)-ROW(creg185!$S$2)+1),COUNTIF($A$3:$A10,$A10))),"")}
A11: 46274 | B11: {=IFERROR(INDEX(creg185!$B$2:$B$13583,SMALL(IF((creg185!$S$2:$S$13583="MAYOR")*(creg185!$A$2:$A$13583=$A11),ROW(creg185!$S$2:$S$13583)-ROW(creg185!$S$2)+1),COUNTIF($A$3:$A11,$A11))),"")}
A12: 46274 | B12: {=IFERROR(INDEX(creg185!$B$2:$B$13583,SMALL(IF((creg185!$S$2:$S$13583="MAYOR")*(creg185!$A$2:$A$13583=$A12),ROW(creg185!$S$2:$S$13583)-ROW(creg185!$S$2)+1),COUNTIF($A$3:$A12,$A12))),"")}
A15: REMITENTES CON SALDOS MENORES DEL -5%
A16: Fecha | B16: Remitente
A17: 46274 | B17: {=IFERROR(INDEX(creg185!$B$2:$B$13583,SMALL(IF((creg185!$T$2:$T$13583="MENOR")*(creg185!$A$2:$A$13583=$A17),ROW(creg185!$S$2:$S$13583)-ROW(creg185!$S$2)+1),COUNTIF($A$17:$A17,$A17))),"")} -> ENEL COLOMBIA S.A. E.S.P
A18: 46274 | B18: {=IFERROR(INDEX(creg185!$B$2:$B$13583,SMALL(IF((creg185!$T$2:$T$13583="MENOR")*(creg185!$A$2:$A$13583=$A18),ROW(creg185!$S$2:$S$13583)-ROW(creg185!$S$2)+1),COUNTIF($A$17:$A18,$A18))),"")} -> ORGANIZACION TERPEL S.A.
A19: 46274 | B19: {=IFERROR(INDEX(creg185!$B$2:$B$13583,SMALL(IF((creg185!$T$2:$T$13583="MENOR")*(creg185!$A$2:$A$13583=$A19),ROW(creg185!$S$2:$S$13583)-ROW(creg185!$S$2)+1),COUNTIF($A$17:$A19,$A19))),"")} -> PERENCO COLOMBIA LTD.
A20: 46274 | B20: {=IFERROR(INDEX(creg185!$B$2:$B$13583,SMALL(IF((creg185!$T$2:$T$13583="MENOR")*(creg185!$A$2:$A$13583=$A20),ROW(creg185!$S$2:$S$13583)-ROW(creg185!$S$2)+1),COUNTIF($A$17:$A20,$A20))),"")}
A21: 46274 | B21: {=IFERROR(INDEX(creg185!$B$2:$B$13583,SMALL(IF((creg185!$T$2:$T$13583="MENOR")*(creg185!$A$2:$A$13583=$A21),ROW(creg185!$S$2:$S$13583)-ROW(creg185!$S$2)+1),COUNTIF($A$17:$A21,$A21))),"")}
A22: 46274 | B22: {=IFERROR(INDEX(creg185!$B$2:$B$13583,SMALL(IF((creg185!$T$2:$T$13583="MENOR")*(creg185!$A$2:$A$13583=$A22),ROW(creg185!$S$2:$S$13583)-ROW(creg185!$S$2)+1),COUNTIF($A$17:$A22,$A22))),"")}
A23: 46274 | B23: {=IFERROR(INDEX(creg185!$B$2:$B$13583,SMALL(IF((creg185!$T$2:$T$13583="MENOR")*(creg185!$A$2:$A$13583=$A23),ROW(creg185!$S$2:$S$13583)-ROW(creg185!$S$2)+1),COUNTIF($A$17:$A23,$A23))),"")}

Sheet 10
A1: REMITENTES CON SALDOS MAYORES DEL +5%
A2: Fecha | B2: Remitente
A3: 46275 | B3: {=IFERROR(INDEX(creg185!$B$2:$B$13583,SMALL(IF((creg185!$S$2:$S$13583="MAYOR")*(creg185!$A$2:$A$13583=$A3),ROW(creg185!$S$2:$S$13583)-ROW(creg185!$S$2)+1),COUNTIF($A$3:$A3,$A3))),"")} -> CENIT TRANSPORTEYLOGÍSTICA DE HIDROCARBUROS S.A.S
A4: 46275 | B4: {=IFERROR(INDEX(creg185!$B$2:$B$13583,SMALL(IF((creg185!$S$2:$S$13583="MAYOR")*(creg185!$A$2:$A$13583=$A4),ROW(creg185!$S$2:$S$13583)-ROW(creg185!$S$2)+1),COUNTIF($A$3:$A4,$A4))),"")} -> METROGAS DE COLOMBIA S.A. E.S.P.
A5: 46275 | B5: {=IFERROR(INDEX(creg185!$B$2:$B$13583,SMALL(IF((creg185!$S$2:$S$13583="MAYOR")*(creg185!$A$2:$A$13583=$A5),ROW(creg185!$S$2:$S$13583)-ROW(creg185!$S$2)+1),COUNTIF($A$3:$A5,$A5))),"")}
A6: 46275 | B6: {=IFERROR(INDEX(creg185!$B$2:$B$13583,SMALL(IF((creg185!$S$2:$S$13583="MAYOR")*(creg185!$A$2:$A$13583=$A6),ROW(creg185!$S$2:$S$13583)-ROW(creg185!$S$2)+1),COUNTIF($A$3:$A6,$A6))),"")}
A7: 46275 | B7: {=IFERROR(INDEX(creg185!$B$2:$B$13583,SMALL(IF((creg185!$S$2:$S$13583="MAYOR")*(creg185!$A$2:$A$13583=$A7),ROW(creg185!$S$2:$S$13583)-ROW(creg185!$S$2)+1),COUNTIF($A$3:$A7,$A7))),"")}
A8: 46275 | B8: {=IFERROR(INDEX(creg185!$B$2:$B$13583,SMALL(IF((creg185!$S$2:$S$13583="MAYOR")*(creg185!$A$2:$A$13583=$A8),ROW(creg185!$S$2:$S$13583)-ROW(creg185!$S$2)+1),COUNTIF($A$3:$A8,$A8))),"")}
A9: 46275 | B9: {=IFERROR(INDEX(creg185!$B$2:$B$13583,SMALL(IF((creg185!$S$2:$S$13583="MAYOR")*(creg185!$A$2:$A$13583=$A9),ROW(creg185!$S$2:$S$13583)-ROW(creg185!$S$2)+1),COUNTIF($A$3:$A9,$A9))),"")}
A10: 46275 | B10: {=IFERROR(INDEX(creg185!$B$2:$B$13583,SMALL(IF((creg185!$S$2:$S$13583="MAYOR")*(creg185!$A$2:$A$13583=$A10),ROW(creg185!$S$2:$S$13583)-ROW(creg185!$S$2)+1),COUNTIF($A$3:$A10,$A10))),"")}
A11: 46275 | B11: {=IFERROR(INDEX(creg185!$B$2:$B$13583,SMALL(IF((creg185!$S$2:$S$13583="MAYOR")*(creg185!$A$2:$A$13583=$A11),ROW(creg185!$S$2:$S$13583)-ROW(creg185!$S$2)+1),COUNTIF($A$3:$A11,$A11))),"")}
A12: 46275 | B12: {=IFERROR(INDEX(creg185!$B$2:$B$13583,SMALL(IF((creg185!$S$2:$S$13583="MAYOR")*(creg185!$A$2:$A$13583=$A12),ROW(creg185!$S$2:$S$13583)-ROW(creg185!$S$2)+1),COUNTIF($A$3:$A12,$A12))),"")}
A15: REMITENTES CON SALDOS MENORES DEL -5%
A16: Fecha | B16: Remitente
A17: 46275 | B17: {=IFERROR(INDEX(creg185!$B$2:$B$13583,SMALL(IF((creg185!$T$2:$T$13583="MENOR")*(creg185!$A$2:$A$13583=$A17),ROW(creg185!$S$2:$S$13583)-ROW(creg185!$S$2)+1),COUNTIF($A$17:$A17,$A17))),"")} -> ENEL COLOMBIA S.A. E.S.P
A18: 46275 | B18: {=IFERROR(INDEX(creg185!$B$2:$B$13583,SMALL(IF((creg185!$T$2:$T$13583="MENOR")*(creg185!$A$2:$A$13583=$A18),ROW(creg185!$S$2:$S$13583)-ROW(creg185!$S$2)+1),COUNTIF($A$17:$A18,$A18))),"")} -> KRONOS ENERGY S.A.S E.S.P
A19: 46275 | B19: {=IFERROR(INDEX(creg185!$B$2:$B$13583,SMALL(IF((creg185!$T$2:$T$13583="MENOR")*(creg185!$A$2:$A$13583=$A19),ROW(creg185!$S$2:$S$13583)-ROW(creg185!$S$2)+1),COUNTIF($A$17:$A19,$A19))),"")} -> ORGANIZACION TERPEL S.A.
A20: 46275 | B20: {=IFERROR(INDEX(creg185!$B$2:$B$13583,SMALL(IF((creg185!$T$2:$T$13583="MENOR")*(creg185!$A$2:$A$13583=$A20),ROW(creg185!$S$2:$S$13583)-ROW(creg185!$S$2)+1),COUNTIF($A$17:$A20,$A20))),"")}
A21: 46275 | B21: {=IFERROR(INDEX(creg185!$B$2:$B$13583,SMALL(IF((creg185!$T$2:$T$13583="MENOR")*(creg185!$A$2:$A$13583=$A21),ROW(creg185!$S$2:$S$13583)-ROW(creg185!$S$2)+1),COUNTIF($A$17:$A21,$A21))),"")}
A22: 46275 | B22: {=IFERROR(INDEX(creg185!$B$2:$B$13583,SMALL(IF((creg185!$T$2:$T$13583="MENOR")*(creg185!$A$2:$A$13583=$A22),ROW(creg185!$S$2:$S$13583)-ROW(creg185!$S$2)+1),COUNTIF($A$17:$A22,$A22))),"")}
A23: 46275 | B23: {=IFERROR(INDEX(creg185!$B$2:$B$13583,SMALL(IF((creg185!$T$2:$T$13583="MENOR")*(creg185!$A$2:$A$13583=$A23),ROW(creg185!$S$2:$S$13583)-ROW(creg185!$S$2)+1),COUNTIF($A$17:$A23,$A23))),"")}

Sheet 11
A1: REMITENTES CON SALDOS MAYORES DEL +5%
A2: Fecha | B2: Remitente
A3: 46276 | B3: {=IFERROR(INDEX(creg185!$B$2:$B$13583,SMALL(IF((creg185!$S$2:$S$13583="MAYOR")*(creg185!$A$2:$A$13583=$A3),ROW(creg185!$S$2:$S$13583)-ROW(creg185!$S$2)+1),COUNTIF($A$3:$A3,$A3))),"")} -> METROGAS DE COLOMBIA S.A. E.S.P.
A4: 46276 | B4: {=IFERROR(INDEX(creg185!$B$2:$B$13583,SMALL(IF((creg185!$S$2:$S$13583="MAYOR")*(creg185!$A$2:$A$13583=$A4),ROW(creg185!$S$2:$S$13583)-ROW(creg185!$S$2)+1),COUNTIF($A$3:$A4,$A4))),"")} -> VANTI SA ESP
A5: 46276 | B5: {=IFERROR(INDEX(creg185!$B$2:$B$13583,SMALL(IF((creg185!$S$2:$S$13583="MAYOR")*(creg185!$A$2:$A$13583=$A5),ROW(creg185!$S$2:$S$13583)-ROW(creg185!$S$2)+1),COUNTIF($A$3:$A5,$A5))),"")}
A6: 46276 | B6: {=IFERROR(INDEX(creg185!$B$2:$B$13583,SMALL(IF((creg185!$S$2:$S$13583="MAYOR")*(creg185!$A$2:$A$13583=$A6),ROW(creg185!$S$2:$S$13583)-ROW(creg185!$S$2)+1),COUNTIF($A$3:$A6,$A6))),"")}
A7: 46276 | B7: {=IFERROR(INDEX(creg185!$B$2:$B$13583,SMALL(IF((creg185!$S$2:$S$13583="MAYOR")*(creg185!$A$2:$A$13583=$A7),ROW(creg185!$S$2:$S$13583)-ROW(creg185!$S$2)+1),COUNTIF($A$3:$A7,$A7))),"")}
A8: 46276 | B8: {=IFERROR(INDEX(creg185!$B$2:$B$13583,SMALL(IF((creg185!$S$2:$S$13583="MAYOR")*(creg185!$A$2:$A$13583=$A8),ROW(creg185!$S$2:$S$13583)-ROW(creg185!$S$2)+1),COUNTIF($A$3:$A8,$A8))),"")}
A9: 46276 | B9: {=IFERROR(INDEX(creg185!$B$2:$B$13583,SMALL(IF((creg185!$S$2:$S$13583="MAYOR")*(creg185!$A$2:$A$13583=$A9),ROW(creg185!$S$2:$S$13583)-ROW(creg185!$S$2)+1),COUNTIF($A$3:$A9,$A9))),"")}
A10: 46276 | B10: {=IFERROR(INDEX(creg185!$B$2:$B$13583,SMALL(IF((creg185!$S$2:$S$13583="MAYOR")*(creg185!$A$2:$A$13583=$A10),ROW(creg185!$S$2:$S$13583)-ROW(creg185!$S$2)+1),COUNTIF($A$3:$A10,$A10))),"")}
A11: 46276 | B11: {=IFERROR(INDEX(creg185!$B$2:$B$13583,SMALL(IF((creg185!$S$2:$S$13583="MAYOR")*(creg185!$A$2:$A$13583=$A11),ROW(creg185!$S$2:$S$13583)-ROW(creg185!$S$2)+1),COUNTIF($A$3:$A11,$A11))),"")}
A12: 46276 | B12: {=IFERROR(INDEX(creg185!$B$2:$B$13583,SMALL(IF((creg185!$S$2:$S$13583="MAYOR")*(creg185!$A$2:$A$13583=$A12),ROW(creg185!$S$2:$S$13583)-ROW(creg185!$S$2)+1),COUNTIF($A$3:$A12,$A12))),"")}
A15: REMITENTES CON SALDOS MENORES DEL -5%
A16: Fecha | B16: Remitente
A17: 46276 | B17: {=IFERROR(INDEX(creg185!$B$2:$B$13583,SMALL(IF((creg185!$T$2:$T$13583="MENOR")*(creg185!$A$2:$A$13583=$A17),ROW(creg185!$S$2:$S$13583)-ROW(creg185!$S$2)+1),COUNTIF($A$17:$A17,$A17))),"")} -> GASES DEL CARIBE
A18: 46276 | B18: {=IFERROR(INDEX(creg185!$B$2:$B$13583,SMALL(IF((creg185!$T$2:$T$13583="MENOR")*(creg185!$A$2:$A$13583=$A18),ROW(creg185!$S$2:$S$13583)-ROW(creg185!$S$2)+1),COUNTIF($A$17:$A18,$A18))),"")} -> KRONOS ENERGY S.A.S E.S.P
A19: 46276 | B19: {=IFERROR(INDEX(creg185!$B$2:$B$13583,SMALL(IF((creg185!$T$2:$T$13583="MENOR")*(creg185!$A$2:$A$13583=$A19),ROW(creg185!$S$2:$S$13583)-ROW(creg185!$S$2)+1),COUNTIF($A$17:$A19,$A19))),"")} -> ORGANIZACION TERPEL S.A.
A20: 46276 | B20: {=IFERROR(INDEX(creg185!$B$2:$B$13583,SMALL(IF((creg185!$T$2:$T$13583="MENOR")*(creg185!$A$2:$A$13583=$A20),ROW(creg185!$S$2:$S$13583)-ROW(creg185!$S$2)+1),COUNTIF($A$17:$A20,$A20))),"")}
A21: 46276 | B21: {=IFERROR(INDEX(creg185!$B$2:$B$13583,SMALL(IF((creg185!$T$2:$T$13583="MENOR")*(creg185!$A$2:$A$13583=$A21),ROW(creg185!$S$2:$S$13583)-ROW(creg185!$S$2)+1),COUNTIF($A$17:$A21,$A21))),"")}
A22: 46276 | B22: {=IFERROR(INDEX(creg185!$B$2:$B$13583,SMALL(IF((creg185!$T$2:$T$13583="MENOR")*(creg185!$A$2:$A$13583=$A22),ROW(creg185!$S$2:$S$13583)-ROW(creg185!$S$2)+1),COUNTIF($A$17:$A22,$A22))),"")}
A23: 46276 | B23: {=IFERROR(INDEX(creg185!$B$2:$B$13583,SMALL(IF((creg185!$T$2:$T$13583="MENOR")*(creg185!$A$2:$A$13583=$A23),ROW(creg185!$S$2:$S$13583)-ROW(creg185!$S$2)+1),COUNTIF($A$17:$A23,$A23))),"")}

Sheet 12
A1: REMITENTES CON SALDOS MAYORES DEL +5%
A2: Fecha | B2: Remitente
A3: 46277 | B3: {=IFERROR(INDEX(creg185!$B$2:$B$13583,SMALL(IF((creg185!$S$2:$S$13583="MAYOR")*(creg185!$A$2:$A$13583=$A3),ROW(creg185!$S$2:$S$13583)-ROW(creg185!$S$2)+1),COUNTIF($A$3:$A3,$A3))),"")} -> ENEL COLOMBIA S.A. E.S.P
A4: 46277 | B4: {=IFERROR(INDEX(creg185!$B$2:$B$13583,SMALL(IF((creg185!$S$2:$S$13583="MAYOR")*(creg185!$A$2:$A$13583=$A4),ROW(creg185!$S$2:$S$13583)-ROW(creg185!$S$2)+1),COUNTIF($A$3:$A4,$A4))),"")} -> METROGAS DE COLOMBIA S.A. E.S.P.
A5: 46277 | B5: {=IFERROR(INDEX(creg185!$B$2:$B$13583,SMALL(IF((creg185!$S$2:$S$13583="MAYOR")*(creg185!$A$2:$A$13583=$A5),ROW(creg185!$S$2:$S$13583)-ROW(creg185!$S$2)+1),COUNTIF($A$3:$A5,$A5))),"")} -> PERENCO COLOMBIA LTD.
A6: 46277 | B6: {=IFERROR(INDEX(creg185!$B$2:$B$13583,SMALL(IF((creg185!$S$2:$S$13583="MAYOR")*(creg185!$A$2:$A$13583=$A6),ROW(creg185!$S$2:$S$13583)-ROW(creg185!$S$2)+1),COUNTIF($A$3:$A6,$A6))),"")} -> VANTI SA ESP
A7: 46277 | B7: {=IFERROR(INDEX(creg185!$B$2:$B$13583,SMALL(IF((creg185!$S$2:$S$13583="MAYOR")*(creg185!$A$2:$A$13583=$A7),ROW(creg185!$S$2:$S$13583)-ROW(creg185!$S$2)+1),COUNTIF($A$3:$A7,$A7))),"")}
A8: 46277 | B8: {=IFERROR(INDEX(creg185!$B$2:$B$13583,SMALL(IF((creg185!$S$2:$S$13583="MAYOR")*(creg185!$A$2:$A$13583=$A8),ROW(creg185!$S$2:$S$13583)-ROW(creg185!$S$2)+1),COUNTIF($A$3:$A8,$A8))),"")}
A9: 46277 | B9: {=IFERROR(INDEX(creg185!$B$2:$B$13583,SMALL(IF((creg185!$S$2:$S$13583="MAYOR")*(creg185!$A$2:$A$13583=$A9),ROW(creg185!$S$2:$S$13583)-ROW(creg185!$S$2)+1),COUNTIF($A$3:$A9,$A9))),"")}
A10: 46277 | B10: {=IFERROR(INDEX(creg185!$B$2:$B$13583,SMALL(IF((creg185!$S$2:$S$13583="MAYOR")*(creg185!$A$2:$A$13583=$A10),ROW(creg185!$S$2:$S$13583)-ROW(creg185!$S$2)+1),COUNTIF($A$3:$A10,$A10))),"")}
A11: 46277 | B11: {=IFERROR(INDEX(creg185!$B$2:$B$13583,SMALL(IF((creg185!$S$2:$S$13583="MAYOR")*(creg185!$A$2:$A$13583=$A11),ROW(creg185!$S$2:$S$13583)-ROW(creg185!$S$2)+1),COUNTIF($A$3:$A11,$A11))),"")}
A12: 46277 | B12: {=IFERROR(INDEX(creg185!$B$2:$B$13583,SMALL(IF((creg185!$S$2:$S$13583="MAYOR")*(creg185!$A$2:$A$13583=$A12),ROW(creg185!$S$2:$S$13583)-ROW(creg185!$S$2)+1),COUNTIF($A$3:$A12,$A12))),"")}
A15: REMITENTES CON SALDOS MENORES DEL -5%
A16: Fecha | B16: Remitente
A17: 46277 | B17: {=IFERROR(INDEX(creg185!$B$2:$B$13583,SMALL(IF((creg185!$T$2:$T$13583="MENOR")*(creg185!$A$2:$A$13583=$A17),ROW(creg185!$S$2:$S$13583)-ROW(creg185!$S$2)+1),COUNTIF($A$17:$A17,$A17))),"")} -> KRONOS ENERGY S.A.S E.S.P
A18: 46277 | B18: {=IFERROR(INDEX(creg185!$B$2:$B$13583,SMALL(IF((creg185!$T$2:$T$13583="MENOR")*(creg185!$A$2:$A$13583=$A18),ROW(creg185!$S$2:$S$13583)-ROW(creg185!$S$2)+1),COUNTIF($A$17:$A18,$A18))),"")}
A19: 46277 | B19: {=IFERROR(INDEX(creg185!$B$2:$B$13583,SMALL(IF((creg185!$T$2:$T$13583="MENOR")*(creg185!$A$2:$A$13583=$A19),ROW(creg185!$S$2:$S$13583)-ROW(creg185!$S$2)+1),COUNTIF($A$17:$A19,$A19))),"")}
A20: 46277 | B20: {=IFERROR(INDEX(creg185!$B$2:$B$13583,SMALL(IF((creg185!$T$2:$T$13583="MENOR")*(creg185!$A$2:$A$13583=$A20),ROW(creg185!$S$2:$S$13583)-ROW(creg185!$S$2)+1),COUNTIF($A$17:$A20,$A20))),"")}
A21: 46277 | B21: {=IFERROR(INDEX(creg185!$B$2:$B$13583,SMALL(IF((creg185!$T$2:$T$13583="MENOR")*(creg185!$A$2:$A$13583=$A21),ROW(creg185!$S$2:$S$13583)-ROW(creg185!$S$2)+1),COUNTIF($A$17:$A21,$A21))),"")}
A22: 46277 | B22: {=IFERROR(INDEX(creg185!$B$2:$B$13583,SMALL(IF((creg185!$T$2:$T$13583="MENOR")*(creg185!$A$2:$A$13583=$A22),ROW(creg185!$S$2:$S$13583)-ROW(creg185!$S$2)+1),COUNTIF($A$17:$A22,$A22))),"")}
A23: 46277 | B23: {=IFERROR(INDEX(creg185!$B$2:$B$13583,SMALL(IF((creg185!$T$2:$T$13583="MENOR")*(creg185!$A$2:$A$13583=$A23),ROW(creg185!$S$2:$S$13583)-ROW(creg185!$S$2)+1),COUNTIF($A$17:$A23,$A23))),"")}

Sheet 13
A1: REMITENTES CON SALDOS MAYORES DEL +5%
A2: Fecha | B2: Remitente
A3: 46278 | B3: {=IFERROR(INDEX(creg185!$B$2:$B$13583,SMALL(IF((creg185!$S$2:$S$13583="MAYOR")*(creg185!$A$2:$A$13583=$A3),ROW(creg185!$S$2:$S$13583)-ROW(creg185!$S$2)+1),COUNTIF($A$3:$A3,$A3))),"")} -> EFIGAS GAS NATURAL S.A. E.S.P.
A4: 46278 | B4: {=IFERROR(INDEX(creg185!$B$2:$B$13583,SMALL(IF((creg185!$S$2:$S$13583="MAYOR")*(creg185!$A$2:$A$13583=$A4),ROW(creg185!$S$2:$S$13583)-ROW(creg185!$S$2)+1),COUNTIF($A$3:$A4,$A4))),"")} -> ENEL COLOMBIA S.A. E.S.P
A5: 46278 | B5: {=IFERROR(INDEX(creg185!$B$2:$B$13583,SMALL(IF((creg185!$S$2:$S$13583="MAYOR")*(creg185!$A$2:$A$13583=$A5),ROW(creg185!$S$2:$S$13583)-ROW(creg185!$S$2)+1),COUNTIF($A$3:$A5,$A5))),"")} -> METROGAS DE COLOMBIA S.A. E.S.P.
A6: 46278 | B6: {=IFERROR(INDEX(creg185!$B$2:$B$13583,SMALL(IF((creg185!$S$2:$S$13583="MAYOR")*(creg185!$A$2:$A$13583=$A6),ROW(creg185!$S$2:$S$13583)-ROW(creg185!$S$2)+1),COUNTIF($A$3:$A6,$A6))),"")} -> ORGANIZACION TERPEL S.A.
A7: 46278 | B7: {=IFERROR(INDEX(creg185!$B$2:$B$13583,SMALL(IF((creg185!$S$2:$S$13583="MAYOR")*(creg185!$A$2:$A$13583=$A7),ROW(creg185!$S$2:$S$13583)-ROW(creg185!$S$2)+1),COUNTIF($A$3:$A7,$A7))),"")} -> VANTI SA ESP
A8: 46278 | B8: {=IFERROR(INDEX(creg185!$B$2:$B$13583,SMALL(IF((creg185!$S$2:$S$13583="MAYOR")*(creg185!$A$2:$A$13583=$A8),ROW(creg185!$S$2:$S$13583)-ROW(creg185!$S$2)+1),COUNTIF($A$3:$A8,$A8))),"")}
A9: 46278 | B9: {=IFERROR(INDEX(creg185!$B$2:$B$13583,SMALL(IF((creg185!$S$2:$S$13583="MAYOR")*(creg185!$A$2:$A$13583=$A9),ROW(creg185!$S$2:$S$13583)-ROW(creg185!$S$2)+1),COUNTIF($A$3:$A9,$A9))),"")}
A10: 46278 | B10: {=IFERROR(INDEX(creg185!$B$2:$B$13583,SMALL(IF((creg185!$S$2:$S$13583="MAYOR")*(creg185!$A$2:$A$13583=$A10),ROW(creg185!$S$2:$S$13583)-ROW(creg185!$S$2)+1),COUNTIF($A$3:$A10,$A10))),"")}
A11: 46278 | B11: {=IFERROR(INDEX(creg185!$B$2:$B$13583,SMALL(IF((creg185!$S$2:$S$13583="MAYOR")*(creg185!$A$2:$A$13583=$A11),ROW(creg185!$S$2:$S$13583)-ROW(creg185!$S$2)+1),COUNTIF($A$3:$A11,$A11))),"")}
A12: 46278 | B12: {=IFERROR(INDEX(creg185!$B$2:$B$13583,SMALL(IF((creg185!$S$2:$S$13583="MAYOR")*(creg185!$A$2:$A$13583=$A12),ROW(creg185!$S$2:$S$13583)-ROW(creg185!$S$2)+1),COUNTIF($A$3:$A12,$A12))),"")}
A15: REMITENTES CON SALDOS MENORES DEL -5%
A16: Fecha | B16: Remitente
A17: 46278 | B17: {=IFERROR(INDEX(creg185!$B$2:$B$13583,SMALL(IF((creg185!$T$2:$T$13583="MENOR")*(creg185!$A$2:$A$13583=$A17),ROW(creg185!$S$2:$S$13583)-ROW(creg185!$S$2)+1),COUNTIF($A$17:$A17,$A17))),"")} -> CENIT TRANSPORTEYLOGÍSTICA DE HIDROCARBUROS S.A.S
A18: 46278 | B18: {=IFERROR(INDEX(creg185!$B$2:$B$13583,SMALL(IF((creg185!$T$2:$T$13583="MENOR")*(creg185!$A$2:$A$13583=$A18),ROW(creg185!$S$2:$S$13583)-ROW(creg185!$S$2)+1),COUNTIF($A$17:$A18,$A18))),"")} -> GASES DEL CARIBE
A19: 46278 | B19: {=IFERROR(INDEX(creg185!$B$2:$B$13583,SMALL(IF((creg185!$T$2:$T$13583="MENOR")*(creg185!$A$2:$A$13583=$A19),ROW(creg185!$S$2:$S$13583)-ROW(creg185!$S$2)+1),COUNTIF($A$17:$A19,$A19))),"")} -> KRONOS ENERGY S.A.S E.S.P
A20: 46278 | B20: {=IFERROR(INDEX(creg185!$B$2:$B$13583,SMALL(IF((creg185!$T$2:$T$13583="MENOR")*(creg185!$A$2:$A$13583=$A20),ROW(creg185!$S$2:$S$13583)-ROW(creg185!$S$2)+1),COUNTIF($A$17:$A20,$A20))),"")}
A21: 46278 | B21: {=IFERROR(INDEX(creg185!$B$2:$B$13583,SMALL(IF((creg185!$T$2:$T$13583="MENOR")*(creg185!$A$2:$A$13583=$A21),ROW(creg185!$S$2:$S$13583)-ROW(creg185!$S$2)+1),COUNTIF($A$17:$A21,$A21))),"")}
A22: 46278 | B22: {=IFERROR(INDEX(creg185!$B$2:$B$13583,SMALL(IF((creg185!$T$2:$T$13583="MENOR")*(creg185!$A$2:$A$13583=$A22),ROW(creg185!$S$2:$S$13583)-ROW(creg185!$S$2)+1),COUNTIF($A$17:$A22,$A22))),"")}
A23: 46278 | B23: {=IFERROR(INDEX(creg185!$B$2:$B$13583,SMALL(IF((creg185!$T$2:$T$13583="MENOR")*(creg185!$A$2:$A$13583=$A23),ROW(creg185!$S$2:$S$13583)-ROW(creg185!$S$2)+1),COUNTIF($A$17:$A23,$A23))),"")}

Sheet 14
A1: REMITENTES CON SALDOS MAYORES DEL +5%
A2: Fecha | B2: Remitente
A3: 46279 | B3: {=IFERROR(INDEX(creg185!$B$2:$B$13583,SMALL(IF((creg185!$S$2:$S$13583="MAYOR")*(creg185!$A$2:$A$13583=$A3),ROW(creg185!$S$2:$S$13583)-ROW(creg185!$S$2)+1),COUNTIF($A$3:$A3,$A3))),"")} -> EFIGAS GAS NATURAL S.A. E.S.P.
A4: 46279 | B4: {=IFERROR(INDEX(creg185!$B$2:$B$13583,SMALL(IF((creg185!$S$2:$S$13583="MAYOR")*(creg185!$A$2:$A$13583=$A4),ROW(creg185!$S$2:$S$13583)-ROW(creg185!$S$2)+1),COUNTIF($A$3:$A4,$A4))),"")} -> ENEL COLOMBIA S.A. E.S.P
A5: 46279 | B5: {=IFERROR(INDEX(creg185!$B$2:$B$13583,SMALL(IF((creg185!$S$2:$S$13583="MAYOR")*(creg185!$A$2:$A$13583=$A5),ROW(creg185!$S$2:$S$13583)-ROW(creg185!$S$2)+1),COUNTIF($A$3:$A5,$A5))),"")} -> GASES DEL LLANO
A6: 46279 | B6: {=IFERROR(INDEX(creg185!$B$2:$B$13583,SMALL(IF((creg185!$S$2:$S$13583="MAYOR")*(creg185!$A$2:$A$13583=$A6),ROW(creg185!$S$2:$S$13583)-ROW(creg185!$S$2)+1),COUNTIF($A$3:$A6,$A6))),"")} -> ORGANIZACION TERPEL S.A.
A7: 46279 | B7: {=IFERROR(INDEX(creg185!$B$2:$B$13583,SMALL(IF((creg185!$S$2:$S$13583="MAYOR")*(creg185!$A$2:$A$13583=$A7),ROW(creg185!$S$2:$S$13583)-ROW(creg185!$S$2)+1),COUNTIF($A$3:$A7,$A7))),"")} -> VANTI SA ESP
A8: 46279 | B8: {=IFERROR(INDEX(creg185!$B$2:$B$13583,SMALL(IF((creg185!$S$2:$S$13583="MAYOR")*(creg185!$A$2:$A$13583=$A8),ROW(creg185!$S$2:$S$13583)-ROW(creg185!$S$2)+1),COUNTIF($A$3:$A8,$A8))),"")}
A9: 46279 | B9: {=IFERROR(INDEX(creg185!$B$2:$B$13583,SMALL(IF((creg185!$S$2:$S$13583="MAYOR")*(creg185!$A$2:$A$13583=$A9),ROW(creg185!$S$2:$S$13583)-ROW(creg185!$S$2)+1),COUNTIF($A$3:$A9,$A9))),"")}
A10: 46279 | B10: {=IFERROR(INDEX(creg185!$B$2:$B$13583,SMALL(IF((creg185!$S$2:$S$13583="MAYOR")*(creg185!$A$2:$A$13583=$A10),ROW(creg185!$S$2:$S$13583)-ROW(creg185!$S$2)+1),COUNTIF($A$3:$A10,$A10))),"")}
A11: 46279 | B11: {=IFERROR(INDEX(creg185!$B$2:$B$13583,SMALL(IF((creg185!$S$2:$S$13583="MAYOR")*(creg185!$A$2:$A$13583=$A11),ROW(creg185!$S$2:$S$13583)-ROW(creg185!$S$2)+1),COUNTIF($A$3:$A11,$A11))),"")}
A12: 46279 | B12: {=IFERROR(INDEX(creg185!$B$2:$B$13583,SMALL(IF((creg185!$S$2:$S$13583="MAYOR")*(creg185!$A$2:$A$13583=$A12),ROW(creg185!$S$2:$S$13583)-ROW(creg185!$S$2)+1),COUNTIF($A$3:$A12,$A12))),"")}
A15: REMITENTES CON SALDOS MENORES DEL -5%
A16: Fecha | B16: Remitente
A17: 46279 | B17: {=IFERROR(INDEX(creg185!$B$2:$B$13583,SMALL(IF((creg185!$T$2:$T$13583="MENOR")*(creg185!$A$2:$A$13583=$A17),ROW(creg185!$S$2:$S$13583)-ROW(creg185!$S$2)+1),COUNTIF($A$17:$A17,$A17))),"")} -> CENIT TRANSPORTEYLOGÍSTICA DE HIDROCARBUROS S.A.S
A18: 46279 | B18: {=IFERROR(INDEX(creg185!$B$2:$B$13583,SMALL(IF((creg185!$T$2:$T$13583="MENOR")*(creg185!$A$2:$A$13583=$A18),ROW(creg185!$S$2:$S$13583)-ROW(creg185!$S$2)+1),COUNTIF($A$17:$A18,$A18))),"")} -> GASES DEL CARIBE
A19: 46279 | B19: {=IFERROR(INDEX(creg185!$B$2:$B$13583,SMALL(IF((creg185!$T$2:$T$13583="MENOR")*(creg185!$A$2:$A$13583=$A19),ROW(creg185!$S$2:$S$13583)-ROW(creg185!$S$2)+1),COUNTIF($A$17:$A19,$A19))),"")} -> KRONOS ENERGY S.A.S E.S.P
A20: 46279 | B20: {=IFERROR(INDEX(creg185!$B$2:$B$13583,SMALL(IF((creg185!$T$2:$T$13583="MENOR")*(creg185!$A$2:$A$13583=$A20),ROW(creg185!$S$2:$S$13583)-ROW(creg185!$S$2)+1),COUNTIF($A$17:$A20,$A20))),"")} -> METROGAS DE COLOMBIA S.A. E.S.P.
A21: 46279 | B21: {=IFERROR(INDEX(creg185!$B$2:$B$13583,SMALL(IF((creg185!$T$2:$T$13583="MENOR")*(creg185!$A$2:$A$13583=$A21),ROW(creg185!$S$2:$S$13583)-ROW(creg185!$S$2)+1),COUNTIF($A$17:$A21,$A21))),"")}
A22: 46279 | B22: {=IFERROR(INDEX(creg185!$B$2:$B$13583,SMALL(IF((creg185!$T$2:$T$13583="MENOR")*(creg185!$A$2:$A$13583=$A22),ROW(creg185!$S$2:$S$13583)-ROW(creg185!$S$2)+1),COUNTIF($A$17:$A22,$A22))),"")}
A23: 46279 | B23: {=IFERROR(INDEX(creg185!$B$2:$B$13583,SMALL(IF((creg185!$T$2:$T$13583="MENOR")*(creg185!$A$2:$A$13583=$A23),ROW(creg185!$S$2:$S$13583)-ROW(creg185!$S$2)+1),COUNTIF($A$17:$A23,$A23))),"")}

Sheet 15
A1: REMITENTES CON SALDOS MAYORES DEL +5%
A2: Fecha | B2: Remitente
A3: 46280 | B3: {=IFERROR(INDEX(creg185!$B$2:$B$13583,SMALL(IF((creg185!$S$2:$S$13583="MAYOR")*(creg185!$A$2:$A$13583=$A3),ROW(creg185!$S$2:$S$13583)-ROW(creg185!$S$2)+1),COUNTIF($A$3:$A3,$A3))),"")} -> ENEL COLOMBIA S.A. E.S.P
A4: 46280 | B4: {=IFERROR(INDEX(creg185!$B$2:$B$13583,SMALL(IF((creg185!$S$2:$S$13583="MAYOR")*(creg185!$A$2:$A$13583=$A4),ROW(creg185!$S$2:$S$13583)-ROW(creg185!$S$2)+1),COUNTIF($A$3:$A4,$A4))),"")} -> ORGANIZACION TERPEL S.A.
A5: 46280 | B5: {=IFERROR(INDEX(creg185!$B$2:$B$13583,SMALL(IF((creg185!$S$2:$S$13583="MAYOR")*(creg185!$A$2:$A$13583=$A5),ROW(creg185!$S$2:$S$13583)-ROW(creg185!$S$2)+1),COUNTIF($A$3:$A5,$A5))),"")} -> PERENCO COLOMBIA LTD.
A6: 46280 | B6: {=IFERROR(INDEX(creg185!$B$2:$B$13583,SMALL(IF((creg185!$S$2:$S$13583="MAYOR")*(creg185!$A$2:$A$13583=$A6),ROW(creg185!$S$2:$S$13583)-ROW(creg185!$S$2)+1),COUNTIF($A$3:$A6,$A6))),"")} -> VANTI SA ESP
A7: 46280 | B7: {=IFERROR(INDEX(creg185!$B$2:$B$13583,SMALL(IF((creg185!$S$2:$S$13583="MAYOR")*(creg185!$A$2:$A$13583=$A7),ROW(creg185!$S$2:$S$13583)-ROW(creg185!$S$2)+1),COUNTIF($A$3:$A7,$A7))),"")}
A8: 46280 | B8: {=IFERROR(INDEX(creg185!$B$2:$B$13583,SMALL(IF((creg185!$S$2:$S$13583="MAYOR")*(creg185!$A$2:$A$13583=$A8),ROW(creg185!$S$2:$S$13583)-ROW(creg185!$S$2)+1),COUNTIF($A$3:$A8,$A8))),"")}
A9: 46280 | B9: {=IFERROR(INDEX(creg185!$B$2:$B$13583,SMALL(IF((creg185!$S$2:$S$13583="MAYOR")*(creg185!$A$2:$A$13583=$A9),ROW(creg185!$S$2:$S$13583)-ROW(creg185!$S$2)+1),COUNTIF($A$3:$A9,$A9))),"")}
A10: 46280 | B10: {=IFERROR(INDEX(creg185!$B$2:$B$13583,SMALL(IF((creg185!$S$2:$S$13583="MAYOR")*(creg185!$A$2:$A$13583=$A10),ROW(creg185!$S$2:$S$13583)-ROW(creg185!$S$2)+1),COUNTIF($A$3:$A10,$A10))),"")}
A11: 46280 | B11: {=IFERROR(INDEX(creg185!$B$2:$B$13583,SMALL(IF((creg185!$S$2:$S$13583="MAYOR")*(creg185!$A$2:$A$13583=$A11),ROW(creg185!$S$2:$S$13583)-ROW(creg185!$S$2)+1),COUNTIF($A$3:$A11,$A11))),"")}
A12: 46280 | B12: {=IFERROR(INDEX(creg185!$B$2:$B$13583,SMALL(IF((creg185!$S$2:$S$13583="MAYOR")*(creg185!$A$2:$A$13583=$A12),ROW(creg185!$S$2:$S$13583)-ROW(creg185!$S$2)+1),COUNTIF($A$3:$A12,$A12))),"")}
A15: REMITENTES CON SALDOS MENORES DEL -5%
A16: Fecha | B16: Remitente
A17: 46280 | B17: {=IFERROR(INDEX(creg185!$B$2:$B$13583,SMALL(IF((creg185!$T$2:$T$13583="MENOR")*(creg185!$A$2:$A$13583=$A17),ROW(creg185!$S$2:$S$13583)-ROW(creg185!$S$2)+1),COUNTIF($A$17:$A17,$A17))),"")} -> GASES DEL CARIBE
A18: 46280 | B18: {=IFERROR(INDEX(creg185!$B$2:$B$13583,SMALL(IF((creg185!$T$2:$T$13583="MENOR")*(creg185!$A$2:$A$13583=$A18),ROW(creg185!$S$2:$S$13583)-ROW(creg185!$S$2)+1),COUNTIF($A$17:$A18,$A18))),"")} -> KRONOS ENERGY S.A.S E.S.P
A19: 46280 | B19: {=IFERROR(INDEX(creg185!$B$2:$B$13583,SMALL(IF((creg185!$T$2:$T$13583="MENOR")*(creg185!$A$2:$A$13583=$A19),ROW(creg185!$S$2:$S$13583)-ROW(creg185!$S$2)+1),COUNTIF($A$17:$A19,$A19))),"")} -> METROGAS DE COLOMBIA S.A. E.S.P.
A20: 46280 | B20: {=IFERROR(INDEX(creg185!$B$2:$B$13583,SMALL(IF((creg185!$T$2:$T$13583="MENOR")*(creg185!$A$2:$A$13583=$A20),ROW(creg185!$S$2:$S$13583)-ROW(creg185!$S$2)+1),COUNTIF($A$17:$A20,$A20))),"")}
A21: 46280 | B21: {=IFERROR(INDEX(creg185!$B$2:$B$13583,SMALL(IF((creg185!$T$2:$T$13583="MENOR")*(creg185!$A$2:$A$13583=$A21),ROW(creg185!$S$2:$S$13583)-ROW(creg185!$S$2)+1),COUNTIF($A$17:$A21,$A21))),"")}
A22: 46280 | B22: {=IFERROR(INDEX(creg185!$B$2:$B$13583,SMALL(IF((creg185!$T$2:$T$13583="MENOR")*(creg185!$A$2:$A$13583=$A22),ROW(creg185!$S$2:$S$13583)-ROW(creg185!$S$2)+1),COUNTIF($A$17:$A22,$A22))),"")}
A23: 46280 | B23: {=IFERROR(INDEX(creg185!$B$2:$B$13583,SMALL(IF((creg185!$T$2:$T$13583="MENOR")*(creg185!$A$2:$A$13583=$A23),ROW(creg185!$S$2:$S$13583)-ROW(creg185!$S$2)+1),COUNTIF($A$17:$A23,$A23))),"")}

Sheet 16
A1: REMITENTES CON SALDOS MAYORES DEL +5%
A2: Fecha | B2: Remitente
A3: 46281 | B3: {=IFERROR(INDEX(creg185!$B$2:$B$13583,SMALL(IF((creg185!$S$2:$S$13583="MAYOR")*(creg185!$A$2:$A$13583=$A3),ROW(creg185!$S$2:$S$13583)-ROW(creg185!$S$2)+1),COUNTIF($A$3:$A3,$A3))),"")}
A4: 46281 | B4: {=IFERROR(INDEX(creg185!$B$2:$B$13583,SMALL(IF((creg185!$S$2:$S$13583="MAYOR")*(creg185!$A$2:$A$13583=$A4),ROW(creg185!$S$2:$S$13583)-ROW(creg185!$S$2)+1),COUNTIF($A$3:$A4,$A4))),"")}
A5: 46281 | B5: {=IFERROR(INDEX(creg185!$B$2:$B$13583,SMALL(IF((creg185!$S$2:$S$13583="MAYOR")*(creg185!$A$2:$A$13583=$A5),ROW(creg185!$S$2:$S$13583)-ROW(creg185!$S$2)+1),COUNTIF($A$3:$A5,$A5))),"")}
A6: 46281 | B6: {=IFERROR(INDEX(creg185!$B$2:$B$13583,SMALL(IF((creg185!$S$2:$S$13583="MAYOR")*(creg185!$A$2:$A$13583=$A6),ROW(creg185!$S$2:$S$13583)-ROW(creg185!$S$2)+1),COUNTIF($A$3:$A6,$A6))),"")}
A7: 46281 | B7: {=IFERROR(INDEX(creg185!$B$2:$B$13583,SMALL(IF((creg185!$S$2:$S$13583="MAYOR")*(creg185!$A$2:$A$13583=$A7),ROW(creg185!$S$2:$S$13583)-ROW(creg185!$S$2)+1),COUNTIF($A$3:$A7,$A7))),"")}
A8: 46281 | B8: {=IFERROR(INDEX(creg185!$B$2:$B$13583,SMALL(IF((creg185!$S$2:$S$13583="MAYOR")*(creg185!$A$2:$A$13583=$A8),ROW(creg185!$S$2:$S$13583)-ROW(creg185!$S$2)+1),COUNTIF($A$3:$A8,$A8))),"")}
A9: 46281 | B9: {=IFERROR(INDEX(creg185!$B$2:$B$13583,SMALL(IF((creg185!$S$2:$S$13583="MAYOR")*(creg185!$A$2:$A$13583=$A9),ROW(creg185!$S$2:$S$13583)-ROW(creg185!$S$2)+1),COUNTIF($A$3:$A9,$A9))),"")}
A10: 46281 | B10: {=IFERROR(INDEX(creg185!$B$2:$B$13583,SMALL(IF((creg185!$S$2:$S$13583="MAYOR")*(creg185!$A$2:$A$13583=$A10),ROW(creg185!$S$2:$S$13583)-ROW(creg185!$S$2)+1),COUNTIF($A$3:$A10,$A10))),"")}
A11: 46281 | B11: {=IFERROR(INDEX(creg185!$B$2:$B$13583,SMALL(IF((creg185!$S$2:$S$13583="MAYOR")*(creg185!$A$2:$A$13583=$A11),ROW(creg185!$S$2:$S$13583)-ROW(creg185!$S$2)+1),COUNTIF($A$3:$A11,$A11))),"")}
A12: 46281 | B12: {=IFERROR(INDEX(creg185!$B$2:$B$13583,SMALL(IF((creg185!$S$2:$S$13583="MAYOR")*(creg185!$A$2:$A$13583=$A12),ROW(creg185!$S$2:$S$13583)-ROW(creg185!$S$2)+1),COUNTIF($A$3:$A12,$A12))),"")}
A15: REMITENTES CON SALDOS MENORES DEL -5%
A16: Fecha | B16: Remitente
A17: 46281 | B17: {=IFERROR(INDEX(creg185!$B$2:$B$13583,SMALL(IF((creg185!$T$2:$T$13583="MENOR")*(creg185!$A$2:$A$13583=$A17),ROW(creg185!$S$2:$S$13583)-ROW(creg185!$S$2)+1),COUNTIF($A$17:$A17,$A17))),"")} -> CENIT TRANSPORTEYLOGÍSTICA DE HIDROCARBUROS S.A.S
A18: 46281 | B18: {=IFERROR(INDEX(creg185!$B$2:$B$13583,SMALL(IF((creg185!$T$2:$T$13583="MENOR")*(creg185!$A$2:$A$13583=$A18),ROW(creg185!$S$2:$S$13583)-ROW(creg185!$S$2)+1),COUNTIF($A$17:$A18,$A18))),"")} -> ENEL COLOMBIA S.A. E.S.P
A19: 46281 | B19: {=IFERROR(INDEX(creg185!$B$2:$B$13583,SMALL(IF((creg185!$T$2:$T$13583="MENOR")*(creg185!$A$2:$A$13583=$A19),ROW(creg185!$S$2:$S$13583)-ROW(creg185!$S$2)+1),COUNTIF($A$17:$A19,$A19))),"")} -> GASES DEL CARIBE
