Workbook

Sheet 1
A1: REMITENTES CON SALDOS MAYORES DEL +5%
A2: Fecha | B2: Remitente
A3: 46266 | B3: {=IFERROR(INDEX(creg185!$B$2:$B$13583,SMALL(IF((creg185!$S$2:$S$13583="MAYOR")*(creg185!$A$2:$A$13583=$A3),ROW(creg185!$S$2:$S$13583)-ROW(creg185!$S$2)+1),COUNTIF($A$3:$A3,$A3))),"")} -> CENIT TRANSPORTEYLOGÍSTICA DE HIDROCARBUROS S.A.S
A4: 46266 | B4: {=IFERROR(INDEX(creg185!$B$2:$B$13583,SMALL(IF((creg185!$S$2:$S$13583="MAYOR")*(creg185!$A$2:$A$13583=$A4),ROW(creg185!$S$2:$S$13583)-ROW(creg185!$S$2)+1),COUNTIF($A$3:$A4,$A4))),"")} -> GASES DE OCCIDENTE S.A.
A5: 46266 | B5: {=IFERROR(INDEX(creg185!$B$2:$B$13583,SMALL(IF((creg185!$S$2:$S$13583="MAYOR")*(creg185!$A$2:$A$13583=$A5),ROW(creg185!$S$2:$S$13583)-ROW(creg185!$S$2)+1),COUNTIF($A$3:$A5,$A5))),"")} -> METROGAS DE COLOMBIA S.A. E.S.P.
A6: 46266 | B6: {=IFERROR(INDEX(creg185!$B$2:$B$13583,SMALL(IF((creg185!$S$2:$S$13583="MAYOR")*(creg185!$A$2:$A$13583=$A6),ROW(creg185!$S$2:$S$13583)-ROW(creg185!$S$2)+1),COUNTIF($A$3:$A6,$A6))),"")} -> VANTI SA ESP
A7: 46266 | B7: {=IFERROR(INDEX(creg185!$B$2:$B$13583,SMALL(IF((creg185!$S$2:$S$13583="MAYOR")*(creg185!$A$2:$A$13583=$A7),ROW(creg185!$S$2:$S$13583)-ROW(creg185!$S$2)+1),COUNTIF($A$3:$A7,$A7))),"")}
A8: 46266 | B8: {=IFERROR(INDEX(creg185!$B$2:$B$13583,SMALL(IF((creg185!$S$2:$S$13583="MAYOR")*(creg185!$A$2:$A$13583=$A8),ROW(creg185!$S$2:$S$13583)-ROW(creg185!$S$2)+1),COUNTIF($A$3:$A8,$A8))),"")}
A9: 46266 | B9: {=IFERROR(INDEX(creg185!$B$2:$B$13583,SMALL(IF((creg185!$S$2:$S$13583="MAYOR")*(creg185!$A$2:$A$13583=$A9),ROW(creg185!$S$2:$S$13583)-ROW(creg185!$S$2)+1),COUNTIF($A$3:$A9,$A9))),"")}
A10: 46266 | B10: {=IFERROR(INDEX(creg185!$B$2:$B$13583,SMALL(IF((creg185!$S$2:$S$13583="MAYOR")*(creg185!$A$2:$A$13583=$A10),ROW(creg185!$S$2:$S$13583)-ROW(creg185!$S$2)+1),COUNTIF($A$3:$A10,$A10))),"")}
A11: 46266 | B11: {=IFERROR(INDEX(creg185!$B$2:$B$13583,SMALL(IF((creg185!$S$2:$S$13583="MAYOR")*(creg185!$A$2:$A$13583=$A11),ROW(creg185!$S$2:$S$13583)-ROW(creg185!$S$2)+1),COUNTIF($A$3:$A11,$A11))),"")}
A12: 46266 | B12: {=IFERROR(INDEX(creg185!$B$2:$B$13583,SMALL(IF((creg185!$S$2:$S$13583="MAYOR")*(creg185!$A$2:$A$13583=$A12),ROW(creg185!$S$2:$S$13583)-ROW(creg185!$S$2)+1),COUNTIF($A$3:$A12,$A12))),"")}
A15: REMITENTES CON SALDOS MENORES DEL -5%
A16: Fecha | B16: Remitente
A17: 46266 | B17: {=IFERROR(INDEX(creg185!$B$2:$B$13583,SMALL(IF((creg185!$T$2:$T$13583="MENOR")*(creg185!$A$2:$A$13583=$A17),ROW(creg185!$S$2:$S$13583)-ROW(creg185!$S$2)+1),COUNTIF($A$17:$A17,$A17))),"")} -> GASES DEL CARIBE
A18: 46266 | B18: {=IFERROR(INDEX(creg185!$B$2:$B$13583,SMALL(IF((creg185!$T$2:$T$13583="MENOR")*(creg185!$A$2:$A$13583=$A18),ROW(creg185!$S$2:$S$13583)-ROW(creg185!$S$2)+1),COUNTIF($A$17:$A18,$A18))),"")} -> KRONOS ENERGY S.A.S E.S.P
A19: 46266 | B19: {=IFERROR(INDEX(creg185!$B$2:$B$13583,SMALL(IF((creg185!$T$2:$T$13583="MENOR")*(creg185!$A$2:$A$13583=$A19),ROW(creg185!$S$2:$S$13583)-ROW(creg185!$S$2)+1),COUNTIF($A$17:$A19,$A19))),"")} -> ORGANIZACION TERPEL S.A.
A20: 46266 | B20: {=IFERROR(INDEX(creg185!$B$2:$B$13583,SMALL(IF((creg185!$T$2:$T$13583="MENOR")*(creg185!$A$2:$A$13583=$A20),ROW(creg185!$S$2:$S$13583)-ROW(creg185!$S$2)+1),COUNTIF($A$17:$A20,$A20))),"")}
A21: 46266 | B21: {=IFERROR(INDEX(creg185!$B$2:$B$13583,SMALL(IF((creg185!$T$2:$T$13583="MENOR")*(creg185!$A$2:$A$13583=$A21),ROW(creg185!$S$2:$S$13583)-ROW(creg185!$S$2)+1),COUNTIF($A$17:$A21,$A21))),"")}
A22: 46266 | B22: {=IFERROR(INDEX(creg185!$B$2:$B$13583,SMALL(IF((creg185!$T$2:$T$13583="MENOR")*(creg185!$A$2:$A$13583=$A22),ROW(creg185!$S$2:$S$13583)-ROW(creg185!$S$2)+1),COUNTIF($A$17:$A22,$A22))),"")}
A23: 46266 | B23: {=IFERROR(INDEX(creg185!$B$2:$B$13583,SMALL(IF((creg185!$T$2:$T$13583="MENOR")*(creg185!$A$2:$A$13583=$A23),ROW(creg185!$S$2:$S$13583)-ROW(creg185!$S$2)+1),COUNTIF($A$17:$A23,$A23))),"")}

Sheet 2
A1: REMITENTES CON SALDOS MAYORES DEL +5%
A2: Fecha | B2: Remitente
A3: 46267 | B3: {=IFERROR(INDEX(creg185!$B$2:$B$13583,SMALL(IF((creg185!$S$2:$S$13583="MAYOR")*(creg185!$A$2:$A$13583=$A3),ROW(creg185!$S$2:$S$13583)-ROW(creg185!$S$2)+1),COUNTIF($A$3:$A3,$A3))),"")} -> CENIT TRANSPORTEYLOGÍSTICA DE HIDROCARBUROS S.A.S
A4: 46267 | B4: {=IFERROR(INDEX(creg185!$B$2:$B$13583,SMALL(IF((creg185!$S$2:$S$13583="MAYOR")*(creg185!$A$2:$A$13583=$A4),ROW(creg185!$S$2:$S$13583)-ROW(creg185!$S$2)+1),COUNTIF($A$3:$A4,$A4))),"")} -> ECOPETROL S.A.
A5: 46267 | B5: {=IFERROR(INDEX(creg185!$B$2:$B$13583,SMALL(IF((creg185!$S$2:$S$13583="MAYOR")*(creg185!$A$2:$A$13583=$A5),ROW(creg185!$S$2:$S$13583)-ROW(creg185!$S$2)+1),COUNTIF($A$3:$A5,$A5))),"")}
A6: 46267 | B6: {=IFERROR(INDEX(creg185!$B$2:$B$13583,SMALL(IF((creg185!$S$2:$S$13583="MAYOR")*(creg185!$A$2:$A$13583=$A6),ROW(creg185!$S$2:$S$13583)-ROW(creg185!$S$2)+1),COUNTIF($A$3:$A6,$A6))),"")}
A7: 46267 | B7: {=IFERROR(INDEX(creg185!$B$2:$B$13583,SMALL(IF((creg185!$S$2:$S$13583="MAYOR")*(creg185!$A$2:$A$13583=$A7),ROW(creg185!$S$2:$S$13583)-ROW(creg185!$S$2)+1),COUNTIF($A$3:$A7,$A7))),"")}
A8: 46267 | B8: {=IFERROR(INDEX(creg185!$B$2:$B$13583,SMALL(IF((creg185!$S$2:$S$13583="MAYOR")*(creg185!$A$2:$A$13583=$A8),ROW(creg185!$S$2:$S$13583)-ROW(creg185!$S$2)+1),COUNTIF($A$3:$A8,$A8))),"")}
A9: 46267 | B9: {=IFERROR(INDEX(creg185!$B$2:$B$13583,SMALL(IF((creg185!$S$2:$S$13583="MAYOR")*(creg185!$A$2:$A$13583=$A9),ROW(creg185!$S$2:$S$13583)-ROW(creg185!$S$2)+1),COUNTIF($A$3:$A9,$A9))),"")}
A10: 46267 | B10: {=IFERROR(INDEX(creg185!$B$2:$B$13583,SMALL(IF((creg185!$S$2:$S$13583="MAYOR")*(creg185!$A$2:$A$13583=$A10),ROW(creg185!$S$2:$S$13583)-ROW(creg185!$S$2)+1),COUNTIF($A$3:$A10,$A10))),"")}
A11: 46267 | B11: {=IFERROR(INDEX(creg185!$B$2:$B$13583,SMALL(IF((creg185!$S$2:$S$13583="MAYOR")*(creg185!$A$2:$A$13583=$A11),ROW(creg185!$S$2:$S$13583)-ROW(creg185!$S$2)+1),COUNTIF($A$3:$A11,$A11))),"")}
A12: 46267 | B12: {=IFERROR(INDEX(creg185!$B$2:$B$13583,SMALL(IF((creg185!$S$2:$S$13583="MAYOR")*(creg185!$A$2:$A$13583=$A12),ROW(creg185!$S$2:$S$13583)-ROW(creg185!$S$2)+1),COUNTIF($A$3:$A12,$A12))),"")}
A15: REMITENTES CON SALDOS MENORES DEL -5%
A16: Fecha | B16: Remitente
A17: 46267 | B17: {=IFERROR(INDEX(creg185!$B$2:$B$13583,SMALL(IF((creg185!$T$2:$T$13583="MENOR")*(creg185!$A$2:$A$13583=$A17),ROW(creg185!$S$2:$S$13583)-ROW(creg185!$S$2)+1),COUNTIF($A$17:$A17,$A17))),"")} -> GASES DEL CARIBE
A18: 46267 | B18: {=IFERROR(INDEX(creg185!$B$2:$B$13583,SMALL(IF((creg185!$T$2:$T$13583="MENOR")*(creg185!$A$2:$A$13583=$A18),ROW(creg185!$S$2:$S$13583)-ROW(creg185!$S$2)+1),COUNTIF($A$17:$A18,$A18))),"")} -> KRONOS ENERGY S.A.S E.S.P
A19: 46267 | B19: {=IFERROR(INDEX(creg185!$B$2:$B$13583,SMALL(IF((creg185!$T$2:$T$13583="MENOR")*(creg185!$A$2:$A$13583=$A19),ROW(creg185!$S$2:$S$13583)-ROW(creg185!$S$2)+1),COUNTIF($A$17:$A19,$A19))),"")} -> ORGANIZACION TERPEL S.A.
A20: 46267 | B20: {=IFERROR(INDEX(creg185!$B$2:$B$13583,SMALL(IF((creg185!$T$2:$T$13583="MENOR")*(creg185!$A$2:$A$13583=$A20),ROW(creg185!$S$2:$S$13583)-ROW(creg185!$S$2)+1),COUNTIF($A$17:$A20,$A20))),"")}
A21: 46267 | B21: {=IFERROR(INDEX(creg185!$B$2:$B$13583,SMALL(IF((creg185!$T$2:$T$13583="MENOR")*(creg185!$A$2:$A$13583=$A21),ROW(creg185!$S$2:$S$13583)-ROW(creg185!$S$2)+1),COUNTIF($A$17:$A21,$A21))),"")}
A22: 46267 | B22: {=IFERROR(INDEX(creg185!$B$2:$B$13583,SMALL(IF((creg185!$T$2:$T$13583="MENOR")*(creg185!$A$2:$A$13583=$A22),ROW(creg185!$S$2:$S$13583)-ROW(creg185!$S$2)+1),COUNTIF($A$17:$A22,$A22))),"")}
A23: 46267 | B23: {=IFERROR(INDEX(creg185!$B$2:$B$13583,SMALL(IF((creg185!$T$2:$T$13583="MENOR")*(creg185!$A$2:$A$13583=$A23),ROW(creg185!$S$2:$S$13583)-ROW(creg185!$S$2)+1),COUNTIF($A$17:$A23,$A23))),"")}

Sheet 3
A1: REMITENTES CON SALDOS MAYORES DEL +5%
A2: Fecha | B2: Remitente
A3: 46268 | B3: {=IFERROR(INDEX(creg185!$B$2:$B$13583,SMALL(IF((creg185!$S$2:$S$13583="MAYOR")*(creg185!$A$2:$A$13583=$A3),ROW(creg185!$S$2:$S$13583)-ROW(creg185!$S$2)+1),COUNTIF($A$3:$A3,$A3))),"")} -> ECOPETROL S.A.
A4: 46268 | B4: {=IFERROR(INDEX(creg185!$B$2:$B$13583,SMALL(IF((creg185!$S$2:$S$13583="MAYOR")*(creg185!$A$2:$A$13583=$A4),ROW(creg185!$S$2:$S$13583)-ROW(creg185!$S$2)+1),COUNTIF($A$3:$A4,$A4))),"")} -> METROGAS DE COLOMBIA S.A. E.S.P.
A5: 46268 | B5: {=IFERROR(INDEX(creg185!$B$2:$B$13583,SMALL(IF((creg185!$S$2:$S$13583="MAYOR")*(creg185!$A$2:$A$13583=$A5),ROW(creg185!$S$2:$S$13583)-ROW(creg185!$S$2)+1),COUNTIF($A$3:$A5,$A5))),"")}
A6: 46268 | B6: {=IFERROR(INDEX(creg185!$B$2:$B$13583,SMALL(IF((creg185!$S$2:$S$13583="MAYOR")*(creg185!$A$2:$A$13583=$A6),ROW(creg185!$S$2:$S$13583)-ROW(creg185!$S$2)+1),COUNTIF($A$3:$A6,$A6))),"")}
A7: 46268 | B7: {=IFERROR(INDEX(creg185!$B$2:$B$13583,SMALL(IF((creg185!$S$2:$S$13583="MAYOR")*(creg185!$A$2:$A$13583=$A7),ROW(creg185!$S$2:$S$13583)-ROW(creg185!$S$2)+1),COUNTIF($A$3:$A7,$A7))),"")}
A8: 46268 | B8: {=IFERROR(INDEX(creg185!$B$2:$B$13583,SMALL(IF((creg185!$S$2:$S$13583="MAYOR")*(creg185!$A$2:$A$13583=$A8),ROW(creg185!$S$2:$S$13583)-ROW(creg185!$S$2)+1),COUNTIF($A$3:$A8,$A8))),"")}
A9: 46268 | B9: {=IFERROR(INDEX(creg185!$B$2:$B$13583,SMALL(IF((creg185!$S$2:$S$13583="MAYOR")*(creg185!$A$2:$A$13583=$A9),ROW(creg185!$S$2:$S$13583)-ROW(creg185!$S$2)+1),COUNTIF($A$3:$A9,$A9))),"")}
A10: 46268 | B10: {=IFERROR(INDEX(creg185!$B$2:$B$13583,SMALL(IF((creg185!$S$2:$S$13583="MAYOR")*(creg185!$A$2:$A$13583=$A10),ROW(creg185!$S$2:$S$13583)-ROW(creg185!$S$2)+1),COUNTIF($A$3:$A10,$A10))),"")}
A11: 46268 | B11: {=IFERROR(INDEX(creg185!$B$2:$B$13583,SMALL(IF((creg185!$S$2:$S$13583="MAYOR")*(creg185!$A$2:$A$13583=$A11),ROW(creg185!$S$2:$S$13583)-ROW(creg185!$S$2)+1),COUNTIF($A$3:$A11,$A11))),"")}
A12: 46268 | B12: {=IFERROR(INDEX(creg185!$B$2:$B$13583,SMALL(IF((creg185!$S$2:$S$13583="MAYOR")*(creg185!$A$2:$A$13583=$A12),ROW(creg185!$S$2:$S$13583)-ROW(creg185!$S$2)+1),COUNTIF($A$3:$A12,$A12))),"")}
A15: REMITENTES CON SALDOS MENORES DEL -5%
A16: Fecha | B16: Remitente
A17: 46268 | B17: {=IFERROR(INDEX(creg185!$B$2:$B$13583,SMALL(IF((creg185!$T$2:$T$13583="MENOR")*(creg185!$A$2:$A$13583=$A17),ROW(creg185!$S$2:$S$13583)-ROW(creg185!$S$2)+1),COUNTIF($A$17:$A17,$A17))),"")} -> CENIT TRANSPORTEYLOGÍSTICA DE HIDROCARBUROS S.A.S
A18: 46268 | B18: {=IFERROR(INDEX(creg185!$B$2:$B$13583,SMALL(IF((creg185!$T$2:$T$13583="MENOR")*(creg185!$A$2:$A$13583=$A18),ROW(creg185!$S$2:$S$13583)-ROW(creg185!$S$2)+1),COUNTIF($A$17:$A18,$A18))),"")} -> ENEL COLOMBIA S.A. E.S.P
A19: 46268 | B19: {=IFERROR(INDEX(creg185!$B$2:$B$13583,SMALL(IF((creg185!$T$2:$T$13583="MENOR")*(creg185!$A$2:$A$13583=$A19),ROW(creg185!$S$2:$S$13583)-ROW(creg185!$S$2)+1),COUNTIF($A$17:$A19,$A19))),"")} -> GASES DEL CARIBE
A20: 46268 | B20: {=IFERROR(INDEX(creg185!$B$2:$B$13583,SMALL(IF((creg185!$T$2:$T$13583="MENOR")*(creg185!$A$2:$A$13583=$A20),ROW(creg185!$S$2:$S$13583)-ROW(creg185!$S$2)+1),COUNTIF($A$17:$A20,$A20))),"")} -> KRONOS ENERGY S.A.S E.S.P
A21: 46268 | B21: {=IFERROR(INDEX(creg185!$B$2:$B$13583,SMALL(IF((creg185!$T$2:$T$13583="MENOR")*(creg185!$A$2:$A$13583=$A21),ROW(creg185!$S$2:$S$13583)-ROW(creg185!$S$2)+1),COUNTIF($A$17:$A21,$A21))),"")} -> ORGANIZACION TERPEL S.A.
A22: 46268 | B22: {=IFERROR(INDEX(creg185!$B$2:$B$13583,SMALL(IF((creg185!$T$2:$T$13583="MENOR")*(creg185!$A$2:$A$13583=$A22),ROW(creg185!$S$2:$S$13583)-ROW(creg185!$S$2)+1),COUNTIF($A$17:$A22,$A22))),"")}
A23: 46268 | B23: {=IFERROR(INDEX(creg185!$B$2:$B$13583,SMALL(IF((creg185!$T$2:$T$13583="MENOR")*(creg185!$A$2:$A$13583=$A23),ROW(creg185!$S$2:$S$13583)-ROW(creg185!$S$2)+1),COUNTIF($A$17:$A23,$A23))),"")}

Sheet 4
A1: REMITENTES CON SALDOS MAYORES DEL +5%
A2: Fecha | B2: Remitente
A3: 46269 | B3: {=IFERROR(INDEX(creg185!$B$2:$B$13583,SMALL(IF((creg185!$S$2:$S$13583="MAYOR")*(creg185!$A$2:$A$13583=$A3),ROW(creg185!$S$2:$S$13583)-ROW(creg185!$S$2)+1),COUNTIF($A$3:$A3,$A3))),"")} -> METROGAS DE COLOMBIA S.A. E.S.P.
A4: 46269 | B4: {=IFERROR(INDEX(creg185!$B$2:$B$13583,SMALL(IF((creg185!$S$2:$S$13583="MAYOR")*(creg185!$A$2:$A$13583=$A4),ROW(creg185!$S$2:$S$13583)-ROW(creg185!$S$2)+1),COUNTIF($A$3:$A4,$A4))),"")}
A5: 46269 | B5: {=IFERROR(INDEX(creg185!$B$2:$B$13583,SMALL(IF((creg185!$S$2:$S$13583="MAYOR")*(creg185!$A$2:$A$13583=$A5),ROW(creg185!$S$2:$S$13583)-ROW(creg185!$S$2)+1),COUNTIF($A$3:$A5,$A5))),"")}
A6: 46269 | B6: {=IFERROR(INDEX(creg185!$B$2:$B$13583,SMALL(IF((creg185!$S$2:$S$13583="MAYOR")*(creg185!$A$2:$A$13583=$A6),ROW(creg185!$S$2:$S$13583)-ROW(creg185!$S$2)+1),COUNTIF($A$3:$A6,$A6))),"")}
A7: 46269 | B7: {=IFERROR(INDEX(creg185!$B$2:$B$13583,SMALL(IF((creg185!$S$2:$S$13583="MAYOR")*(creg185!$A$2:$A$13583=$A7),ROW(creg185!$S$2:$S$13583)-ROW(creg185!$S$2)+1),COUNTIF($A$3:$A7,$A7))),"")}
A8: 46269 | B8: {=IFERROR(INDEX(creg185!$B$2:$B$13583,SMALL(IF((creg185!$S$2:$S$13583="MAYOR")*(creg185!$A$2:$A$13583=$A8),ROW(creg185!$S$2:$S$13583)-ROW(creg185!$S$2)+1),COUNTIF($A$3:$A8,$A8))),"")}
A9: 46269 | B9: {=IFERROR(INDEX(creg185!$B$2:$B$13583,SMALL(IF((creg185!$S$2:$S$13583="MAYOR")*(creg185!$A$2:$A$13583=$A9),ROW(creg185!$S$2:$S$13583)-ROW(creg185!$S$2)+1),COUNTIF($A$3:$A9,$A9))),"")}
A10: 46269 | B10: {=IFERROR(INDEX(creg185!$B$2:$B$13583,SMALL(IF((creg185!$S$2:$S$13583="MAYOR")*(creg185!$A$2:$A$13583=$A10),ROW(creg185!$S$2:$S$13583)-ROW(creg185!$S$2)+1),COUNTIF($A$3:$A10,$A10))),"")}
A11: 46269 | B11: {=IFERROR(INDEX(creg185!$B$2:$B$13583,SMALL(IF((creg185!$S$2:$S$13583="MAYOR")*(creg185!$A$2:$A$13583=$A11),ROW(creg185!$S$2:$S$13583)-ROW(creg185!$S$2)+1),COUNTIF($A$3:$A11,$A11))),"")}
A12: 46269 | B12: {=IFERROR(INDEX(creg185!$B$2:$B$13583,SMALL(IF((creg185!$S$2:$S$13583="MAYOR")*(creg185!$A$2:$A$13583=$A12),ROW(creg185!$S$2:$S$13583)-ROW(creg185!$S$2)+1),COUNTIF($A$3:$A12,$A12))),"")}
A15: REMITENTES CON SALDOS MENORES DEL -5%
A16: Fecha | B16: Remitente
A17: 46269 | B17: {=IFERROR(INDEX(creg185!$B$2:$B$13583,SMALL(IF((creg185!$T$2:$T$13583="MENOR")*(creg185!$A$2:$A$13583=$A17),ROW(creg185!$S$2:$S$13583)-ROW(creg185!$S$2)+1),COUNTIF($A$17:$A17,$A17))),"")} -> CENIT TRANSPORTEYLOGÍSTICA DE HIDROCARBUROS S.A.S
A18: 46269 | B18: {=IFERROR(INDEX(creg185!$B$2:$B$13583,SMALL(IF((creg185!$T$2:$T$13583="MENOR")*(creg185!$A$2:$A$13583=$A18),ROW(creg185!$S$2:$S$13583)-ROW(creg185!$S$2)+1),COUNTIF($A$17:$A18,$A18))),"")} -> ENEL COLOMBIA S.A. E.S.P
A19: 46269 | B19: {=IFERROR(INDEX(creg185!$B$2:$B$13583,SMALL(IF((creg185!$T$2:$T$13583="MENOR")*(creg185!$A$2:$A$13583=$A19),ROW(creg185!$S$2:$S$13583)-ROW(creg185!$S$2)+1),COUNTIF($A$17:$A19,$A19))),"")} -> GASES DEL CARIBE
A20: 46269 | B20: {=IFERROR(INDEX(creg185!$B$2:$B$13583,SMALL(IF((creg185!$T$2:$T$13583="MENOR")*(creg185!$A$2:$A$13583=$A20),ROW(creg185!$S$2:$S$13583)-ROW(creg185!$S$2)+1),COUNTIF($A$17:$A20,$A20))),"")} -> KRONOS ENERGY S.A.S E.S.P
A21: 46269 | B21: {=IFERROR(INDEX(creg185!$B$2:$B$13583,SMALL(IF((creg185!$T$2:$T$13583="MENOR")*(creg185!$A$2:$A$13583=$A21),ROW(creg185!$S$2:$S$13583)-ROW(creg185!$S$2)+1),COUNTIF($A$17:$A21,$A21))),"")} -> ORGANIZACION TERPEL S.A.
A22: 46269 | B22: {=IFERROR(INDEX(creg185!$B$2:$B$13583,SMALL(IF((creg185!$T$2:$T$13583="MENOR")*(creg185!$A$2:$A$13583=$A22),ROW(creg185!$S$2:$S$13583)-ROW(creg185!$S$2)+1),COUNTIF($A$17:$A22,$A22))),"")}
A23: 46269 | B23: {=IFERROR(INDEX(creg185!$B$2:$B$13583,SMALL(IF((creg185!$T$2:$T$13583="MENOR")*(creg185!$A$2:$A$13583=$A23),ROW(creg185!$S$2:$S$13583)-ROW(creg185!$S$2)+1),COUNTIF($A$17:$A23,$A23))),"")}

Sheet 5
A1: REMITENTES CON SALDOS MAYORES DEL +5%
A2: Fecha | B2: Remitente
A3: 46270 | B3: {=IFERROR(INDEX(creg185!$B$2:$B$13583,SMALL(IF((creg185!$S$2:$S$13583="MAYOR")*(creg185!$A$2:$A$13583=$A3),ROW(creg185!$S$2:$S$13583)-ROW(creg185!$S$2)+1),COUNTIF($A$3:$A3,$A3))),"")} -> GNI GAS NATURAL INDUSTRIAL DE COLOMBIA S.A. ESP
A4: 46270 | B4: {=IFERROR(INDEX(creg185!$B$2:$B$13583,SMALL(IF((creg185!$S$2:$S$13583="MAYOR")*(creg185!$A$2:$A$13583=$A4),ROW(creg185!$S$2:$S$13583)-ROW(creg185!$S$2)+1),COUNTIF($A$3:$A4,$A4))),"")} -> METROGAS DE COLOMBIA S.A. E.S.P.
A5: 46270 | B5: {=IFERROR(INDEX(creg185!$B$2:$B$13583,SMALL(IF((creg185!$S$2:$S$13583="MAYOR")*(creg185!$A$2:$A$13583=$A5),ROW(creg185!$S$2:$S$13583)-ROW(creg185!$S$2)+1),COUNTIF($A$3:$A5,$A5))),"")} -> VANTI SA ESP
A6: 46270 | B6: {=IFERROR(INDEX(creg185!$B$2:$B$13583,SMALL(IF((creg185!$S$2:$S$13583="MAYOR")*(creg185!$A$2:$A$13583=$A6),ROW(creg185!$S$2:$S$13583)-ROW(creg185!$S$2)+1),COUNTIF($A$3:$A6,$A6))),"")}
A7: 46270 | B7: {=IFERROR(INDEX(creg185!$B$2:$B$13583,SMALL(IF((creg185!$S$2:$S$13583="MAYOR")*(creg185!$A$2:$A$13583=$A7),ROW(creg185!$S$2:$S$13583)-ROW(creg185!$S$2)+1),COUNTIF($A$3:$A7,$A7))),"")}
A8: 46270 | B8: {=IFERROR(INDEX(creg185!$B$2:$B$13583,SMALL(IF((creg185!$S$2:$S$13583="MAYOR")*(creg185!$A$2:$A$13583=$A8),ROW(creg185!$S$2:$S$13583)-ROW(creg185!$S$2)+1),COUNTIF($A$3:$A8,$A8))),"")}
A9: 46270 | B9: {=IFERROR(INDEX(creg185!$B$2:$B$13583,SMALL(IF((creg185!$S$2:$S$13583="MAYOR")*(creg185!$A$2:$A$13583=$A9),ROW(creg185!$S$2:$S$13583)-ROW(creg185!$S$2)+1),COUNTIF($A$3:$A9,$A9))),"")}
A10: 46270 | B10: {=IFERROR(INDEX(creg185!$B$2:$B$13583,SMALL(IF((creg185!$S$2:$S$13583="MAYOR")*(creg185!$A$2:$A$13583=$A10),ROW(creg185!$S$2:$S$13583)-ROW(creg185!$S$2)+1),COUNTIF($A$3:$A10,$A10))),"")}
A11: 46270 | B11: {=IFERROR(INDEX(creg185!$B$2:$B$13583,SMALL(IF((creg185!$S$2:$S$13583="MAYOR")*(creg185!$A$2:$A$13583=$A11),ROW(creg185!$S$2:$S$13583)-ROW(creg185!$S$2)+1),COUNTIF($A$3:$A11,$A11))),"")}
A12: 46270 | B12: {=IFERROR(INDEX(creg185!$B$2:$B$13583,SMALL(IF((creg185!$S$2:$S$13583="MAYOR")*(creg185!$A$2:$A$13583=$A12),ROW(creg185!$S$2:$S$13583)-ROW(creg185!$S$2)+1),COUNTIF($A$3:$A12,$A12))),"")}
A15: REMITENTES CON SALDOS MENORES DEL -5%
A16: Fecha | B16: Remitente
A17: 46270 | B17: {=IFERROR(INDEX(creg185!$B$2:$B$13583,SMALL(IF((creg185!$T$2:$T$13583="MENOR")*(creg185!$A$2:$A$13583=$A17),ROW(creg185!$S$2:$S$13583)-ROW(creg185!$S$2)+1),COUNTIF($A$17:$A17,$A17))),"")} -> ENEL COLOMBIA S.A. E.S.P
A18: 46270 | B18: {=IFERROR(INDEX(creg185!$B$2:$B$13583,SMALL(IF((creg185!$T$2:$T$13583="MENOR")*(creg185!$A$2:$A$13583=$A18),ROW(creg185!$S$2:$S$13583)-ROW(creg185!$S$2)+1),COUNTIF($A$17:$A18,$A18))),"")} -> GASES DEL CARIBE
A19: 46270 | B19: {=IFERROR(INDEX(creg185!$B$2:$B$13583,SMALL(IF((creg185!$T$2:$T$13583="MENOR")*(creg185!$A$2:$A$13583=$A19),ROW(creg185!$S$2:$S$13583)-ROW(creg185!$S$2)+1),COUNTIF($A$17:$A19,$A19))),"")} -> KRONOS ENERGY S.A.S E.S.P
A20: 46270 | B20: {=IFERROR(INDEX(creg185!$B$2:$B$13583,SMALL(IF((creg185!$T$2:$T$13583="MENOR")*(creg185!$A$2:$A$13583=$A20),ROW(creg185!$S$2:$S$13583)-ROW(creg185!$S$2)+1),COUNTIF($A$17:$A20,$A20))),"")} -> ORGANIZACION TERPEL S.A.
A21: 46270 | B21: {=IFERROR(INDEX(creg185!$B$2:$B$13583,SMALL(IF((creg185!$T$2:$T$13583="MENOR")*(creg185!$A$2:$A$13583=$A21),ROW(creg185!$S$2:$S$13583)-ROW(creg185!$S$2)+1),COUNTIF($A$17:$A21,$A21))),"")}
A22: 46270 | B22: {=IFERROR(INDEX(creg185!$B$2:$B$13583,SMALL(IF((creg185!$T$2:$T$13583="MENOR")*(creg185!$A$2:$A$13583=$A22),ROW(creg185!$S$2:$S$13583)-ROW(creg185!$S$2)+1),COUNTIF($A$17:$A22,$A22))),"")}
A23: 46270 | B23: {=IFERROR(INDEX(creg185!$B$2:$B$13583,SMALL(IF((creg185!$T$2:$T$13583="MENOR")*(creg185!$A$2:$A$13583=$A23),ROW(creg185!$S$2:$S$13583)-ROW(creg185!$S$2)+1),COUNTIF($A$17:$A23,$A23))),"")}

Sheet 6
A1: REMITENTES CON SALDOS MAYORES DEL +5%
A2: Fecha | B2: Remitente
A3: 46271 | B3: {=IFERROR(INDEX(creg185!$B$2:$B$13583,SMALL(IF((creg185!$S$2:$S$13583="MAYOR")*(creg185!$A$2:$A$13583=$A3),ROW(creg185!$S$2:$S$13583)-ROW(creg185!$S$2)+1),COUNTIF($A$3:$A3,$A3))),"")} -> ENEL COLOMBIA S.A. E.S.P
A4: 46271 | B4: {=IFERROR(INDEX(creg185!$B$2:$B$13583,SMALL(IF((creg185!$S$2:$S$13583="MAYOR")*(creg185!$A$2:$A$13583=$A4),ROW(creg185!$S$2:$S$13583)-ROW(creg185!$S$2)+1),COUNTIF($A$3:$A4,$A4))),"")} -> GASES DEL LLANO
A5: 46271 | B5: {=IFERROR(INDEX(creg185!$B$2:$B$13583,SMALL(IF((creg185!$S$2:$S$13583="MAYOR")*(creg185!$A$2:$A$13583=$A5),ROW(creg185!$S$2:$S$13583)-ROW(creg185!$S$2)+1),COUNTIF($A$3:$A5,$A5))),"")} -> METROGAS DE COLOMBIA S.A. E.S.P.
A6: 46271 | B6: {=IFERROR(INDEX(creg185!$B$2:$B$13583,SMALL(IF((creg185!$S$2:$S$13583="MAYOR")*(creg185!$A$2:$A$13583=$A6),ROW(creg185!$S$2:$S$13583)-ROW(creg185!$S$2)+1),COUNTIF($A$3:$A6,$A6))),"")} -> ORGANIZACION TERPEL S.A.
A7: 46271 | B7: {=IFERROR(INDEX(creg185!$B$2:$B$13583,SMALL(IF((creg185!$S$2:$S$13583="MAYOR")*(creg185!$A$2:$A$13583=$A7),ROW(creg185!$S$2:$S$13583)-ROW(creg185!$S$2)+1),COUNTIF($A$3:$A7,$A7))),"")} -> VANTI SA ESP
A8: 46271 | B8: {=IFERROR(INDEX(creg185!$B$2:$B$13583,SMALL(IF((creg185!$S$2:$S$13583="MAYOR")*(creg185!$A$2:$A$13583=$A8),ROW(creg185!$S$2:$S$13583)-ROW(creg185!$S$2)+1),COUNTIF($A$3:$A8,$A8))),"")}
A9: 46271 | B9: {=IFERROR(INDEX(creg185!$B$2:$B$13583,SMALL(IF((creg185!$S$2:$S$13583="MAYOR")*(creg185!$A$2:$A$13583=$A9),ROW(creg185!$S$2:$S$13583)-ROW(creg185!$S$2)+1),COUNTIF($A$3:$A9,$A9))),"")}
A10: 46271 | B10: {=IFERROR(INDEX(creg185!$B$2:$B$13583,SMALL(IF((creg185!$S$2:$S$13583="MAYOR")*(creg185!$A$2:$A$13583=$A10),ROW(creg185!$S$2:$S$13583)-ROW(creg185!$S$2)+1),COUNTIF($A$3:$A10,$A10))),"")}
A11: 46271 | B11: {=IFERROR(INDEX(creg185!$B$2:$B$13583,SMALL(IF((creg185!$S$2:$S$13583="MAYOR")*(creg185!$A$2:$A$13583=$A11),ROW(creg185!$S$2:$S$13583)-ROW(creg185!$S$2)+1),COUNTIF($A$3:$A11,$A11))),"")}
A12: 46271 | B12: {=IFERROR(INDEX(creg185!$B$2:$B$13583,SMALL(IF((creg185!$S$2:$S$13583="MAYOR")*(creg185!$A$2:$A$13583=$A12),ROW(creg185!$S$2:$S$13583)-ROW(creg185!$S$2)+1),COUNTIF($A$3:$A12,$A12))),"")}
A15: REMITENTES CON SALDOS MENORES DEL -5%
A16: Fecha | B16: Remitente
A17: 46271 | B17: {=IFERROR(INDEX(creg185!$B$2:$B$13583,SMALL(IF((creg185!$T$2:$T$13583="MENOR")*(creg185!$A$2:$A$13583=$A17),ROW(creg185!$S$2:$S$13583)-ROW(creg185!$S$2)+1),COUNTIF($A$17:$A17,$A17))),"")} -> CENIT TRANSPORTEYLOGÍSTICA DE HIDROCARBUROS S.A.S
A18: 46271 | B18: {=IFERROR(INDEX(creg185!$B$2:$B$13583,SMALL(IF((creg185!$T$2:$T$13583="MENOR")*(creg185!$A$2:$A$13583=$A18),ROW(creg185!$S$2:$S$13583)-ROW(creg185!$S$2)+1),COUNTIF($A$17:$A18,$A18))),"")} -> GASES DEL CARIBE
A19: 46271 | B19: {=IFERROR(INDEX(creg185!$B$2:$B$13583,SMALL(IF((creg185!$T$2:$T$13583="MENOR")*(creg185!$A$2:$A$13583=$A19),ROW(creg185!$S$2:$S$13583)-ROW(creg185!$S$2)+1),COUNTIF($A$17:$A19,$A19))),"")} -> KRONOS ENERGY S.A.S E.S.P
A20: 46271 | B20: {=IFERROR(INDEX(creg185!$B$2:$B$13583,SMALL(IF((creg185!$T$2:$T$13583="MENOR")*(creg185!$A$2:$A$13583=$A20),ROW(creg185!$S$2:$S$13583)-ROW(creg185!$S$2)+1),COUNTIF($A$17:$A20,$A20))),"")}
A21: 46271 | B21: {=IFERROR(INDEX(creg185!$B$2:$B$13583,SMALL(IF((creg185!$T$2:$T$13583="MENOR")*(creg185!$A$2:$A$13583=$A21),ROW(creg185!$S$2:$S$13583)-ROW(creg185!$S$2)+1),COUNTIF($A$17:$A21,$A21))),"")}
A22: 46271 | B22: {=IFERROR(INDEX(creg185!$B$2:$B$13583,SMALL(IF((creg185!$T$2:$T$13583="MENOR")*(creg185!$A$2:$A$13583=$A22),ROW(creg185!$S$2:$S$13583)-ROW(creg185!$S$2)+1),COUNTIF($A$17:$A22,$A22))),"")}
A23: 46271 | B23: {=IFERROR(INDEX(creg185!$B$2:$B$13583,SMALL(IF((creg185!$T$2:$T$13583="MENOR")*(creg185!$A$2:$A$13583=$A23),ROW(creg185!$S$2:$S$13583)-ROW(creg185!$S$2)+1),COUNTIF($A$17:$A23,$A23))),"")}

Sheet 7
A1: REMITENTES CON SALDOS MAYORES DEL +5%
A2: Fecha | B2: Remitente
A3: 46274 | B3: {=IFERROR(INDEX(creg185!$B$2:$B$13583,SMALL(IF((creg185!$S$2:$S$13583="MAYOR")*(creg185!$A$2:$A$13583=$A3),ROW(creg185!$S$2:$S$13583)-ROW(creg185!$S$2)+1),COUNTIF($A$3:$A3,$A3))),"")} -> CENIT TRANSPORTEYLOGÍSTICA DE HIDROCARBUROS S.A.S
A4: 46274 | B4: {=IFERROR(INDEX(creg185!$B$2:$B$13583,SMALL(IF((creg185!$S$2:$S$13583="MAYOR")*(creg185!$A$2:$A$13583=$A4),ROW(creg185!$S$2:$S$13583)-ROW(creg185!$S$2)+1),COUNTIF($A$3:$A4,$A4))),"")} -> METROGAS DE COLOMBIA S.A. E.S.P.
A5: 46274 | B5: {=IFERROR(INDEX(creg185!$B$2:$B$13583,SMALL(IF((creg185!$S$2:$S$13583="MAYOR")*(creg185!$A$2:$A$13583=$A5),ROW(creg185!$S$2:$S$13583)-ROW(creg185!$S$2)+1),COUNTIF($A$3:$A5,$A5))),"")}
A6: 46274 | B6: {=IFERROR(INDEX(creg185!$B$2:$B$13583,SMALL(IF((creg185!$S$2:$S$13583="MAYOR")*(creg185!$A$2:$A$13583=$A6),ROW(creg185!$S$2:$S$13583)-ROW(creg185!$S$2)+1),COUNTIF($A$3:$A6,$A6))),"")}
A7: 46274 | B7: {=IFERROR(INDEX(creg185!$B$2:$B$13583,SMALL(IF((creg185!$S$2:$S$13583="MAYOR")*(creg185!$A$2:$A$13583=$A7),ROW(creg185!$S$2:$S$13583)-ROW(creg185!$S$2)+1),COUNTIF($A$3:$A7,$A7))),"")}
A8: 46274 | B8: {=IFERROR(INDEX(creg185!$B$2:$B$13583,SMALL(IF((creg185!$S$2:$S$13583="MAYOR")*(creg185!$A$2:$A$13583=$A8),ROW(creg185!$S$2:$S$13583)-ROW(creg185!$S$2)+1),COUNTIF($A$3:$A8,$A8))),"")}
A9: 46274 | B9: {=IFERROR(INDEX(creg185!$B$2:$B$13583,SMALL(IF((creg185!$S$2:$S$13583="MAYOR")*(creg185!$A$2:$A$13583=$A9),ROW(creg185!$S$2:$S$13583)-ROW(creg185!$S$2)+1),COUNTIF($A$3:$A9,$A9))),"")}
A10: 46274 | B10: {=IFERROR(INDEX(creg185!$B$2:$B$13583,SMALL(IF((creg185!$S$2:$S$13583="MAYOR")*(creg185!$A$2:$A$13583=$A10),ROW(creg185!$S$2:$S$13583)-ROW(creg185!$S$2)+1),COUNTIF($A$3:$A10,$A10))),"")}
A11: 46274 | B11: {=IFERROR(INDEX(creg185!$B$2:$B$13583,SMALL(IF((creg185!$S$2:$S$13583="MAYOR")*(creg185!$A$2:$A$13583=$A11),ROW(creg185!$S$2:$S$13583)-ROW(creg185!$S$2)+1),COUNTIF($A$3:$A11,$A11))),"")}
A12: 46274 | B12: {=IFERROR(INDEX(creg185!$B$2:$B$13583,SMALL(IF((creg185!$S$2:$S$13583="MAYOR")*(creg185!$A$2:$A$13583=$A12),ROW(creg185!$S$2:$S$13583)-ROW(creg185!$S$2)+1),COUNTIF($A$3:$A12,$A12))),"")}
A15: REMITENTES CON SALDOS MENORES DEL -5%
A16: Fecha | B16: Remitente
A17: 46274 | B17: {=IFERROR(INDEX(creg185!$B$2:$B$13583,SMALL(IF((creg185!$T$2:$T$13583="MENOR")*(creg185!$A$2:$A$13583=$A17),ROW(creg185!$S$2:$S$13583)-ROW(creg185!$S$2)+1),COUNTIF($A$17:$A17,$A17))),"")} -> ENEL COLOMBIA S.A. E.S.P
A18: 46274 | B18: {=IFERROR(INDEX(creg185!$B$2:$B$13583,SMALL(IF((creg185!$T$2:$T$13583="MENOR")*(creg185!$A$2:$A$13583=$A18),ROW(creg185!$S$2:$S$13583)-ROW(creg185!$S$2)+1),COUNTIF($A$17:$A18,$A18))),"")} -> ORGANIZACION TERPEL S.A.
A19: 46274 | B19: {=IFERROR(INDEX(creg185!$B$2:$B$13583,SMALL(IF((creg185!$T$2:$T$13583="MENOR")*(creg185!$A$2:$A$13583=$A19),ROW(creg185!$S$2:$S$13583)-ROW(creg185!$S$2)+1),COUNTIF($A$17:$A19,$A19))),"")} -> PERENCO COLOMBIA LTD.
A20: 46274 | B20: {=IFERROR(INDEX(creg185!$B$2:$B$13583,SMALL(IF((creg185!$T$2:$T$13583="MENOR")*(creg185!$A$2:$A$13583=$A20),ROW(creg185!$S$2:$S$13583)-ROW(creg185!$S$2)+1),COUNTIF($A$17:$A20,$A20))),"")}
A21: 46274 | B21: {=IFERROR(INDEX(creg185!$B$2:$B$13583,SMALL(IF((creg185!$T$2:$T$13583="MENOR")*(creg185!$A$2:$A$13583=$A21),ROW(creg185!$S$2:$S$13583)-ROW(creg185!$S$2)+1),COUNTIF($A$17:$A21,$A21))),"")}
A22: 46274 | B22: {=IFERROR(INDEX(creg185!$B$2:$B$13583,SMALL(IF((creg185!$T$2:$T$13583="MENOR")*(creg185!$A$2:$A$13583=$A22),ROW(creg185!$S$2:$S$13583)-ROW(creg185!$S$2)+1),COUNTIF($A$17:$A22,$A22))),"")}
A23: 46274 | B23: {=IFERROR(INDEX(creg185!$B$2:$B$13583,SMALL(IF((creg185!$T$2:$T$13583="MENOR")*(creg185!$A$2:$A$13583=$A23),ROW(creg185!$S$2:$S$13583)-ROW(creg185!$S$2)+1),COUNTIF($A$17:$A23,$A23))),"")}

Sheet 8
A1: REMITENTES CON SALDOS MAYORES DEL +5%
A2: Fecha | B2: Remitente
A3: 46274 | B3: {=IFERROR(INDEX(creg185!$B$2:$B$13583,SMALL(IF((creg185!$S$2:$S$13583="MAYOR")*(creg185!$A$2:$A$13583=$A3),ROW(creg185!$S$2:$S$13583)-ROW(creg185!$S$2)+1),COUNTIF($A$3:$A3,$A3))),"")} -> CENIT TRANSPORTEYLOGÍSTICA DE HIDROCARBUROS S.A.S
A4: 46274 | B4: {=IFERROR(INDEX(creg185!$B$2:$B$13583,SMALL(IF((creg185!$S$2:$S$13583="MAYOR")*(creg185!$A$2:$A$13583=$A4),ROW(creg185!$S$2:$S$13583)-ROW(creg185!$S$2)+1),COUNTIF($A$3:$A4,$A4))),"")} -> METROGAS DE COLOMBIA S.A. E.S.P.
A5: 46274 | B5: {=IFERROR(INDEX(creg185!$B$2:$B$13583,SMALL(IF((creg185!$S$2:$S$13583="MAYOR")*(creg185!$A$2:$A$13583=$A5),ROW(creg185!$S$2:$S$13583)-ROW(creg185!$S$2)+1),COUNTIF($A$3:$A5,$A5))),"")}
A6: 46274 | B6: {=IFERROR(INDEX(creg185!$B$2:$B$13583,SMALL(IF((creg185!$S$2:$S$13583="MAYOR")*(creg185!$A$2:$A$13583=$A6),ROW(creg185!$S$2:$S$13583)-ROW(creg185!$S$2)+1),COUNTIF($A$3:$A6,$A6))),"")}
A7: 46274 | B7: {=IFERROR(INDEX(creg185!$B$2:$B$13583,SMALL(IF((creg185!$S$2:$S$13583="MAYOR")*(creg185!$A$2:$A$13583=$A7),ROW(creg185!$S$2:$S$13583)-ROW(creg185!$S$2)+1),COUNTIF($A$3:$A7,$A7))),"")}
A8: 46274 | B8: {=IFERROR(INDEX(creg185!$B$2:$B$13583,SMALL(IF((creg185!$S$2:$S$13583="MAYOR")*(creg185!$A$2:$A$13583=$A8),ROW(creg185!$S$2:$S$13583)-ROW(creg185!$S$2)+1),COUNTIF($A$3:$A8,$A8))),"")}
A9: 46274 | B9: {=IFERROR(INDEX(creg185!$B$2:$B$13583,SMALL(IF((creg185!$S$2:$S$13583="MAYOR")*(creg185!$A$2:$A$13583=$A9),ROW(creg185!$S$2:$S$13583)-ROW(creg185!$S$2)+1),COUNTIF($A$3:$A9,$A9))),"")}
A10: 46274 | B10: {=IFERROR(INDEX(creg185!$B$2:$B$13583,SMALL(IF((creg185!$S$2:$S$13583="MAYOR")*(creg185!$A$2:$A$13583=$A10),ROW(creg185!$S$2:$S$13583)-ROW(creg185!$S$2)+1),COUNTIF($A$3:$A10,$A10))),"")}
A11: 46274 | B11: {=IFERROR(INDEX(creg185!$B$2:$B$13583,SMALL(IF((creg185!$S$2:$S$13583="MAYOR")*(creg185!$A$2:$A$13583=$A11),ROW(creg185!$S$2:$S$13583)-ROW(creg185!$S$2)+1),COUNTIF($A$3:$A11,$A11))),"")}
A12: 46274 | B12: {=IFERROR(INDEX(creg185!$B$2:$B$13583,SMALL(IF((creg185!$S$2:$S$13583="MAYOR")*(creg185!$A$2:$A$13583=$A12),ROW(creg185!$S$2:$S$13583)-ROW(creg185!$S$2)+1),COUNTIF($A$3:$A12,$A12))),"")}
A15: REMITENTES CON SALDOS MENORES DEL -5%
A16: Fecha | B16: Remitente
A17: 46274 | B17: {=IFERROR(INDEX(creg185!$B$2:$B$13583,SMALL(IF((creg185!$T$2:$T$13583="MENOR")*(creg185!$A$2:$A$13583=$A17),ROW(creg185!$S$2:$S$13583)-ROW(creg185!$S$2)+1),COUNTIF($A$17:$A17,$A17))),"")} -> ENEL COLOMBIA S.A. E.S.P
A18: 46274 | B18: {=IFERROR(INDEX(creg185!$B$2:$B$13583,SMALL(IF((creg185!$T$2:$T$13583="MENOR")*(creg185!$A$2:$A$13583=$A18),ROW(creg185!$S$2:$S$13583)-ROW(creg185!$S$2)+1),COUNTIF($A$17:$A18,$A18))),"")} -> ORGANIZACION TERPEL S.A.
A19: 46274 | B19: {=IFERROR(INDEX(creg185!$B$2:$B$13583,SMALL(IF((creg185!$T$2:$T$13583="MENOR")*(creg185!$A$2:$A$13583=$A19),ROW(creg185!$S$2:$S$13583)-ROW(creg185!$S$2)+1),COUNTIF($A$17:$A19,$A19))),"")} -> PERENCO COLOMBIA LTD.
A20: 46274 | B20: {=IFERROR(INDEX(creg185!$B$2:$B$13583,SMALL(IF((creg185!$T$2:$T$13583="MENOR")*(creg185!$A$2:$A$13583=$A20),ROW(creg185!$S$2:$S$13583)-ROW(creg185!$S$2)+1),COUNTIF($A$17:$A20,$A20))),"")}
A21: 46274 | B21: {=IFERROR(INDEX(creg185!$B$2:$B$13583,SMALL(IF((creg185!$T$2:$T$13583="MENOR")*(creg185!$A$2:$A$13583=$A21),ROW(creg185!$S$2:$S$13583)-ROW(creg185!$S$2)+1),COUNTIF($A$17:$A21,$A21))),"")}
A22: 46274 | B22: {=IFERROR(INDEX(creg185!$B$2:$B$13583,SMALL(IF((creg185!$T$2:$T$13583="MENOR")*(creg185!$A$2:$A$13583=$A22),ROW(creg185!$S$2:$S$13583)-ROW(creg185!$S$2)+1),COUNTIF($A$17:$A22,$A22))),"")}
A23: 46274 | B23: {=IFERROR(INDEX(creg185!$B$2:$B$13583,SMALL(IF((creg185!$T$2:$T$13583="MENOR")*(creg185!$A$2:$A$13583=$A23),ROW(creg185!$S$2:$S$13583)-ROW(creg185!$S$2)+1),COUNTIF($A$17:$A23,$A23))),"")}

Sheet 9
A1: REMITENTES CON SALDOS MAYORES DEL +5%
A2: Fecha | B2: Remitente
A3: 46274 | B3: {=IFERROR(INDEX(creg185!$B$2:$B$13583,SMALL(IF((creg185!$S$2:$S$13583="MAYOR")*(creg185!$A$2:$A$13583=$A3),ROW(creg185!$S$2:$S$13583)-ROW(creg185!$S$2)+1),COUNTIF($A$3:$A3,$A3))),"")} -> CENIT TRANSPORTEYLOGÍSTICA DE HIDROCARBUROS S.A.S
A4: 46274 | B4: {=IFERROR(INDEX(creg185!$B$2:$B$13583,SMALL(IF((creg185!$S$2:$S$13583="MAYOR")*(creg185!$A$2:$A$13583=$A4),ROW(creg185!$S$2:$S$13583)-ROW(creg185!$S$2)+1),COUNTIF($A$3:$A4,$A4))),"")} -> METROGAS DE COLOMBIA S.A. E.S.P.
A5: 46274 | B5: {=IFERROR(INDEX(creg185!$B$2:$B$13583,SMALL(IF((creg185!$S$2:$S$13583="MAYOR")*(creg185!$A$2:$A$13583=$A5),ROW(creg185!$S$2:$S$13583)-ROW(creg185!$S$2)+1),COUNTIF($A$3:$A5,$A5))),"")}
A6: 46274 | B6: {=IFERROR(INDEX(creg185!$B$2:$B$13583,SMALL(IF((creg185!$S$2:$S$13583="MAYOR")*(creg185!$A$2:$A$13583=$A6),ROW(creg185!$S$2:$S$13583)-ROW(creg185!$S$2)+1),COUNTIF($A$3:$A6,$A6))),"")}
A7: 46274 | B7: {=IFERROR(INDEX(creg185!$B$2:$B$13583,SMALL(IF((creg185!$S$2:$S$13583="MAYOR")*(creg185!$A$2:$A$13583=$A7),ROW(creg185!$S$2:$S$13583)-ROW(creg185!$S$2)+1),COUNTIF($A$3:$A7,$A7))),"")}
A8: 46274 | B8: {=IFERROR(INDEX(creg185!$B$2:$B$13583,SMALL(IF((creg185!$S$2:$S$13583="MAYOR")*(creg185!$A$2:$A$13583=$A8),ROW(creg185!$S$2:$S$13583)-ROW(creg185!$S$2)+1),COUNTIF($A$3:$A8,$A8))),"")}
A9: 46274 | B9: {=IFERROR(INDEX(creg185!$B$2:$B$13583,SMALL(IF((creg185!$S$2:$S$13583="MAYOR")*(creg185!$A$2:$A$13583=$A9),ROW(creg185!$S$2:$S$13583)-ROW(creg185!$S$2)+1),COUNTIF($A$3:$A9,$A9))),"")}
A10: 46274 | B10: {=IFERROR(INDEX(creg185!$B$2:$B$13583,SMALL(IF((creg185!$S$2:$S$13583="MAYOR")*(creg185!$A$2:$A$13583=$A10),ROW(creg185!$S$2:$S$13583)-ROW(creg185!$S$2)+1),COUNTIF($A$3:$A10,$A10))),"")}
A11: 46274 | B11: {=IFERROR(INDEX(creg185!$B$2:$B$13583,SMALL(IF((creg185!$S$2:$S$13583="MAYOR")*(creg185!$A$2:$A$13583=$A11),ROW(creg185!$S$2:$S$13583)-ROW(creg185!$S$2)+1),COUNTIF($A$3:$A11,$A11))),"")}
A12: 46274 | B12: {=IFERROR(INDEX(creg185!$B$2:$B$13583,SMALL(IF((creg185!$S$2:$S$13583="MAYOR")*(creg185!$A$2:$A$13583=$A12),ROW(creg185!$S$2:$S$13583)-ROW(creg185!$S$2)+1),COUNTIF($A$3:$A12,$A12))),"")}
A15: REMITENTES CON SALDOS MENORES DEL -5%
A16: Fecha | B16: Remitente
A17: 46274 | B17: {=IFERROR(INDEX(creg185!$B$2:$B$13583,SMALL(IF((creg185!$T$2:$T$13583="MENOR")*(creg185!$A$2:$A$13583=$A17),ROW(creg185!$S$2:$S$13583)-ROW(creg185!$S$2)+1),COUNTIF($A$17:$A17,$A17))),"")} -> ENEL COLOMBIA S.A. E.S.P
A18: 46274 | B18: {=IFERROR(INDEX(creg185!$B$2:$B$13583,SMALL(IF((creg185!$T$2:$T$13583="MENOR")*(creg185!$A$2:$A$13583=$A18),ROW(creg185!$S$2:$S$13583)-ROW(creg185!$S$2)+1),COUNTIF($A$17:$A18,$A18))),"")} -> ORGANIZACION TERPEL S.A.
A19: 46274 | B19: {=IFERROR(INDEX(creg185!$B$2:$B$13583,SMALL(IF((creg185!$T$2:$T$13583="MENOR")*(creg185!$A$2:$A$13583=$A19),ROW(creg185!$S$2:$S$13583)-ROW(creg185!$S$2)+1),COUNTIF($A$17:$A19,$A19))),"")} -> PERENCO COLOMBIA LTD.
A20: 46274 | B20: {=IFERROR(INDEX(creg185!$B$2:$B$13583,SMALL(IF((creg185!$T$2:$T$13583="MENOR")*(creg185!$A$2:$A$13583=$A20),ROW(creg185!$S$2:$S$13583)-ROW(creg185!$S$2)+1),COUNTIF($A$17:$A20,$A20))),"")}
A21: 46274 | B21: {=IFERROR(INDEX(creg185!$B$2:$B$13583,SMALL(IF((creg185!$T$2:$T$13583="MENOR")*(creg185!$A$2:$A$13583=$A21),ROW(creg185!$S$2:$S$13583)-ROW(creg185!$S$2)+1),COUNTIF($A$17:$A21,$A21))),"")}
A22: 46274 | B22: {=IFERROR(INDEX(creg185!$B$2:$B$13583,SMALL(IF((creg185!$T$2:$T$13583="MENOR")*(creg185!$A$2:$A$13583=$A22),ROW(creg185!$S$2:$S$13583)-ROW(creg185!$S$2)+1),COUNTIF($A$17:$A22,$A22))),"")}
A23: 46274 | B23: {=IFERROR(INDEX(creg185!$B$2:$B$13583,SMALL(IF((creg185!$T$2:$T$13583="MENOR")*(creg185!$A$2:$A$13583=$A23),ROW(creg185!$S$2:$S$13583)-ROW(creg185!$S$2)+1),COUNTIF($A$17:$A23,$A23))),"")}

Sheet 10
A1: REMITENTES CON SALDOS MAYORES DEL +5%
A2: Fecha | B2: Remitente
A3: 46275 | B3: {=IFERROR(INDEX(creg185!$B$2:$B$13583,SMALL(IF((creg185!$S$2:$S$13583="MAYOR")*(creg185!$A$2:$A$13583=$A3),ROW(creg185!$S$2:$S$13583)-ROW(creg185!$S$2)+1),COUNTIF($A$3:$A3,$A3))),"")} -> CENIT TRANSPORTEYLOGÍSTICA DE HIDROCARBUROS S.A.S
A4: 46275 | B4: {=IFERROR(INDEX(creg185!$B$2:$B$13583,SMALL(IF((creg185!$S$2:$S$13583="MAYOR")*(creg185!$A$2:$A$13583=$A4),ROW(creg185!$S$2:$S$13583)-ROW(creg185!$S$2)+1),COUNTIF($A$3:$A4,$A4))),"")} -> METROGAS DE COLOMBIA S.A. E.S.P.
A5: 46275 | B5: {=IFERROR(INDEX(creg185!$B$2:$B$13583,SMALL(IF((creg185!$S$2:$S$13583="MAYOR")*(creg185!$A$2:$A$13583=$A5),ROW(creg185!$S$2:$S$13583)-ROW(creg185!$S$2)+1),COUNTIF($A$3:$A5,$A5))),"")}
A6: 46275 | B6: {=IFERROR(INDEX(creg185!$B$2:$B$13583,SMALL(IF((creg185!$S$2:$S$13583="MAYOR")*(creg185!$A$2:$A$13583=$A6),ROW(creg185!$S$2:$S$13583)-ROW(creg185!$S$2)+1),COUNTIF($A$3:$A6,$A6))),"")}
A7: 46275 | B7: {=IFERROR(INDEX(creg185!$B$2:$B$13583,SMALL(IF((creg185!$S$2:$S$13583="MAYOR")*(creg185!$A$2:$A$13583=$A7),ROW(creg185!$S$2:$S$13583)-ROW(creg185!$S$2)+1),COUNTIF($A$3:$A7,$A7))),"")}
A8: 46275 | B8: {=IFERROR(INDEX(creg185!$B$2:$B$13583,SMALL(IF((creg185!$S$2:$S$13583="MAYOR")*(creg185!$A$2:$A$13583=$A8),ROW(creg185!$S$2:$S$13583)-ROW(creg185!$S$2)+1),COUNTIF($A$3:$A8,$A8))),"")}
A9: 46275 | B9: {=IFERROR(INDEX(creg185!$B$2:$B$13583,SMALL(IF((creg185!$S$2:$S$13583="MAYOR")*(creg185!$A$2:$A$13583=$A9),ROW(creg185!$S$2:$S$13583)-ROW(creg185!$S$2)+1),COUNTIF($A$3:$A9,$A9))),"")}
A10: 46275 | B10: {=IFERROR(INDEX(creg185!$B$2:$B$13583,SMALL(IF((creg185!$S$2:$S$13583="MAYOR")*(creg185!$A$2:$A$13583=$A10),ROW(creg185!$S$2:$S$13583)-ROW(creg185!$S$2)+1),COUNTIF($A$3:$A10,$A10))),"")}
A11: 46275 | B11: {=IFERROR(INDEX(creg185!$B$2:$B$13583,SMALL(IF((creg185!$S$2:$S$13583="MAYOR")*(creg185!$A$2:$A$13583=$A11),ROW(creg185!$S$2:$S$13583)-ROW(creg185!$S$2)+1),COUNTIF($A$3:$A11,$A11))),"")}
A12: 46275 | B12: {=IFERROR(INDEX(creg185!$B$2:$B$13583,SMALL(IF((creg185!$S$2:$S$13583="MAYOR")*(creg185!$A$2:$A$13583=$A12),ROW(creg185!$S$2:$S$13583)-ROW(creg185!$S$2)+1),COUNTIF($A$3:$A12,$A12))),"")}
A15: REMITENTES CON SALDOS MENORES DEL -5%
A16: Fecha | B16: Remitente
A17: 46275 | B17: {=IFERROR(INDEX(creg185!$B$2:$B$13583,SMALL(IF((creg185!$T$2:$T$13583="MENOR")*(creg185!$A$2:$A$13583=$A17),ROW(creg185!$S$2:$S$13583)-ROW(creg185!$S$2)+1),COUNTIF($A$17:$A17,$A17))),"")} -> ENEL COLOMBIA S.A. E.S.P
A18: 46275 | B18: {=IFERROR(INDEX(creg185!$B$2:$B$13583,SMALL(IF((creg185!$T$2:$T$13583="MENOR")*(creg185!$A$2:$A$13583=$A18),ROW(creg185!$S$2:$S$13583)-ROW(creg185!$S$2)+1),COUNTIF($A$17:$A18,$A18))),"")} -> KRONOS ENERGY S.A.S E.S.P
A19: 46275 | B19: {=IFERROR(INDEX(creg185!$B$2:$B$13583,SMALL(IF((creg185!$T$2:$T$13583="MENOR")*(creg185!$A$2:$A$13583=$A19),ROW(creg185!$S$2:$S$13583)-ROW(creg185!$S$2)+1),COUNTIF($A$17:$A19,$A19))),"")} -> ORGANIZACION TERPEL S.A.
A20: 46275 | B20: {=IFERROR(INDEX(creg185!$B$2:$B$13583,SMALL(IF((creg185!$T$2:$T$13583="MENOR")*(creg185!$A$2:$A$13583=$A20),ROW(creg185!$S$2:$S$13583)-ROW(creg185!$S$2)+1),COUNTIF($A$17:$A20,$A20))),"")}
A21: 46275 | B21: {=IFERROR(INDEX(creg185!$B$2:$B$13583,SMALL(IF((creg185!$T$2:$T$13583="MENOR")*(creg185!$A$2:$A$13583=$A21),ROW(creg185!$S$2:$S$13583)-ROW(creg185!$S$2)+1),COUNTIF($A$17:$A21,$A21))),"")}
A22: 46275 | B22: {=IFERROR(INDEX(creg185!$B$2:$B$13583,SMALL(IF((creg185!$T$2:$T$13583="MENOR")*(creg185!$A$2:$A$13583=$A22),ROW(creg185!$S$2:$S$13583)-ROW(creg185!$S$2)+1),COUNTIF($A$17:$A22,$A22))),"")}
A23: 46275 | B23: {=IFERROR(INDEX(creg185!$B$2:$B$13583,SMALL(IF((creg185!$T$2:$T$13583="MENOR")*(creg185!$A$2:$A$13583=$A23),ROW(creg185!$S$2:$S$13583)-ROW(creg185!$S$2)+1),COUNTIF($A$17:$A23,$A23))),"")}

Sheet 11
A1: REMITENTES CON SALDOS MAYORES DEL +5%
A2: Fecha | B2: Remitente
A3: 46276 | B3: {=IFERROR(INDEX(creg185!$B$2:$B$13583,SMALL(IF((creg185!$S$2:$S$13583="MAYOR")*(creg185!$A$2:$A$13583=$A3),ROW(creg185!$S$2:$S$13583)-ROW(creg185!$S$2)+1),COUNTIF($A$3:$A3,$A3))),"")} -> METROGAS DE COLOMBIA S.A. E.S.P.
A4: 46276 | B4: {=IFERROR(INDEX(creg185!$B$2:$B$13583,SMALL(IF((creg185!$S$2:$S$13583="MAYOR")*(creg185!$A$2:$A$13583=$A4),ROW(creg185!$S$2:$S$13583)-ROW(creg185!$S$2)+1),COUNTIF($A$3:$A4,$A4))),"")} -> VANTI SA ESP
A5: 46276 | B5: {=IFERROR(INDEX(creg185!$B$2:$B$13583,SMALL(IF((creg185!$S$2:$S$13583="MAYOR")*(creg185!$A$2:$A$13583=$A5),ROW(creg185!$S$2:$S$13583)-ROW(creg185!$S$2)+1),COUNTIF($A$3:$A5,$A5))),"")}
A6: 46276 | B6: {=IFERROR(INDEX(creg185!$B$2:$B$13583,SMALL(IF((creg185!$S$2:$S$13583="MAYOR")*(creg185!$A$2:$A$13583=$A6),ROW(creg185!$S$2:$S$13583)-ROW(creg185!$S$2)+1),COUNTIF($A$3:$A6,$A6))),"")}
A7: 46276 | B7: {=IFERROR(INDEX(creg185!$B$2:$B$13583,SMALL(IF((creg185!$S$2:$S$13583="MAYOR")*(creg185!$A$2:$A$13583=$A7),ROW(creg185!$S$2:$S$13583)-ROW(creg185!$S$2)+1),COUNTIF($A$3:$A7,$A7))),"")}
A8: 46276 | B8: {=IFERROR(INDEX(creg185!$B$2:$B$13583,SMALL(IF((creg185!$S$2:$S$13583="MAYOR")*(creg185!$A$2:$A$13583=$A8),ROW(creg185!$S$2:$S$13583)-ROW(creg185!$S$2)+1),COUNTIF($A$3:$A8,$A8))),"")}
A9: 46276 | B9: {=IFERROR(INDEX(creg185!$B$2:$B$13583,SMALL(IF((creg185!$S$2:$S$13583="MAYOR")*(creg185!$A$2:$A$13583=$A9),ROW(creg185!$S$2:$S$13583)-ROW(creg185!$S$2)+1),COUNTIF($A$3:$A9,$A9))),"")}
A10: 46276 | B10: {=IFERROR(INDEX(creg185!$B$2:$B$13583,SMALL(IF((creg185!$S$2:$S$13583="MAYOR")*(creg185!$A$2:$A$13583=$A10),ROW(creg185!$S$2:$S$13583)-ROW(creg185!$S$2)+1),COUNTIF($A$3:$A10,$A10))),"")}
A11: 46276 | B11: {=IFERROR(INDEX(creg185!$B$2:$B$13583,SMALL(IF((creg185!$S$2:$S$13583="MAYOR")*(creg185!$A$2:$A$13583=$A11),ROW(creg185!$S$2:$S$13583)-ROW(creg185!$S$2)+1),COUNTIF($A$3:$A11,$A11))),"")}
A12: 46276 | B12: {=IFERROR(INDEX(creg185!$B$2:$B$13583,SMALL(IF((creg185!$S$2:$S$13583="MAYOR")*(creg185!$A$2:$A$13583=$A12),ROW(creg185!$S$2:$S$13583)-ROW(creg185!$S$2)+1),COUNTIF($A$3:$A12,$A12))),"")}
A15: REMITENTES CON SALDOS MENORES DEL -5%
A16: Fecha | B16: Remitente
A17: 46276 | B17: {=IFERROR(INDEX(creg185!$B$2:$B$13583,SMALL(IF((creg185!$T$2:$T$13583="MENOR")*(creg185!$A$2:$A$13583=$A17),ROW(creg185!$S$2:$S$13583)-ROW(creg185!$S$2)+1),COUNTIF($A$17:$A17,$A17))),"")} -> GASES DEL CARIBE
A18: 46276 | B18: {=IFERROR(INDEX(creg185!$B$2:$B$13583,SMALL(IF((creg185!$T$2:$T$13583="MENOR")*(creg185!$A$2:$A$13583=$A18),ROW(creg185!$S$2:$S$13583)-ROW(creg185!$S$2)+1),COUNTIF($A$17:$A18,$A18))),"")} -> KRONOS ENERGY S.A.S E.S.P
A19: 46276 | B19: {=IFERROR(INDEX(creg185!$B$2:$B$13583,SMALL(IF((creg185!$T$2:$T$13583="MENOR")*(creg185!$A$2:$A$13583=$A19),ROW(creg185!$S$2:$S$13583)-ROW(creg185!$S$2)+1),COUNTIF($A$17:$A19,$A19))),"")} -> ORGANIZACION TERPEL S.A.
A20: 46276 | B20: {=IFERROR(INDEX(creg185!$B$2:$B$13583,SMALL(IF((creg185!$T$2:$T$13583="MENOR")*(creg185!$A$2:$A$13583=$A20),ROW(creg185!$S$2:$S$13583)-ROW(creg185!$S$2)+1),COUNTIF($A$17:$A20,$A20))),"")}
A21: 46276 | B21: {=IFERROR(INDEX(creg185!$B$2:$B$13583,SMALL(IF((creg185!$T$2:$T$13583="MENOR")*(creg185!$A$2:$A$13583=$A21),ROW(creg185!$S$2:$S$13583)-ROW(creg185!$S$2)+1),COUNTIF($A$17:$A21,$A21))),"")}
A22: 46276 | B22: {=IFERROR(INDEX(creg185!$B$2:$B$13583,SMALL(IF((creg185!$T$2:$T$13583="MENOR")*(creg185!$A$2:$A$13583=$A22),ROW(creg185!$S$2:$S$13583)-ROW(creg185!$S$2)+1),COUNTIF($A$17:$A22,$A22))),"")}
A23: 46276 | B23: {=IFERROR(INDEX(creg185!$B$2:$B$13583,SMALL(IF((creg185!$T$2:$T$13583="MENOR")*(creg185!$A$2:$A$13583=$A23),ROW(creg185!$S$2:$S$13583)-ROW(creg185!$S$2)+1),COUNTIF($A$17:$A23,$A23))),"")}

Sheet 12
A1: REMITENTES CON SALDOS MAYORES DEL +5%
A2: Fecha | B2: Remitente
A3: 46277 | B3: {=IFERROR(INDEX(creg185!$B$2:$B$13583,SMALL(IF((creg185!$S$2:$S$13583="MAYOR")*(creg185!$A$2:$A$13583=$A3),ROW(creg185!$S$2:$S$13583)-ROW(creg185!$S$2)+1),COUNTIF($A$3:$A3,$A3))),"")} -> ENEL COLOMBIA S.A. E.S.P
A4: 46277 | B4: {=IFERROR(INDEX(creg185!$B$2:$B$13583,SMALL(IF((creg185!$S$2:$S$13583="MAYOR")*(creg185!$A$2:$A$13583=$A4),ROW(creg185!$S$2:$S$13583)-ROW(creg185!$S$2)+1),COUNTIF($A$3:$A4,$A4))),"")} -> METROGAS DE COLOMBIA S.A. E.S.P.
A5: 46277 | B5: {=IFERROR(INDEX(creg185!$B$2:$B$13583,SMALL(IF((creg185!$S$2:$S$13583="MAYOR")*(creg185!$A$2:$A$13583=$A5),ROW(creg185!$S$2:$S$13583)-ROW(creg185!$S$2)+1),COUNTIF($A$3:$A5,$A5))),"")} -> PERENCO COLOMBIA LTD.
A6: 46277 | B6: {=IFERROR(INDEX(creg185!$B$2:$B$13583,SMALL(IF((creg185!$S$2:$S$13583="MAYOR")*(creg185!$A$2:$A$13583=$A6),ROW(creg185!$S$2:$S$13583)-ROW(creg185!$S$2)+1),COUNTIF($A$3:$A6,$A6))),"")} -> VANTI SA ESP
A7: 46277 | B7: {=IFERROR(INDEX(creg185!$B$2:$B$13583,SMALL(IF((creg185!$S$2:$S$13583="MAYOR")*(creg185!$A$2:$A$13583=$A7),ROW(creg185!$S$2:$S$13583)-ROW(creg185!$S$2)+1),COUNTIF($A$3:$A7,$A7))),"")}
A8: 46277 | B8: {=IFERROR(INDEX(creg185!$B$2:$B$13583,SMALL(IF((creg185!$S$2:$S$13583="MAYOR")*(creg185!$A$2:$A$13583=$A8),ROW(creg185!$S$2:$S$13583)-ROW(creg185!$S$2)+1),COUNTIF($A$3:$A8,$A8))),"")}
A9: 46277 | B9: {=IFERROR(INDEX(creg185!$B$2:$B$13583,SMALL(IF((creg185!$S$2:$S$13583="MAYOR")*(creg185!$A$2:$A$13583=$A9),ROW(creg185!$S$2:$S$13583)-ROW(creg185!$S$2)+1),COUNTIF($A$3:$A9,$A9))),"")}
A10: 46277 | B10: {=IFERROR(INDEX(creg185!$B$2:$B$13583,SMALL(IF((creg185!$S$2:$S$13583="MAYOR")*(creg185!$A$2:$A$13583=$A10),ROW(creg185!$S$2:$S$13583)-ROW(creg185!$S$2)+1),COUNTIF($A$3:$A10,$A10))),"")}
A11: 46277 | B11: {=IFERROR(INDEX(creg185!$B$2:$B$13583,SMALL(IF((creg185!$S$2:$S$13583="MAYOR")*(creg185!$A$2:$A$13583=$A11),ROW(creg185!$S$2:$S$13583)-ROW(creg185!$S$2)+1),COUNTIF($A$3:$A11,$A11))),"")}
A12: 46277 | B12: {=IFERROR(INDEX(creg185!$B$2:$B$13583,SMALL(IF((creg185!$S$2:$S$13583="MAYOR")*(creg185!$A$2:$A$13583=$A12),ROW(creg185!$S$2:$S$13583)-ROW(creg185!$S$2)+1),COUNTIF($A$3:$A12,$A12))),"")}
A15: REMITENTES CON SALDOS MENORES DEL -5%
A16: Fecha | B16: Remitente
A17: 46277 | B17: {=IFERROR(INDEX(creg185!$B$2:$B$13583,SMALL(IF((creg185!$T$2:$T$13583="MENOR")*(creg185!$A$2:$A$13583=$A17),ROW(creg185!$S$2:$S$13583)-ROW(creg185!$S$2)+1),COUNTIF($A$17:$A17,$A17))),"")} -> KRONOS ENERGY S.A.S E.S.P
A18: 46277 | B18: {=IFERROR(INDEX(creg185!$B$2:$B$13583,SMALL(IF((creg185!$T$2:$T$13583="MENOR")*(creg185!$A$2:$A$13583=$A18),ROW(creg185!$S$2:$S$13583)-ROW(creg185!$S$2)+1),COUNTIF($A$17:$A18,$A18))),"")}
A19: 46277 | B19: {=IFERROR(INDEX(creg185!$B$2:$B$13583,SMALL(IF((creg185!$T$2:$T$13583="MENOR")*(creg185!$A$2:$A$13583=$A19),ROW(creg185!$S$2:$S$13583)-ROW(creg185!$S$2)+1),COUNTIF($A$17:$A19,$A19))),"")}
A20: 46277 | B20: {=IFERROR(INDEX(creg185!$B$2:$B$13583,SMALL(IF((creg185!$T$2:$T$13583="MENOR")*(creg185!$A$2:$A$13583=$A20),ROW(creg185!$S$2:$S$13583)-ROW(creg185!$S$2)+1),COUNTIF($A$17:$A20,$A20))),"")}
A21: 46277 | B21: {=IFERROR(INDEX(creg185!$B$2:$B$13583,SMALL(IF((creg185!$T$2:$T$13583="MENOR")*(creg185!$A$2:$A$13583=$A21),ROW(creg185!$S$2:$S$13583)-ROW(creg185!$S$2)+1),COUNTIF($A$17:$A21,$A21))),"")}
A22: 46277 | B22: {=IFERROR(INDEX(creg185!$B$2:$B$13583,SMALL(IF((creg185!$T$2:$T$13583="MENOR")*(creg185!$A$2:$A$13583=$A22),ROW(creg185!$S$2:$S$13583)-ROW(creg185!$S$2)+1),COUNTIF($A$17:$A22,$A22))),"")}
A23: 46277 | B23: {=IFERROR(INDEX(creg185!$B$2:$B$13583,SMALL(IF((creg185!$T$2:$T$13583="MENOR")*(creg185!$A$2:$A$13583=$A23),ROW(creg185!$S$2:$S$13583)-ROW(creg185!$S$2)+1),COUNTIF($A$17:$A23,$A23))),"")}

Sheet 13
A1: REMITENTES CON SALDOS MAYORES DEL +5%
A2: Fecha | B2: Remitente
A3: 46278 | B3: {=IFERROR(INDEX(creg185!$B$2:$B$13583,SMALL(IF((creg185!$S$2:$S$13583="MAYOR")*(creg185!$A$2:$A$13583=$A3),ROW(creg185!$S$2:$S$13583)-ROW(creg185!$S$2)+1),COUNTIF($A$3:$A3,$A3))),"")} -> EFIGAS GAS NATURAL S.A. E.S.P.
A4: 46278 | B4: {=IFERROR(INDEX(creg185!$B$2:$B$13583,SMALL(IF((creg185!$S$2:$S$13583="MAYOR")*(creg185!$A$2:$A$13583=$A4),ROW(creg185!$S$2:$S$13583)-ROW(creg185!$S$2)+1),COUNTIF($A$3:$A4,$A4))),"")} -> ENEL COLOMBIA S.A. E.S.P
A5: 46278 | B5: {=IFERROR(INDEX(creg185!$B$2:$B$13583,SMALL(IF((creg185!$S$2:$S$13583="MAYOR")*(creg185!$A$2:$A$13583=$A5),ROW(creg185!$S$2:$S$13583)-ROW(creg185!$S$2)+1),COUNTIF($A$3:$A5,$A5))),"")} -> METROGAS DE COLOMBIA S.A. E.S.P.
A6: 46278 | B6: {=IFERROR(INDEX(creg185!$B$2:$B$13583,SMALL(IF((creg185!$S$2:$S$13583="MAYOR")*(creg185!$A$2:$A$13583=$A6),ROW(creg185!$S$2:$S$13583)-ROW(creg185!$S$2)+1),COUNTIF($A$3:$A6,$A6))),"")} -> ORGANIZACION TERPEL S.A.
A7: 46278 | B7: {=IFERROR(INDEX(creg185!$B$2:$B$13583,SMALL(IF((creg185!$S$2:$S$13583="MAYOR")*(creg185!$A$2:$A$13583=$A7),ROW(creg185!$S$2:$S$13583)-ROW(creg185!$S$2)+1),COUNTIF($A$3:$A7,$A7))),"")} -> VANTI SA ESP
A8: 46278 | B8: {=IFERROR(INDEX(creg185!$B$2:$B$13583,SMALL(IF((creg185!$S$2:$S$13583="MAYOR")*(creg185!$A$2:$A$13583=$A8),ROW(creg185!$S$2:$S$13583)-ROW(creg185!$S$2)+1),COUNTIF($A$3:$A8,$A8))),"")}
A9: 46278 | B9: {=IFERROR(INDEX(creg185!$B$2:$B$13583,SMALL(IF((creg185!$S$2:$S$13583="MAYOR")*(creg185!$A$2:$A$13583=$A9),ROW(creg185!$S$2:$S$13583)-ROW(creg185!$S$2)+1),COUNTIF($A$3:$A9,$A9))),"")}
A10: 46278 | B10: {=IFERROR(INDEX(creg185!$B$2:$B$13583,SMALL(IF((creg185!$S$2:$S$13583="MAYOR")*(creg185!$A$2:$A$13583=$A10),ROW(creg185!$S$2:$S$13583)-ROW(creg185!$S$2)+1),COUNTIF($A$3:$A10,$A10))),"")}
A11: 46278 | B11: {=IFERROR(INDEX(creg185!$B$2:$B$13583,SMALL(IF((creg185!$S$2:$S$13583="MAYOR")*(creg185!$A$2:$A$13583=$A11),ROW(creg185!$S$2:$S$13583)-ROW(creg185!$S$2)+1),COUNTIF($A$3:$A11,$A11))),"")}
A12: 46278 | B12: {=IFERROR(INDEX(creg185!$B$2:$B$13583,SMALL(IF((creg185!$S$2:$S$13583="MAYOR")*(creg185!$A$2:$A$13583=$A12),ROW(creg185!$S$2:$S$13583)-ROW(creg185!$S$2)+1),COUNTIF($A$3:$A12,$A12))),"")}
A15: REMITENTES CON SALDOS MENORES DEL -5%
A16: Fecha | B16: Remitente
A17: 46278 | B17: {=IFERROR(INDEX(creg185!$B$2:$B$13583,SMALL(IF((creg185!$T$2:$T$13583="MENOR")*(creg185!$A$2:$A$13583=$A17),ROW(creg185!$S$2:$S$13583)-ROW(creg185!$S$2)+1),COUNTIF($A$17:$A17,$A17))),"")} -> CENIT TRANSPORTEYLOGÍSTICA DE HIDROCARBUROS S.A.S
A18: 46278 | B18: {=IFERROR(INDEX(creg185!$B$2:$B$13583,SMALL(IF((creg185!$T$2:$T$13583="MENOR")*(creg185!$A$2:$A$13583=$A18),ROW(creg185!$S$2:$S$13583)-ROW(creg185!$S$2)+1),COUNTIF($A$17:$A18,$A18))),"")} -> GASES DEL CARIBE
A19: 46278 | B19: {=IFERROR(INDEX(creg185!$B$2:$B$13583,SMALL(IF((creg185!$T$2:$T$13583="MENOR")*(creg185!$A$2:$A$13583=$A19),ROW(creg185!$S$2:$S$13583)-ROW(creg185!$S$2)+1),COUNTIF($A$17:$A19,$A19))),"")} -> KRONOS ENERGY S.A.S E.S.P
A20: 46278 | B20: {=IFERROR(INDEX(creg185!$B$2:$B$13583,SMALL(IF((creg185!$T$2:$T$13583="MENOR")*(creg185!$A$2:$A$13583=$A20),ROW(creg185!$S$2:$S$13583)-ROW(creg185!$S$2)+1),COUNTIF($A$17:$A20,$A20))),"")}
A21: 46278 | B21: {=IFERROR(INDEX(creg185!$B$2:$B$13583,SMALL(IF((creg185!$T$2:$T$13583="MENOR")*(creg185!$A$2:$A$13583=$A21),ROW(creg185!$S$2:$S$13583)-ROW(creg185!$S$2)+1),COUNTIF($A$17:$A21,$A21))),"")}
A22: 46278 | B22: {=IFERROR(INDEX(creg185!$B$2:$B$13583,SMALL(IF((creg185!$T$2:$T$13583="MENOR")*(creg185!$A$2:$A$13583=$A22),ROW(creg185!$S$2:$S$13583)-ROW(creg185!$S$2)+1),COUNTIF($A$17:$A22,$A22))),"")}
A23: 46278 | B23: {=IFERROR(INDEX(creg185!$B$2:$B$13583,SMALL(IF((creg185!$T$2:$T$13583="MENOR")*(creg185!$A$2:$A$13583=$A23),ROW(creg185!$S$2:$S$13583)-ROW(creg185!$S$2)+1),COUNTIF($A$17:$A23,$A23))),"")}

Sheet 14
A1: REMITENTES CON SALDOS MAYORES DEL +5%
A2: Fecha | B2: Remitente
A3: 46279 | B3: {=IFERROR(INDEX(creg185!$B$2:$B$13583,SMALL(IF((creg185!$S$2:$S$13583="MAYOR")*(creg185!$A$2:$A$13583=$A3),ROW(creg185!$S$2:$S$13583)-ROW(creg185!$S$2)+1),COUNTIF($A$3:$A3,$A3))),"")} -> EFIGAS GAS NATURAL S.A. E.S.P.
A4: 46279 | B4: {=IFERROR(INDEX(creg185!$B$2:$B$13583,SMALL(IF((creg185!$S$2:$S$13583="MAYOR")*(creg185!$A$2:$A$13583=$A4),ROW(creg185!$S$2:$S$13583)-ROW(creg185!$S$2)+1),COUNTIF($A$3:$A4,$A4))),"")} -> ENEL COLOMBIA S.A. E.S.P
A5: 46279 | B5: {=IFERROR(INDEX(creg185!$B$2:$B$13583,SMALL(IF((creg185!$S$2:$S$13583="MAYOR")*(creg185!$A$2:$A$13583=$A5),ROW(creg185!$S$2:$S$13583)-ROW(creg185!$S$2)+1),COUNTIF($A$3:$A5,$A5))),"")} -> GASES DEL LLANO
A6: 46279 | B6: {=IFERROR(INDEX(creg185!$B$2:$B$13583,SMALL(IF((creg185!$S$2:$S$13583="MAYOR")*(creg185!$A$2:$A$13583=$A6),ROW(creg185!$S$2:$S$13583)-ROW(creg185!$S$2)+1),COUNTIF($A$3:$A6,$A6))),"")} -> ORGANIZACION TERPEL S.A.
A7: 46279 | B7: {=IFERROR(INDEX(creg185!$B$2:$B$13583,SMALL(IF((creg185!$S$2:$S$13583="MAYOR")*(creg185!$A$2:$A$13583=$A7),ROW(creg185!$S$2:$S$13583)-ROW(creg185!$S$2)+1),COUNTIF($A$3:$A7,$A7))),"")} -> VANTI SA ESP
A8: 46279 | B8: {=IFERROR(INDEX(creg185!$B$2:$B$13583,SMALL(IF((creg185!$S$2:$S$13583="MAYOR")*(creg185!$A$2:$A$13583=$A8),ROW(creg185!$S$2:$S$13583)-ROW(creg185!$S$2)+1),COUNTIF($A$3:$A8,$A8))),"")}
A9: 46279 | B9: {=IFERROR(INDEX(creg185!$B$2:$B$13583,SMALL(IF((creg185!$S$2:$S$13583="MAYOR")*(creg185!$A$2:$A$13583=$A9),ROW(creg185!$S$2:$S$13583)-ROW(creg185!$S$2)+1),COUNTIF($A$3:$A9,$A9))),"")}
A10: 46279 | B10: {=IFERROR(INDEX(creg185!$B$2:$B$13583,SMALL(IF((creg185!$S$2:$S$13583="MAYOR")*(creg185!$A$2:$A$13583=$A10),ROW(creg185!$S$2:$S$13583)-ROW(creg185!$S$2)+1),COUNTIF($A$3:$A10,$A10))),"")}
A11: 46279 | B11: {=IFERROR(INDEX(creg185!$B$2:$B$13583,SMALL(IF((creg185!$S$2:$S$13583="MAYOR")*(creg185!$A$2:$A$13583=$A11),ROW(creg185!$S$2:$S$13583)-ROW(creg185!$S$2)+1),COUNTIF($A$3:$A11,$A11))),"")}
A12: 46279 | B12: {=IFERROR(INDEX(creg185!$B$2:$B$13583,SMALL(IF((creg185!$S$2:$S$13583="MAYOR")*(creg185!$A$2:$A$13583=$A12),ROW(creg185!$S$2:$S$13583)-ROW(creg185!$S$2)+1),COUNTIF($A$3:$A12,$A12))),"")}
A15: REMITENTES CON SALDOS MENORES DEL -5%
A16: Fecha | B16: Remitente
A17: 46279 | B17: {=IFERROR(INDEX(creg185!$B$2:$B$13583,SMALL(IF((creg185!$T$2:$T$13583="MENOR")*(creg185!$A$2:$A$13583=$A17),ROW(creg185!$S$2:$S$13583)-ROW(creg185!$S$2)+1),COUNTIF($A$17:$A17,$A17))),"")} -> CENIT TRANSPORTEYLOGÍSTICA DE HIDROCARBUROS S.A.S
A18: 46279 | B18: {=IFERROR(INDEX(creg185!$B$2:$B$13583,SMALL(IF((creg185!$T$2:$T$13583="MENOR")*(creg185!$A$2:$A$13583=$A18),ROW(creg185!$S$2:$S$13583)-ROW(creg185!$S$2)+1),COUNTIF($A$17:$A18,$A18))),"")} -> GASES DEL CARIBE
A19: 46279 | B19: {=IFERROR(INDEX(creg185!$B$2:$B$13583,SMALL(IF((creg185!$T$2:$T$13583="MENOR")*(creg185!$A$2:$A$13583=$A19),ROW(creg185!$S$2:$S$13583)-ROW(creg185!$S$2)+1),COUNTIF($A$17:$A19,$A19))),"")} -> KRONOS ENERGY S.A.S E.S.P
A20: 46279 | B20: {=IFERROR(INDEX(creg185!$B$2:$B$13583,SMALL(IF((creg185!$T$2:$T$13583="MENOR")*(creg185!$A$2:$A$13583=$A20),ROW(creg185!$S$2:$S$13583)-ROW(creg185!$S$2)+1),COUNTIF($A$17:$A20,$A20))),"")} -> METROGAS DE COLOMBIA S.A. E.S.P.
A21: 46279 | B21: {=IFERROR(INDEX(creg185!$B$2:$B$13583,SMALL(IF((creg185!$T$2:$T$13583="MENOR")*(creg185!$A$2:$A$13583=$A21),ROW(creg185!$S$2:$S$13583)-ROW(creg185!$S$2)+1),COUNTIF($A$17:$A21,$A21))),"")}
A22: 46279 | B22: {=IFERROR(INDEX(creg185!$B$2:$B$13583,SMALL(IF((creg185!$T$2:$T$13583="MENOR")*(creg185!$A$2:$A$13583=$A22),ROW(creg185!$S$2:$S$13583)-ROW(creg185!$S$2)+1),COUNTIF($A$17:$A22,$A22))),"")}
A23: 46279 | B23: {=IFERROR(INDEX(creg185!$B$2:$B$13583,SMALL(IF((creg185!$T$2:$T$13583="MENOR")*(creg185!$A$2:$A$13583=$A23),ROW(creg185!$S$2:$S$13583)-ROW(creg185!$S$2)+1),COUNTIF($A$17:$A23,$A23))),"")}

Sheet 15
A1: REMITENTES CON SALDOS MAYORES DEL +5%
A2: Fecha | B2: Remitente
A3: 46280 | B3: {=IFERROR(INDEX(creg185!$B$2:$B$13583,SMALL(IF((creg185!$S$2:$S$13583="MAYOR")*(creg185!$A$2:$A$13583=$A3),ROW(creg185!$S$2:$S$13583)-ROW(creg185!$S$2)+1),COUNTIF($A$3:$A3,$A3))),"")} -> ENEL COLOMBIA S.A. E.S.P
A4: 46280 | B4: {=IFERROR(INDEX(creg185!$B$2:$B$13583,SMALL(IF((creg185!$S$2:$S$13583="MAYOR")*(creg185!$A$2:$A$13583=$A4),ROW(creg185!$S$2:$S$13583)-ROW(creg185!$S$2)+1),COUNTIF($A$3:$A4,$A4))),"")} -> ORGANIZACION TERPEL S.A.
A5: 46280 | B5: {=IFERROR(INDEX(creg185!$B$2:$B$13583,SMALL(IF((creg185!$S$2:$S$13583="MAYOR")*(creg185!$A$2:$A$13583=$A5),ROW(creg185!$S$2:$S$13583)-ROW(creg185!$S$2)+1),COUNTIF($A$3:$A5,$A5))),"")} -> PERENCO COLOMBIA LTD.
A6: 46280 | B6: {=IFERROR(INDEX(creg185!$B$2:$B$13583,SMALL(IF((creg185!$S$2:$S$13583="MAYOR")*(creg185!$A$2:$A$13583=$A6),ROW(creg185!$S$2:$S$13583)-ROW(creg185!$S$2)+1),COUNTIF($A$3:$A6,$A6))),"")} -> VANTI SA ESP
A7: 46280 | B7: {=IFERROR(INDEX(creg185!$B$2:$B$13583,SMALL(IF((creg185!$S$2:$S$13583="MAYOR")*(creg185!$A$2:$A$13583=$A7),ROW(creg185!$S$2:$S$13583)-ROW(creg185!$S$2)+1),COUNTIF($A$3:$A7,$A7))),"")}
A8: 46280 | B8: {=IFERROR(INDEX(creg185!$B$2:$B$13583,SMALL(IF((creg185!$S$2:$S$13583="MAYOR")*(creg185!$A$2:$A$13583=$A8),ROW(creg185!$S$2:$S$13583)-ROW(creg185!$S$2)+1),COUNTIF($A$3:$A8,$A8))),"")}
A9: 46280 | B9: {=IFERROR(INDEX(creg185!$B$2:$B$13583,SMALL(IF((creg185!$S$2:$S$13583="MAYOR")*(creg185!$A$2:$A$13583=$A9),ROW(creg185!$S$2:$S$13583)-ROW(creg185!$S$2)+1),COUNTIF($A$3:$A9,$A9))),"")}
A10: 46280 | B10: {=IFERROR(INDEX(creg185!$B$2:$B$13583,SMALL(IF((creg185!$S$2:$S$13583="MAYOR")*(creg185!$A$2:$A$13583=$A10),ROW(creg185!$S$2:$S$13583)-ROW(creg185!$S$2)+1),COUNTIF($A$3:$A10,$A10))),"")}
A11: 46280 | B11: {=IFERROR(INDEX(creg185!$B$2:$B$13583,SMALL(IF((creg185!$S$2:$S$13583="MAYOR")*(creg185!$A$2:$A$13583=$A11),ROW(creg185!$S$2:$S$13583)-ROW(creg185!$S$2)+1),COUNTIF($A$3:$A11,$A11))),"")}
A12: 46280 | B12: {=IFERROR(INDEX(creg185!$B$2:$B$13583,SMALL(IF((creg185!$S$2:$S$13583="MAYOR")*(creg185!$A$2:$A$13583=$A12),ROW(creg185!$S$2:$S$13583)-ROW(creg185!$S$2)+1),COUNTIF($A$3:$A12,$A12))),"")}
A15: REMITENTES CON SALDOS MENORES DEL -5%
A16: Fecha | B16: Remitente
A17: 46280 | B17: {=IFERROR(INDEX(creg185!$B$2:$B$13583,SMALL(IF((creg185!$T$2:$T$13583="MENOR")*(creg185!$A$2:$A$13583=$A17),ROW(creg185!$S$2:$S$13583)-ROW(creg185!$S$2)+1),COUNTIF($A$17:$A17,$A17))),"")} -> GASES DEL CARIBE
A18: 46280 | B18: {=IFERROR(INDEX(creg185!$B$2:$B$13583,SMALL(IF((creg185!$T$2:$T$13583="MENOR")*(creg185!$A$2:$A$13583=$A18),ROW(creg185!$S$2:$S$13583)-ROW(creg185!$S$2)+1),COUNTIF($A$17:$A18,$A18))),"")} -> KRONOS ENERGY S.A.S E.S.P
A19: 46280 | B19: {=IFERROR(INDEX(creg185!$B$2:$B$13583,SMALL(IF((creg185!$T$2:$T$13583="MENOR")*(creg185!$A$2:$A$13583=$A19),ROW(creg185!$S$2:$S$13583)-ROW(creg185!$S$2)+1),COUNTIF($A$17:$A19,$A19))),"")} -> METROGAS DE COLOMBIA S.A. E.S.P.
A20: 46280 | B20: {=IFERROR(INDEX(creg185!$B$2:$B$13583,SMALL(IF((creg185!$T$2:$T$13583="MENOR")*(creg185!$A$2:$A$13583=$A20),ROW(creg185!$S$2:$S$13583)-ROW(creg185!$S$2)+1),COUNTIF($A$17:$A20,$A20))),"")}
A21: 46280 | B21: {=IFERROR(INDEX(creg185!$B$2:$B$13583,SMALL(IF((creg185!$T$2:$T$13583="MENOR")*(creg185!$A$2:$A$13583=$A21),ROW(creg185!$S$2:$S$13583)-ROW(creg185!$S$2)+1),COUNTIF($A$17:$A21,$A21))),"")}
A22: 46280 | B22: {=IFERROR(INDEX(creg185!$B$2:$B$13583,SMALL(IF((creg185!$T$2:$T$13583="MENOR")*(creg185!$A$2:$A$13583=$A22),ROW(creg185!$S$2:$S$13583)-ROW(creg185!$S$2)+1),COUNTIF($A$17:$A22,$A22))),"")}
A23: 46280 | B23: {=IFERROR(INDEX(creg185!$B$2:$B$13583,SMALL(IF((creg185!$T$2:$T$13583="MENOR")*(creg185!$A$2:$A$13583=$A23),ROW(creg185!$S$2:$S$13583)-ROW(creg185!$S$2)+1),COUNTIF($A$17:$A23,$A23))),"")}

Sheet 16
A1: REMITENTES CON SALDOS MAYORES DEL +5%
A2: Fecha | B2: Remitente
A3: 46281 | B3: {=IFERROR(INDEX(creg185!$B$2:$B$13583,SMALL(IF((creg185!$S$2:$S$13583="MAYOR")*(creg185!$A$2:$A$13583=$A3),ROW(creg185!$S$2:$S$13583)-ROW(creg185!$S$2)+1),COUNTIF($A$3:$A3,$A3))),"")}
A4: 46281 | B4: {=IFERROR(INDEX(creg185!$B$2:$B$13583,SMALL(IF((creg185!$S$2:$S$13583="MAYOR")*(creg185!$A$2:$A$13583=$A4),ROW(creg185!$S$2:$S$13583)-ROW(creg185!$S$2)+1),COUNTIF($A$3:$A4,$A4))),"")}
A5: 46281 | B5: {=IFERROR(INDEX(creg185!$B$2:$B$13583,SMALL(IF((creg185!$S$2:$S$13583="MAYOR")*(creg185!$A$2:$A$13583=$A5),ROW(creg185!$S$2:$S$13583)-ROW(creg185!$S$2)+1),COUNTIF($A$3:$A5,$A5))),"")}
A6: 46281 | B6: {=IFERROR(INDEX(creg185!$B$2:$B$13583,SMALL(IF((creg185!$S$2:$S$13583="MAYOR")*(creg185!$A$2:$A$13583=$A6),ROW(creg185!$S$2:$S$13583)-ROW(creg185!$S$2)+1),COUNTIF($A$3:$A6,$A6))),"")}
A7: 46281 | B7: {=IFERROR(INDEX(creg185!$B$2:$B$13583,SMALL(IF((creg185!$S$2:$S$13583="MAYOR")*(creg185!$A$2:$A$13583=$A7),ROW(creg185!$S$2:$S$13583)-ROW(creg185!$S$2)+1),COUNTIF($A$3:$A7,$A7))),"")}
A8: 46281 | B8: {=IFERROR(INDEX(creg185!$B$2:$B$13583,SMALL(IF((creg185!$S$2:$S$13583="MAYOR")*(creg185!$A$2:$A$13583=$A8),ROW(creg185!$S$2:$S$13583)-ROW(creg185!$S$2)+1),COUNTIF($A$3:$A8,$A8))),"")}
A9: 46281 | B9: {=IFERROR(INDEX(creg185!$B$2:$B$13583,SMALL(IF((creg185!$S$2:$S$13583="MAYOR")*(creg185!$A$2:$A$13583=$A9),ROW(creg185!$S$2:$S$13583)-ROW(creg185!$S$2)+1),COUNTIF($A$3:$A9,$A9))),"")}
A10: 46281 | B10: {=IFERROR(INDEX(creg185!$B$2:$B$13583,SMALL(IF((creg185!$S$2:$S$13583="MAYOR")*(creg185!$A$2:$A$13583=$A10),ROW(creg185!$S$2:$S$13583)-ROW(creg185!$S$2)+1),COUNTIF($A$3:$A10,$A10))),"")}
A11: 46281 | B11: {=IFERROR(INDEX(creg185!$B$2:$B$13583,SMALL(IF((creg185!$S$2:$S$13583="MAYOR")*(creg185!$A$2:$A$13583=$A11),ROW(creg185!$S$2:$S$13583)-ROW(creg185!$S$2)+1),COUNTIF($A$3:$A11,$A11))),"")}
A12: 46281 | B12: {=IFERROR(INDEX(creg185!$B$2:$B$13583,SMALL(IF((creg185!$S$2:$S$13583="MAYOR")*(creg185!$A$2:$A$13583=$A12),ROW(creg185!$S$2:$S$13583)-ROW(creg185!$S$2)+1),COUNTIF($A$3:$A12,$A12))),"")}
A15: REMITENTES CON SALDOS MENORES DEL -5%
A16: Fecha | B16: Remitente
A17: 46281 | B17: {=IFERROR(INDEX(creg185!$B$2:$B$13583,SMALL(IF((creg185!$T$2:$T$13583="MENOR")*(creg185!$A$2:$A$13583=$A17),ROW(creg185!$S$2:$S$13583)-ROW(creg185!$S$2)+1),COUNTIF($A$17:$A17,$A17))),"")} -> CENIT TRANSPORTEYLOGÍSTICA DE HIDROCARBUROS S.A.S
A18: 46281 | B18: {=IFERROR(INDEX(creg185!$B$2:$B$13583,SMALL(IF((creg185!$T$2:$T$13583="MENOR")*(creg185!$A$2:$A$13583=$A18),ROW(creg185!$S$2:$S$13583)-ROW(creg185!$S$2)+1),COUNTIF($A$17:$A18,$A18))),"")} -> ENEL COLOMBIA S.A. E.S.P
A19: 46281 | B19: {=IFERROR(INDEX(creg185!$B$2:$B$13583,SMALL(IF((creg185!$T$2:$T$13583="MENOR")*(creg185!$A$2:$A$13583=$A19),ROW(creg185!$S$2:$S$13583)-ROW(creg185!$S$2)+1),COUNTIF($A$17:$A19,$A19))),"")} -> GASES DEL CARIBE
A20: 46281 | B20: {=IFERROR(INDEX(creg185!$B$2:$B$13583,SMALL(IF((creg185!$T$2:$T$13583="MENOR")*(creg185!$A$2:$A$13583=$A20),ROW(creg185!$S$2:$S$13583)-ROW(creg185!$S$2)+1),COUNTIF($A$17:$A20,$A20))),"")} -> KRONOS ENERGY S.A.S E.S.P
A21: 46281 | B21: {=IFERROR(INDEX(creg185!$B$2:$B$13583,SMALL(IF((creg185!$T$2:$T$13583="MENOR")*(creg185!$A$2:$A$13583=$A21),ROW(creg185!$S$2:$S$13583)-ROW(creg185!$S$2)+1),COUNTIF($A$17:$A21,$A21))),"")} -> METROGAS DE COLOMBIA S.A. E.S.P.
A22: 46281 | B22: {=IFERROR(INDEX(creg185!$B$2:$B$13583,SMALL(IF((creg185!$T$2:$T$13583="MENOR")*(creg185!$A$2:$A$13583=$A22),ROW(creg185!$S$2:$S$13583)-ROW(creg185!$S$2)+1),COUNTIF($A$17:$A22,$A22))),"")} -> ORGANIZACION TERPEL S.A.
A23: 46281 | B23: {=IFERROR(INDEX(creg185!$B$2:$B$13583,SMALL(IF((creg185!$T$2:$T$13583="MENOR")*(creg185!$A$2:$A$13583=$A23),ROW(creg185!$S$2:$S$13583)-ROW(creg185!$S$2)+1),COUNTIF($A$17:$A23,$A23))),"")}

Sheet 17
A1: REMITENTES CON SALDOS MAYORES DEL +5%
A2: Fecha | B2: Remitente
A3: 46282 | B3: {=IFERROR(INDEX(creg185!$B$2:$B$13583,SMALL(IF((creg185!$S$2:$S$13583="MAYOR")*(creg185!$A$2:$A$13583=$A3),ROW(creg185!$S$2:$S$13583)-ROW(creg185!$S$2)+1),COUNTIF($A$3:$A3,$A3))),"")}
A4: 46282 | B4: {=IFERROR(INDEX(creg185!$B$2:$B$13583,SMALL(IF((creg185!$S$2:$S$13583="MAYOR")*(creg185!$A$2:$A$13583=$A4),ROW(creg185!$S$2:$S$13583)-ROW(creg185!$S$2)+1),COUNTIF($A$3:$A4,$A4))),"")}
A5: 46282 | B5: {=IFERROR(INDEX(creg185!$B$2:$B$13583,SMALL(IF((creg185!$S$2:$S$13583="MAYOR")*(creg185!$A$2:$A$13583=$A5),ROW(creg185!$S$2:$S$13583)-ROW(creg185!$S$2)+1),COUNTIF($A$3:$A5,$A5))),"")}
A6: 46282 | B6: {=IFERROR(INDEX(creg185!$B$2:$B$13583,SMALL(IF((creg185!$S$2:$S$13583="MAYOR")*(creg185!$A$2:$A$13583=$A6),ROW(creg185!$S$2:$S$13583)-ROW(creg185!$S$2)+1),COUNTIF($A$3:$A6,$A6))),"")}
A7: 46282 | B7: {=IFERROR(INDEX(creg185!$B$2:$B$13583,SMALL(IF((creg185!$S$2:$S$13583="MAYOR")*(creg185!$A$2:$A$13583=$A7),ROW(creg185!$S$2:$S$13583)-ROW(creg185!$S$2)+1),COUNTIF($A$3:$A7,$A7))),"")}
A8: 46282 | B8: {=IFERROR(INDEX(creg185!$B$2:$B$13583,SMALL(IF((creg185!$S$2:$S$13583="MAYOR")*(creg185!$A$2:$A$13583=$A8),ROW(creg185!$S$2:$S$13583)-ROW(creg185!$S$2)+1),COUNTIF($A$3:$A8,$A8))),"")}
A9: 46282 | B9: {=IFERROR(INDEX(creg185!$B$2:$B$13583,SMALL(IF((creg185!$S$2:$S$13583="MAYOR")*(creg185!$A$2:$A$13583=$A9),ROW(creg185!$S$2:$S$13583)-ROW(creg185!$S$2)+1),COUNTIF($A$3:$A9,$A9))),"")}
A10: 46282 | B10: {=IFERROR(INDEX(creg185!$B$2:$B$13583,SMALL(IF((creg185!$S$2:$S$13583="MAYOR")*(creg185!$A$2:$A$13583=$A10),ROW(creg185!$S$2:$S$13583)-ROW(creg185!$S$2)+1),COUNTIF($A$3:$A10,$A10))),"")}
A11: 46282 | B11: {=IFERROR(INDEX(creg185!$B$2:$B$13583,SMALL(IF((creg185!$S$2:$S$13583="MAYOR")*(creg185!$A$2:$A$13583=$A11),ROW(creg185!$S$2:$S$13583)-ROW(creg185!$S$2)+1),COUNTIF($A$3:$A11,$A11))),"")}
A12: 46282 | B12: {=IFERROR(INDEX(creg185!$B$2:$B$13583,SMALL(IF((creg185!$S$2:$S$13583="MAYOR")*(creg185!$A$2:$A$13583=$A12),ROW(creg185!$S$2:$S$13583)-ROW(creg185!$S$2)+1),COUNTIF($A$3:$A12,$A12))),"")}
A15: REMITENTES CON SALDOS MENORES DEL -5%
A16: Fecha | B16: Remitente
A17: 46282 | B17: {=IFERROR(INDEX(creg185!$B$2:$B$13583,SMALL(IF((creg185!$T$2:$T$13583="MENOR")*(creg185!$A$2:$A$13583=$A17),ROW(creg185!$S$2:$S$13583)-ROW(creg185!$S$2)+1),COUNTIF($A$17:$A17,$A17))),"")} -> ENEL COLOMBIA S.A. E.S.P
A18: 46282 | B18: {=IFERROR(INDEX(creg185!$B$2:$B$13583,SMALL(IF((creg185!$T$2:$T$13583="MENOR")*(creg185!$A$2:$A$13583=$A18),ROW(creg185!$S$2:$S$13583)-ROW(creg185!$S$2)+1),COUNTIF($A$17:$A18,$A18))),"")} -> GASES DEL CARIBE
A19: 46282 | B19: {=IFERROR(INDEX(creg185!$B$2:$B$13583,SMALL(IF((creg185!$T$2:$T$13583="MENOR")*(creg185!$A$2:$A$13583=$A19),ROW(creg185!$S$2:$S$13583)-ROW(creg185!$S$2)+1),COUNTIF($A$17:$A19,$A19))),"")} -> GASES DEL LLANO
A20: 46282 | B20: {=IFERROR(INDEX(creg185!$B$2:$B$13583,SMALL(IF((creg185!$T$2:$T$13583="MENOR")*(creg185!$A$2:$A$13583=$A20),ROW(creg185!$S$2:$S$13583)-ROW(creg185!$S$2)+1),COUNTIF($A$17:$A20,$A20))),"")} -> KRONOS ENERGY S.A.S E.S.P
A21: 46282 | B21: {=IFERROR(INDEX(creg185!$B$2:$B$13583,SMALL(IF((creg185!$T$2:$T$13583="MENOR")*(creg185!$A$2:$A$13583=$A21),ROW(creg185!$S$2:$S$13583)-ROW(creg185!$S$2)+1),COUNTIF($A$17:$A21,$A21))),"")} -> METROGAS DE COLOMBIA S.A. E.S.P.
A22: 46282 | B22: {=IFERROR(INDEX(creg185!$B$2:$B$13583,SMALL(IF((creg185!$T$2:$T$13583="MENOR")*(creg185!$A$2:$A$13583=$A22),ROW(creg185!$S$2:$S$13583)-ROW(creg185!$S$2)+1),COUNTIF($A$17:$A22,$A22))),"")} -> ORGANIZACION TERPEL S.A.
A23: 46282 | B23: {=IFERROR(INDEX(creg185!$B$2:$B$13583,SMALL(IF((creg185!$T$2:$T$13583="MENOR")*(creg185!$A$2:$A$13583=$A23),ROW(creg185!$S$2:$S$13583)-ROW(creg185!$S$2)+1),COUNTIF($A$17:$A23,$A23))),"")} -> PERENCO COLOMBIA LTD.

Sheet 18
A1: REMITENTES CON SALDOS MAYORES DEL +5%
A2: Fecha | B2: Remitente
A3: 46283 | B3: {=IFERROR(INDEX(creg185!$B$2:$B$13583,SMALL(IF((creg185!$S$2:$S$13583="MAYOR")*(creg185!$A$2:$A$13583=$A3),ROW(creg185!$S$2:$S$13583)-ROW(creg185!$S$2)+1),COUNTIF($A$3:$A3,$A3))),"")} -> CENIT TRANSPORTEYLOGÍSTICA DE HIDROCARBUROS S.A.S
A4: 46283 | B4: {=IFERROR(INDEX(creg185!$B$2:$B$13583,SMALL(IF((creg185!$S$2:$S$13583="MAYOR")*(creg185!$A$2:$A$13583=$A4),ROW(creg185!$S$2:$S$13583)-ROW(creg185!$S$2)+1),COUNTIF($A$3:$A4,$A4))),"")} -> ECOPETROL S.A.
A5: 46283 | B5: {=IFERROR(INDEX(creg185!$B$2:$B$13583,SMALL(IF((creg185!$S$2:$S$13583="MAYOR")*(creg185!$A$2:$A$13583=$A5),ROW(creg185!$S$2:$S$13583)-ROW(creg185!$S$2)+1),COUNTIF($A$3:$A5,$A5))),"")}
A6: 46283 | B6: {=IFERROR(INDEX(creg185!$B$2:$B$13583,SMALL(IF((creg185!$S$2:$S$13583="MAYOR")*(creg185!$A$2:$A$13583=$A6),ROW(creg185!$S$2:$S$13583)-ROW(creg185!$S$2)+1),COUNTIF($A$3:$A6,$A6))),"")}
A7: 46283 | B7: {=IFERROR(INDEX(creg185!$B$2:$B$13583,SMALL(IF((creg185!$S$2:$S$13583="MAYOR")*(creg185!$A$2:$A$13583=$A7),ROW(creg185!$S$2:$S$13583)-ROW(creg185!$S$2)+1),COUNTIF($A$3:$A7,$A7))),"")}
A8: 46283 | B8: {=IFERROR(INDEX(creg185!$B$2:$B$13583,SMALL(IF((creg185!$S$2:$S$13583="MAYOR")*(creg185!$A$2:$A$13583=$A8),ROW(creg185!$S$2:$S$13583)-ROW(creg185!$S$2)+1),COUNTIF($A$3:$A8,$A8))),"")}
A9: 46283 | B9: {=IFERROR(INDEX(creg185!$B$2:$B$13583,SMALL(IF((creg185!$S$2:$S$13583="MAYOR")*(creg185!$A$2:$A$13583=$A9),ROW(creg185!$S$2:$S$13583)-ROW(creg185!$S$2)+1),COUNTIF($A$3:$A9,$A9))),"")}
A10: 46283 | B10: {=IFERROR(INDEX(creg185!$B$2:$B$13583,SMALL(IF((creg185!$S$2:$S$13583="MAYOR")*(creg185!$A$2:$A$13583=$A10),ROW(creg185!$S$2:$S$13583)-ROW(creg185!$S$2)+1),COUNTIF($A$3:$A10,$A10))),"")}
A11: 46283 | B11: {=IFERROR(INDEX(creg185!$B$2:$B$13583,SMALL(IF((creg185!$S$2:$S$13583="MAYOR")*(creg185!$A$2:$A$13583=$A11),ROW(creg185!$S$2:$S$13583)-ROW(creg185!$S$2)+1),COUNTIF($A$3:$A11,$A11))),"")}
A12: 46283 | B12: {=IFERROR(INDEX(creg185!$B$2:$B$13583,SMALL(IF((creg185!$S$2:$S$13583="MAYOR")*(creg185!$A$2:$A$13583=$A12),ROW(creg185!$S$2:$S$13583)-ROW(creg185!$S$2)+1),COUNTIF($A$3:$A12,$A12))),"")}
A15: REMITENTES CON SALDOS MENORES DEL -5%
A16: Fecha | B16: Remitente
A17: 46283 | B17: {=IFERROR(INDEX(creg185!$B$2:$B$13583,SMALL(IF((creg185!$T$2:$T$13583="MENOR")*(creg185!$A$2:$A$13583=$A17),ROW(creg185!$S$2:$S$13583)-ROW(creg185!$S$2)+1),COUNTIF($A$17:$A17,$A17))),"")} -> ENEL COLOMBIA S.A. E.S.P
A18: 46283 | B18: {=IFERROR(INDEX(creg185!$B$2:$B$13583,SMALL(IF((creg185!$T$2:$T$13583="MENOR")*(creg185!$A$2:$A$13583=$A18),ROW(creg185!$S$2:$S$13583)-ROW(creg185!$S$2)+1),COUNTIF($A$17:$A18,$A18))),"")} -> KRONOS ENERGY S.A.S E.S.P
A19: 46283 | B19: {=IFERROR(INDEX(creg185!$B$2:$B$13583,SMALL(IF((creg185!$T$2:$T$13583="MENOR")*(creg185!$A$2:$A$13583=$A19),ROW(creg185!$S$2:$S$13583)-ROW(creg185!$S$2)+1),COUNTIF($A$17:$A19,$A19))),"")} -> ORGANIZACION TERPEL S.A.
A20: 46283 | B20: {=IFERROR(INDEX(creg185!$B$2:$B$13583,SMALL(IF((creg185!$T$2:$T$13583="MENOR")*(creg185!$A$2:$A$13583=$A20),ROW(creg185!$S$2:$S$13583)-ROW(creg185!$S$2)+1),COUNTIF($A$17:$A20,$A20))),"")} -> PERENCO COLOMBIA LTD.
A21: 46283 | B21: {=IFERROR(INDEX(creg185!$B$2:$B$13583,SMALL(IF((creg185!$T$2:$T$13583="MENOR")*(creg185!$A$2:$A$13583=$A21),ROW(creg185!$S$2:$S$13583)-ROW(creg185!$S$2)+1),COUNTIF($A$17:$A21,$A21))),"")}
A22: 46283 | B22: {=IFERROR(INDEX(creg185!$B$2:$B$13583,SMALL(IF((creg185!$T$2:$T$13583="MENOR")*(creg185!$A$2:$A$13583=$A22),ROW(creg185!$S$2:$S$13583)-ROW(creg185!$S$2)+1),COUNTIF($A$17:$A22,$A22))),"")}
A23: 46283 | B23: {=IFERROR(INDEX(creg185!$B$2:$B$13583,SMALL(IF((creg185!$T$2:$T$13583="MENOR")*(creg185!$A$2:$A$13583=$A23),ROW(creg185!$S$2:$S$13583)-ROW(creg185!$S$2)+1),COUNTIF($A$17:$A23,$A23))),"")}

Sheet 19
A1: REMITENTES CON SALDOS MAYORES DEL +5%
A2: Fecha | B2: Remitente
A3: 46284 | B3: {=IFERROR(INDEX(creg185!$B$2:$B$13583,SMALL(IF((creg185!$S$2:$S$13583="MAYOR")*(creg185!$A$2:$A$13583=$A3),ROW(creg185!$S$2:$S$13583)-ROW(creg185!$S$2)+1),COUNTIF($A$3:$A3,$A3))),"")} -> METROGAS DE COLOMBIA S.A. E.S.P.
A4: 46284 | B4: {=IFERROR(INDEX(creg185!$B$2:$B$13583,SMALL(IF((creg185!$S$2:$S$13583="MAYOR")*(creg185!$A$2:$A$13583=$A4),ROW(creg185!$S$2:$S$13583)-ROW(creg185!$S$2)+1),COUNTIF($A$3:$A4,$A4))),"")}
A5: 46284 | B5: {=IFERROR(INDEX(creg185!$B$2:$B$13583,SMALL(IF((creg185!$S$2:$S$13583="MAYOR")*(creg185!$A$2:$A$13583=$A5),ROW(creg185!$S$2:$S$13583)-ROW(creg185!$S$2)+1),COUNTIF($A$3:$A5,$A5))),"")}
A6: 46284 | B6: {=IFERROR(INDEX(creg185!$B$2:$B$13583,SMALL(IF((creg185!$S$2:$S$13583="MAYOR")*(creg185!$A$2:$A$13583=$A6),ROW(creg185!$S$2:$S$13583)-ROW(creg185!$S$2)+1),COUNTIF($A$3:$A6,$A6))),"")}
A7: 46284 | B7: {=IFERROR(INDEX(creg185!$B$2:$B$13583,SMALL(IF((creg185!$S$2:$S$13583="MAYOR")*(creg185!$A$2:$A$13583=$A7),ROW(creg185!$S$2:$S$13583)-ROW(creg185!$S$2)+1),COUNTIF($A$3:$A7,$A7))),"")}
A8: 46284 | B8: {=IFERROR(INDEX(creg185!$B$2:$B$13583,SMALL(IF((creg185!$S$2:$S$13583="MAYOR")*(creg185!$A$2:$A$13583=$A8),ROW(creg185!$S$2:$S$13583)-ROW(creg185!$S$2)+1),COUNTIF($A$3:$A8,$A8))),"")}
A9: 46284 | B9: {=IFERROR(INDEX(creg185!$B$2:$B$13583,SMALL(IF((creg185!$S$2:$S$13583="MAYOR")*(creg185!$A$2:$A$13583=$A9),ROW(creg185!$S$2:$S$13583)-ROW(creg185!$S$2)+1),COUNTIF($A$3:$A9,$A9))),"")}
A10: 46284 | B10: {=IFERROR(INDEX(creg185!$B$2:$B$13583,SMALL(IF((creg185!$S$2:$S$13583="MAYOR")*(creg185!$A$2:$A$13583=$A10),ROW(creg185!$S$2:$S$13583)-ROW(creg185!$S$2)+1),COUNTIF($A$3:$A10,$A10))),"")}
A11: 46284 | B11: {=IFERROR(INDEX(creg185!$B$2:$B$13583,SMALL(IF((creg185!$S$2:$S$13583="MAYOR")*(creg185!$A$2:$A$13583=$A11),ROW(creg185!$S$2:$S$13583)-ROW(creg185!$S$2)+1),COUNTIF($A$3:$A11,$A11))),"")}
A12: 46284 | B12: {=IFERROR(INDEX(creg185!$B$2:$B$13583,SMALL(IF((creg185!$S$2:$S$13583="MAYOR")*(creg185!$A$2:$A$13583=$A12),ROW(creg185!$S$2:$S$13583)-ROW(creg185!$S$2)+1),COUNTIF($A$3:$A12,$A12))),"")}
A15: REMITENTES CON SALDOS MENORES DEL -5%
A16: Fecha | B16: Remitente
A17: 46284 | B17: {=IFERROR(INDEX(creg185!$B$2:$B$13583,SMALL(IF((creg185!$T$2:$T$13583="MENOR")*(creg185!$A$2:$A$13583=$A17),ROW(creg185!$S$2:$S$13583)-ROW(creg185!$S$2)+1),COUNTIF($A$17:$A17,$A17))),"")} -> ENEL COLOMBIA S.A. E.S.P
A18: 46284 | B18: {=IFERROR(INDEX(creg185!$B$2:$B$13583,SMALL(IF((creg185!$T$2:$T$13583="MENOR")*(creg185!$A$2:$A$13583=$A18),ROW(creg185!$S$2:$S$13583)-ROW(creg185!$S$2)+1),COUNTIF($A$17:$A18,$A18))),"")} -> GASES DEL CARIBE
A19: 46284 | B19: {=IFERROR(INDEX(creg185!$B$2:$B$13583,SMALL(IF((creg185!$T$2:$T$13583="MENOR")*(creg185!$A$2:$A$13583=$A19),ROW(creg185!$S$2:$S$13583)-ROW(creg185!$S$2)+1),COUNTIF($A$17:$A19,$A19))),"")} -> ORGANIZACION TERPEL S.A.
A20: 46284 | B20: {=IFERROR(INDEX(creg185!$B$2:$B$13583,SMALL(IF((creg185!$T$2:$T$13583="MENOR")*(creg185!$A$2:$A$13583=$A20),ROW(creg185!$S$2:$S$13583)-ROW(creg185!$S$2)+1),COUNTIF($A$17:$A20,$A20))),"")}
A21: 46284 | B21: {=IFERROR(INDEX(creg185!$B$2:$B$13583,SMALL(IF((creg185!$T$2:$T$13583="MENOR")*(creg185!$A$2:$A$13583=$A21),ROW(creg185!$S$2:$S$13583)-ROW(creg185!$S$2)+1),COUNTIF($A$17:$A21,$A21))),"")}
A22: 46284 | B22: {=IFERROR(INDEX(creg185!$B$2:$B$13583,SMALL(IF((creg185!$T$2:$T$13583="MENOR")*(creg185!$A$2:$A$13583=$A22),ROW(creg185!$S$2:$S$13583)-ROW(creg185!$S$2)+1),COUNTIF($A$17:$A22,$A22))),"")}
A23: 46284 | B23: {=IFERROR(INDEX(creg185!$B$2:$B$13583,SMALL(IF((creg185!$T$2:$T$13583="MENOR")*(creg185!$A$2:$A$13583=$A23),ROW(creg185!$S$2:$S$13583)-ROW(creg185!$S$2)+1),COUNTIF($A$17:$A23,$A23))),"")}

Sheet 20
A1: REMITENTES CON SALDOS MAYORES DEL +5%
A2: Fecha | B2: Remitente
A3: 46285 | B3: {=IFERROR(INDEX(creg185!$B$2:$B$13583,SMALL(IF((creg185!$S$2:$S$13583="MAYOR")*(creg185!$A$2:$A$13583=$A3),ROW(creg185!$S$2:$S$13583)-ROW(creg185!$S$2)+1),COUNTIF($A$3:$A3,$A3))),"")} -> CENIT TRANSPORTEYLOGÍSTICA DE HIDROCARBUROS S.A.S
A4: 46285 | B4: {=IFERROR(INDEX(creg185!$B$2:$B$13583,SMALL(IF((creg185!$S$2:$S$13583="MAYOR")*(creg185!$A$2:$A$13583=$A4),ROW(creg185!$S$2:$S$13583)-ROW(creg185!$S$2)+1),COUNTIF($A$3:$A4,$A4))),"")} -> ENEL COLOMBIA S.A. E.S.P
A5: 46285 | B5: {=IFERROR(INDEX(creg185!$B$2:$B$13583,SMALL(IF((creg185!$S$2:$S$13583="MAYOR")*(creg185!$A$2:$A$13583=$A5),ROW(creg185!$S$2:$S$13583)-ROW(creg185!$S$2)+1),COUNTIF($A$3:$A5,$A5))),"")} -> GASES DEL LLANO
A6: 46285 | B6: {=IFERROR(INDEX(creg185!$B$2:$B$13583,SMALL(IF((creg185!$S$2:$S$13583="MAYOR")*(creg185!$A$2:$A$13583=$A6),ROW(creg185!$S$2:$S$13583)-ROW(creg185!$S$2)+1),COUNTIF($A$3:$A6,$A6))),"")} -> GNI GAS NATURAL INDUSTRIAL DE COLOMBIA S.A. ESP
A7: 46285 | B7: {=IFERROR(INDEX(creg185!$B$2:$B$13583,SMALL(IF((creg185!$S$2:$S$13583="MAYOR")*(creg185!$A$2:$A$13583=$A7),ROW(creg185!$S$2:$S$13583)-ROW(creg185!$S$2)+1),COUNTIF($A$3:$A7,$A7))),"")} -> METROGAS DE COLOMBIA S.A. E.S.P.
A8: 46285 | B8: {=IFERROR(INDEX(creg185!$B$2:$B$13583,SMALL(IF((creg185!$S$2:$S$13583="MAYOR")*(creg185!$A$2:$A$13583=$A8),ROW(creg185!$S$2:$S$13583)-ROW(creg185!$S$2)+1),COUNTIF($A$3:$A8,$A8))),"")} -> PERENCO COLOMBIA LTD.
A9: 46285 | B9: {=IFERROR(INDEX(creg185!$B$2:$B$13583,SMALL(IF((creg185!$S$2:$S$13583="MAYOR")*(creg185!$A$2:$A$13583=$A9),ROW(creg185!$S$2:$S$13583)-ROW(creg185!$S$2)+1),COUNTIF($A$3:$A9,$A9))),"")} -> VANTI SA ESP
A10: 46285 | B10: {=IFERROR(INDEX(creg185!$B$2:$B$13583,SMALL(IF((creg185!$S$2:$S$13583="MAYOR")*(creg185!$A$2:$A$13583=$A10),ROW(creg185!$S$2:$S$13583)-ROW(creg185!$S$2)+1),COUNTIF($A$3:$A10,$A10))),"")}
A11: 46285 | B11: {=IFERROR(INDEX(creg185!$B$2:$B$13583,SMALL(IF((creg185!$S$2:$S$13583="MAYOR")*(creg185!$A$2:$A$13583=$A11),ROW(creg185!$S$2:$S$13583)-ROW(creg185!$S$2)+1),COUNTIF($A$3:$A11,$A11))),"")}
A12: 46285 | B12: {=IFERROR(INDEX(creg185!$B$2:$B$13583,SMALL(IF((creg185!$S$2:$S$13583="MAYOR")*(creg185!$A$2:$A$13583=$A12),ROW(creg185!$S$2:$S$13583)-ROW(creg185!$S$2)+1),COUNTIF($A$3:$A12,$A12))),"")}
A15: REMITENTES CON SALDOS MENORES DEL -5%
A16: Fecha | B16: Remitente
A17: 46285 | B17: {=IFERROR(INDEX(creg185!$B$2:$B$13583,SMALL(IF((creg185!$T$2:$T$13583="MENOR")*(creg185!$A$2:$A$13583=$A17),ROW(creg185!$S$2:$S$13583)-ROW(creg185!$S$2)+1),COUNTIF($A$17:$A17,$A17))),"")} -> GASES DEL CARIBE
A18: 46285 | B18: {=IFERROR(INDEX(creg185!$B$2:$B$13583,SMALL(IF((creg185!$T$2:$T$13583="MENOR")*(creg185!$A$2:$A$13583=$A18),ROW(creg185!$S$2:$S$13583)-ROW(creg185!$S$2)+1),COUNTIF($A$17:$A18,$A18))),"")} -> KRONOS ENERGY S.A.S E.S.P
A19: 46285 | B19: {=IFERROR(INDEX(creg185!$B$2:$B$13583,SMALL(IF((creg185!$T$2:$T$13583="MENOR")*(creg185!$A$2:$A$13583=$A19),ROW(creg185!$S$2:$S$13583)-ROW(creg185!$S$2)+1),COUNTIF($A$17:$A19,$A19))),"")} -> ORGANIZACION TERPEL S.A.
A20: 46285 | B20: {=IFERROR(INDEX(creg185!$B$2:$B$13583,SMALL(IF((creg185!$T$2:$T$13583="MENOR")*(creg185!$A$2:$A$13583=$A20),ROW(creg185!$S$2:$S$13583)-ROW(creg185!$S$2)+1),COUNTIF($A$17:$A20,$A20))),"")}
A21: 46285 | B21: {=IFERROR(INDEX(creg185!$B$2:$B$13583,SMALL(IF((creg185!$T$2:$T$13583="MENOR")*(creg185!$A$2:$A$13583=$A21),ROW(creg185!$S$2:$S$13583)-ROW(creg185!$S$2)+1),COUNTIF($A$17:$A21,$A21))),"")}
A22: 46285 | B22: {=IFERROR(INDEX(creg185!$B$2:$B$13583,SMALL(IF((creg185!$T$2:$T$13583="MENOR")*(creg185!$A$2:$A$13583=$A22),ROW(creg185!$S$2:$S$13583)-ROW(creg185!$S$2)+1),COUNTIF($A$17:$A22,$A22))),"")}
A23: 46285 | B23: {=IFERROR(INDEX(creg185!$B$2:$B$13583,SMALL(IF((creg185!$T$2:$T$13583="MENOR")*(creg185!$A$2:$A$13583=$A23),ROW(creg185!$S$2:$S$13583)-ROW(creg185!$S$2)+1),COUNTIF($A$17:$A23,$A23))),"")}

Sheet 21
A1: REMITENTES CON SALDOS MAYORES DEL +5%
A2: Fecha | B2: Remitente
A3: 46286 | B3: {=IFERROR(INDEX(creg185!$B$2:$B$13583,SMALL(IF((creg185!$S$2:$S$13583="MAYOR")*(creg185!$A$2:$A$13583=$A3),ROW(creg185!$S$2:$S$13583)-ROW(creg185!$S$2)+1),COUNTIF($A$3:$A3,$A3))),"")} -> ECOPETROL S.A.
A4: 46286 | B4: {=IFERROR(INDEX(creg185!$B$2:$B$13583,SMALL(IF((creg185!$S$2:$S$13583="MAYOR")*(creg185!$A$2:$A$13583=$A4),ROW(creg185!$S$2:$S$13583)-ROW(creg185!$S$2)+1),COUNTIF($A$3:$A4,$A4))),"")} -> ENEL COLOMBIA S.A. E.S.P
A5: 46286 | B5: {=IFERROR(INDEX(creg185!$B$2:$B$13583,SMALL(IF((creg185!$S$2:$S$13583="MAYOR")*(creg185!$A$2:$A$13583=$A5),ROW(creg185!$S$2:$S$13583)-ROW(creg185!$S$2)+1),COUNTIF($A$3:$A5,$A5))),"")} -> GASES DEL LLANO
A6: 46286 | B6: {=IFERROR(INDEX(creg185!$B$2:$B$13583,SMALL(IF((creg185!$S$2:$S$13583="MAYOR")*(creg185!$A$2:$A$13583=$A6),ROW(creg185!$S$2:$S$13583)-ROW(creg185!$S$2)+1),COUNTIF($A$3:$A6,$A6))),"")} -> METROGAS DE COLOMBIA S.A. E.S.P.
A7: 46286 | B7: {=IFERROR(INDEX(creg185!$B$2:$B$13583,SMALL(IF((creg185!$S$2:$S$13583="MAYOR")*(creg185!$A$2:$A$13583=$A7),ROW(creg185!$S$2:$S$13583)-ROW(creg185!$S$2)+1),COUNTIF($A$3:$A7,$A7))),"")} -> VANTI SA ESP
A8: 46286 | B8: {=IFERROR(INDEX(creg185!$B$2:$B$13583,SMALL(IF((creg185!$S$2:$S$13583="MAYOR")*(creg185!$A$2:$A$13583=$A8),ROW(creg185!$S$2:$S$13583)-ROW(creg185!$S$2)+1),COUNTIF($A$3:$A8,$A8))),"")}
A9: 46286 | B9: {=IFERROR(INDEX(creg185!$B$2:$B$13583,SMALL(IF((creg185!$S$2:$S$13583="MAYOR")*(creg185!$A$2:$A$13583=$A9),ROW(creg185!$S$2:$S$13583)-ROW(creg185!$S$2)+1),COUNTIF($A$3:$A9,$A9))),"")}
A10: 46286 | B10: {=IFERROR(INDEX(creg185!$B$2:$B$13583,SMALL(IF((creg185!$S$2:$S$13583="MAYOR")*(creg185!$A$2:$A$13583=$A10),ROW(creg185!$S$2:$S$13583)-ROW(creg185!$S$2)+1),COUNTIF($A$3:$A10,$A10))),"")}
A11: 46286 | B11: {=IFERROR(INDEX(creg185!$B$2:$B$13583,SMALL(IF((creg185!$S$2:$S$13583="MAYOR")*(creg185!$A$2:$A$13583=$A11),ROW(creg185!$S$2:$S$13583)-ROW(creg185!$S$2)+1),COUNTIF($A$3:$A11,$A11))),"")}
A12: 46286 | B12: {=IFERROR(INDEX(creg185!$B$2:$B$13583,SMALL(IF((creg185!$S$2:$S$13583="MAYOR")*(creg185!$A$2:$A$13583=$A12),ROW(creg185!$S$2:$S$13583)-ROW(creg185!$S$2)+1),COUNTIF($A$3:$A12,$A12))),"")}
A15: REMITENTES CON SALDOS MENORES DEL -5%
A16: Fecha | B16: Remitente
A17: 46286 | B17: {=IFERROR(INDEX(creg185!$B$2:$B$13583,SMALL(IF((creg185!$T$2:$T$13583="MENOR")*(creg185!$A$2:$A$13583=$A17),ROW(creg185!$S$2:$S$13583)-ROW(creg185!$S$2)+1),COUNTIF($A$17:$A17,$A17))),"")} -> GASES DEL CARIBE
A18: 46286 | B18: {=IFERROR(INDEX(creg185!$B$2:$B$13583,SMALL(IF((creg185!$T$2:$T$13583="MENOR")*(creg185!$A$2:$A$13583=$A18),ROW(creg185!$S$2:$S$13583)-ROW(creg185!$S$2)+1),COUNTIF($A$17:$A18,$A18))),"")} -> KRONOS ENERGY S.A.S E.S.P
A19: 46286 | B19: {=IFERROR(INDEX(creg185!$B$2:$B$13583,SMALL(IF((creg185!$T$2:$T$13583="MENOR")*(creg185!$A$2:$A$13583=$A19),ROW(creg185!$S$2:$S$13583)-ROW(creg185!$S$2)+1),COUNTIF($A$17:$A19,$A19))),"")} -> ORGANIZACION TERPEL S.A.
A20: 46286 | B20: {=IFERROR(INDEX(creg185!$B$2:$B$13583,SMALL(IF((creg185!$T$2:$T$13583="MENOR")*(creg185!$A$2:$A$13583=$A20),ROW(creg185!$S$2:$S$13583)-ROW(creg185!$S$2)+1),COUNTIF($A$17:$A20,$A20))),"")}
A21: 46286 | B21: {=IFERROR(INDEX(creg185!$B$2:$B$13583,SMALL(IF((creg185!$T$2:$T$13583="MENOR")*(creg185!$A$2:$A$13583=$A21),ROW(creg185!$S$2:$S$13583)-ROW(creg185!$S$2)+1),COUNTIF($A$17:$A21,$A21))),"")}
A22: 46286 | B22: {=IFERROR(INDEX(creg185!$B$2:$B$13583,SMALL(IF((creg185!$T$2:$T$13583="MENOR")*(creg185!$A$2:$A$13583=$A22),ROW(creg185!$S$2:$S$13583)-ROW(creg185!$S$2)+1),COUNTIF($A$17:$A22,$A22))),"")}
A23: 46286 | B23: {=IFERROR(INDEX(creg185!$B$2:$B$13583,SMALL(IF((creg185!$T$2:$T$13583="MENOR")*(creg185!$A$2:$A$13583=$A23),ROW(creg185!$S$2:$S$13583)-ROW(creg185!$S$2)+1),COUNTIF($A$17:$A23,$A23))),"")}

Sheet 22
A1: REMITENTES CON SALDOS MAYORES DEL +5%
A2: Fecha | B2: Remitente
A3: 46287 | B3: {=IFERROR(INDEX(creg185!$B$2:$B$13583,SMALL(IF((creg185!$S$2:$S$13583="MAYOR")*(creg185!$A$2:$A$13583=$A3),ROW(creg185!$S$2:$S$13583)-ROW(creg185!$S$2)+1),COUNTIF($A$3:$A3,$A3))),"")} -> GASES DEL LLANO
A4: 46287 | B4: {=IFERROR(INDEX(creg185!$B$2:$B$13583,SMALL(IF((creg185!$S$2:$S$13583="MAYOR")*(creg185!$A$2:$A$13583=$A4),ROW(creg185!$S$2:$S$13583)-ROW(creg185!$S$2)+1),COUNTIF($A$3:$A4,$A4))),"")} -> METROGAS DE COLOMBIA S.A. E.S.P.
A5: 46287 | B5: {=IFERROR(INDEX(creg185!$B$2:$B$13583,SMALL(IF((creg185!$S$2:$S$13583="MAYOR")*(creg185!$A$2:$A$13583=$A5),ROW(creg185!$S$2:$S$13583)-ROW(creg185!$S$2)+1),COUNTIF($A$3:$A5,$A5))),"")} -> VANTI SA ESP
A6: 46287 | B6: {=IFERROR(INDEX(creg185!$B$2:$B$13583,SMALL(IF((creg185!$S$2:$S$13583="MAYOR")*(creg185!$A$2:$A$13583=$A6),ROW(creg185!$S$2:$S$13583)-ROW(creg185!$S$2)+1),COUNTIF($A$3:$A6,$A6))),"")}
A7: 46287 | B7: {=IFERROR(INDEX(creg185!$B$2:$B$13583,SMALL(IF((creg185!$S$2:$S$13583="MAYOR")*(creg185!$A$2:$A$13583=$A7),ROW(creg185!$S$2:$S$13583)-ROW(creg185!$S$2)+1),COUNTIF($A$3:$A7,$A7))),"")}
A8: 46287 | B8: {=IFERROR(INDEX(creg185!$B$2:$B$13583,SMALL(IF((creg185!$S$2:$S$13583="MAYOR")*(creg185!$A$2:$A$13583=$A8),ROW(creg185!$S$2:$S$13583)-ROW(creg185!$S$2)+1),COUNTIF($A$3:$A8,$A8))),"")}
A9: 46287 | B9: {=IFERROR(INDEX(creg185!$B$2:$B$13583,SMALL(IF((creg185!$S$2:$S$13583="MAYOR")*(creg185!$A$2:$A$13583=$A9),ROW(creg185!$S$2:$S$13583)-ROW(creg185!$S$2)+1),COUNTIF($A$3:$A9,$A9))),"")}
A10: 46287 | B10: {=IFERROR(INDEX(creg185!$B$2:$B$13583,SMALL(IF((creg185!$S$2:$S$13583="MAYOR")*(creg185!$A$2:$A$13583=$A10),ROW(creg185!$S$2:$S$13583)-ROW(creg185!$S$2)+1),COUNTIF($A$3:$A10,$A10))),"")}
A11: 46287 | B11: {=IFERROR(INDEX(creg185!$B$2:$B$13583,SMALL(IF((creg185!$S$2:$S$13583="MAYOR")*(creg185!$A$2:$A$13583=$A11),ROW(creg185!$S$2:$S$13583)-ROW(creg185!$S$2)+1),COUNTIF($A$3:$A11,$A11))),"")}
A12: 46287 | B12: {=IFERROR(INDEX(creg185!$B$2:$B$13583,SMALL(IF((creg185!$S$2:$S$13583="MAYOR")*(creg185!$A$2:$A$13583=$A12),ROW(creg185!$S$2:$S$13583)-ROW(creg185!$S$2)+1),COUNTIF($A$3:$A12,$A12))),"")}
A15: REMITENTES CON SALDOS MENORES DEL -5%
A16: Fecha | B16: Remitente
A17: 46287 | B17: {=IFERROR(INDEX(creg185!$B$2:$B$13583,SMALL(IF((creg185!$T$2:$T$13583="MENOR")*(creg185!$A$2:$A$13583=$A17),ROW(creg185!$S$2:$S$13583)-ROW(creg185!$S$2)+1),COUNTIF($A$17:$A17,$A17))),"")} -> KRONOS ENERGY S.A.S E.S.P
A18: 46287 | B18: {=IFERROR(INDEX(creg185!$B$2:$B$13583,SMALL(IF((creg185!$T$2:$T$13583="MENOR")*(creg185!$A$2:$A$13583=$A18),ROW(creg185!$S$2:$S$13583)-ROW(creg185!$S$2)+1),COUNTIF($A$17:$A18,$A18))),"")} -> ORGANIZACION TERPEL S.A.
A19: 46287 | B19: {=IFERROR(INDEX(creg185!$B$2:$B$13583,SMALL(IF((creg185!$T$2:$T$13583="MENOR")*(creg185!$A$2:$A$13583=$A19),ROW(creg185!$S$2:$S$13583)-ROW(creg185!$S$2)+1),COUNTIF($A$17:$A19,$A19))),"")} -> PERENCO COLOMBIA LTD.
A20: 46287 | B20: {=IFERROR(INDEX(creg185!$B$2:$B$13583,SMALL(IF((creg185!$T$2:$T$13583="MENOR")*(creg185!$A$2:$A$13583=$A20),ROW(creg185!$S$2:$S$13583)-ROW(creg185!$S$2)+1),COUNTIF($A$17:$A20,$A20))),"")}
A21: 46287 | B21: {=IFERROR(INDEX(creg185!$B$2:$B$13583,SMALL(IF((creg185!$T$2:$T$13583="MENOR")*(creg185!$A$2:$A$13583=$A21),ROW(creg185!$S$2:$S$13583)-ROW(creg185!$S$2)+1),COUNTIF($A$17:$A21,$A21))),"")}
A22: 46287 | B22: {=IFERROR(INDEX(creg185!$B$2:$B$13583,SMALL(IF((creg185!$T$2:$T$13583="MENOR")*(creg185!$A$2:$A$13583=$A22),ROW(creg185!$S$2:$S$13583)-ROW(creg185!$S$2)+1),COUNTIF($A$17:$A22,$A22))),"")}
A23: 46287 | B23: {=IFERROR(INDEX(creg185!$B$2:$B$13583,SMALL(IF((creg185!$T$2:$T$13583="MENOR")*(creg185!$A$2:$A$13583=$A23),ROW(creg185!$S$2:$S$13583)-ROW(creg185!$S$2)+1),COUNTIF($A$17:$A23,$A23))),"")}

Sheet 23
A1: REMITENTES CON SALDOS MAYORES DEL +5%
A2: Fecha | B2: Remitente
A3: 46288 | B3: {=IFERROR(INDEX(creg185!$B$2:$B$13583,SMALL(IF((creg185!$S$2:$S$13583="MAYOR")*(creg185!$A$2:$A$13583=$A3),ROW(creg185!$S$2:$S$13583)-ROW(creg185!$S$2)+1),COUNTIF($A$3:$A3,$A3))),"")} -> CENIT TRANSPORTEYLOGÍSTICA DE HIDROCARBUROS S.A.S
A4: 46288 | B4: {=IFERROR(INDEX(creg185!$B$2:$B$13583,SMALL(IF((creg185!$S$2:$S$13583="MAYOR")*(creg185!$A$2:$A$13583=$A4),ROW(creg185!$S$2:$S$13583)-ROW(creg185!$S$2)+1),COUNTIF($A$3:$A4,$A4))),"")} -> GASES DEL CARIBE
A5: 46288 | B5: {=IFERROR(INDEX(creg185!$B$2:$B$13583,SMALL(IF((creg185!$S$2:$S$13583="MAYOR")*(creg185!$A$2:$A$13583=$A5),ROW(creg185!$S$2:$S$13583)-ROW(creg185!$S$2)+1),COUNTIF($A$3:$A5,$A5))),"")} -> METROGAS DE COLOMBIA S.A. E.S.P.
A6: 46288 | B6: {=IFERROR(INDEX(creg185!$B$2:$B$13583,SMALL(IF((creg185!$S$2:$S$13583="MAYOR")*(creg185!$A$2:$A$13583=$A6),ROW(creg185!$S$2:$S$13583)-ROW(creg185!$S$2)+1),COUNTIF($A$3:$A6,$A6))),"")} -> PERENCO COLOMBIA LTD.
A7: 46288 | B7: {=IFERROR(INDEX(creg185!$B$2:$B$13583,SMALL(IF((creg185!$S$2:$S$13583="MAYOR")*(creg185!$A$2:$A$13583=$A7),ROW(creg185!$S$2:$S$13583)-ROW(creg185!$S$2)+1),COUNTIF($A$3:$A7,$A7))),"")} -> VANTI SA ESP
A8: 46288 | B8: {=IFERROR(INDEX(creg185!$B$2:$B$13583,SMALL(IF((creg185!$S$2:$S$13583="MAYOR")*(creg185!$A$2:$A$13583=$A8),ROW(creg185!$S$2:$S$13583)-ROW(creg185!$S$2)+1),COUNTIF($A$3:$A8,$A8))),"")}
A9: 46288 | B9: {=IFERROR(INDEX(creg185!$B$2:$B$13583,SMALL(IF((creg185!$S$2:$S$13583="MAYOR")*(creg185!$A$2:$A$13583=$A9),ROW(creg185!$S$2:$S$13583)-ROW(creg185!$S$2)+1),COUNTIF($A$3:$A9,$A9))),"")}
A10: 46288 | B10: {=IFERROR(INDEX(creg185!$B$2:$B$13583,SMALL(IF((creg185!$S$2:$S$13583="MAYOR")*(creg185!$A$2:$A$13583=$A10),ROW(creg185!$S$2:$S$13583)-ROW(creg185!$S$2)+1),COUNTIF($A$3:$A10,$A10))),"")}
A11: 46288 | B11: {=IFERROR(INDEX(creg185!$B$2:$B$13583,SMALL(IF((creg185!$S$2:$S$13583="MAYOR")*(creg185!$A$2:$A$13583=$A11),ROW(creg185!$S$2:$S$13583)-ROW(creg185!$S$2)+1),COUNTIF($A$3:$A11,$A11))),"")}
A12: 46288 | B12: {=IFERROR(INDEX(creg185!$B$2:$B$13583,SMALL(IF((creg185!$S$2:$S$13583="MAYOR")*(creg185!$A$2:$A$13583=$A12),ROW(creg185!$S$2:$S$13583)-ROW(creg185!$S$2)+1),COUNTIF($A$3:$A12,$A12))),"")}
A15: REMITENTES CON SALDOS MENORES DEL -5%
A16: Fecha | B16: Remitente
A17: 46288 | B17: {=IFERROR(INDEX(creg185!$B$2:$B$13583,SMALL(IF((creg185!$T$2:$T$13583="MENOR")*(creg185!$A$2:$A$13583=$A17),ROW(creg185!$S$2:$S$13583)-ROW(creg185!$S$2)+1),COUNTIF($A$17:$A17,$A17))),"")} -> ENEL COLOMBIA S.A. E.S.P
A18: 46288 | B18: {=IFERROR(INDEX(creg185!$B$2:$B$13583,SMALL(IF((creg185!$T$2:$T$13583="MENOR")*(creg185!$A$2:$A$13583=$A18),ROW(creg185!$S$2:$S$13583)-ROW(creg185!$S$2)+1),COUNTIF($A$17:$A18,$A18))),"")} -> KRONOS ENERGY S.A.S E.S.P
A19: 46288 | B19: {=IFERROR(INDEX(creg185!$B$2:$B$13583,SMALL(IF((creg185!$T$2:$T$13583="MENOR")*(creg185!$A$2:$A$13583=$A19),ROW(creg185!$S$2:$S$13583)-ROW(creg185!$S$2)+1),COUNTIF($A$17:$A19,$A19))),"")} -> ORGANIZACION TERPEL S.A.
A20: 46288 | B20: {=IFERROR(INDEX(creg185!$B$2:$B$13583,SMALL(IF((creg185!$T$2:$T$13583="MENOR")*(creg185!$A$2:$A$13583=$A20),ROW(creg185!$S$2:$S$13583)-ROW(creg185!$S$2)+1),COUNTIF($A$17:$A20,$A20))),"")}
A21: 46288 | B21: {=IFERROR(INDEX(creg185!$B$2:$B$13583,SMALL(IF((creg185!$T$2:$T$13583="MENOR")*(creg185!$A$2:$A$13583=$A21),ROW(creg185!$S$2:$S$13583)-ROW(creg185!$S$2)+1),COUNTIF($A$17:$A21,$A21))),"")}
A22: 46288 | B22: {=IFERROR(INDEX(creg185!$B$2:$B$13583,SMALL(IF((creg185!$T$2:$T$13583="MENOR")*(creg185!$A$2:$A$13583=$A22),ROW(creg185!$S$2:$S$13583)-ROW(creg185!$S$2)+1),COUNTIF($A$17:$A22,$A22))),"")}
A23: 46288 | B23: {=IFERROR(INDEX(creg185!$B$2:$B$13583,SMALL(IF((creg185!$T$2:$T$13583="MENOR")*(creg185!$A$2:$A$13583=$A23),ROW(creg185!$S$2:$S$13583)-ROW(creg185!$S$2)+1),COUNTIF($A$17:$A23,$A23))),"")}

Sheet 24
A1: REMITENTES CON SALDOS MAYORES DEL +5%
A2: Fecha | B2: Remitente
A3: 46289 | B3: {=IFERROR(INDEX(creg185!$B$2:$B$13583,SMALL(IF((creg185!$S$2:$S$13583="MAYOR")*(creg185!$A$2:$A$13583=$A3),ROW(creg185!$S$2:$S$13583)-ROW(creg185!$S$2)+1),COUNTIF($A$3:$A3,$A3))),"")} -> CENIT TRANSPORTEYLOGÍSTICA DE HIDROCARBUROS S.A.S
A4: 46289 | B4: {=IFERROR(INDEX(creg185!$B$2:$B$13583,SMALL(IF((creg185!$S$2:$S$13583="MAYOR")*(creg185!$A$2:$A$13583=$A4),ROW(creg185!$S$2:$S$13583)-ROW(creg185!$S$2)+1),COUNTIF($A$3:$A4,$A4))),"")} -> ECOPETROL S.A.
A5: 46289 | B5: {=IFERROR(INDEX(creg185!$B$2:$B$13583,SMALL(IF((creg185!$S$2:$S$13583="MAYOR")*(creg185!$A$2:$A$13583=$A5),ROW(creg185!$S$2:$S$13583)-ROW(creg185!$S$2)+1),COUNTIF($A$3:$A5,$A5))),"")} -> GASES DEL CARIBE
A6: 46289 | B6: {=IFERROR(INDEX(creg185!$B$2:$B$13583,SMALL(IF((creg185!$S$2:$S$13583="MAYOR")*(creg185!$A$2:$A$13583=$A6),ROW(creg185!$S$2:$S$13583)-ROW(creg185!$S$2)+1),COUNTIF($A$3:$A6,$A6))),"")} -> METROGAS DE COLOMBIA S.A. E.S.P.
A7: 46289 | B7: {=IFERROR(INDEX(creg185!$B$2:$B$13583,SMALL(IF((creg185!$S$2:$S$13583="MAYOR")*(creg185!$A$2:$A$13583=$A7),ROW(creg185!$S$2:$S$13583)-ROW(creg185!$S$2)+1),COUNTIF($A$3:$A7,$A7))),"")} -> PERENCO COLOMBIA LTD.
A8: 46289 | B8: {=IFERROR(INDEX(creg185!$B$2:$B$13583,SMALL(IF((creg185!$S$2:$S$13583="MAYOR")*(creg185!$A$2:$A$13583=$A8),ROW(creg185!$S$2:$S$13583)-ROW(creg185!$S$2)+1),COUNTIF($A$3:$A8,$A8))),"")}
A9: 46289 | B9: {=IFERROR(INDEX(creg185!$B$2:$B$13583,SMALL(IF((creg185!$S$2:$S$13583="MAYOR")*(creg185!$A$2:$A$13583=$A9),ROW(creg185!$S$2:$S$13583)-ROW(creg185!$S$2)+1),COUNTIF($A$3:$A9,$A9))),"")}
A10: 46289 | B10: {=IFERROR(INDEX(creg185!$B$2:$B$13583,SMALL(IF((creg185!$S$2:$S$13583="MAYOR")*(creg185!$A$2:$A$13583=$A10),ROW(creg185!$S$2:$S$13583)-ROW(creg185!$S$2)+1),COUNTIF($A$3:$A10,$A10))),"")}
A11: 46289 | B11: {=IFERROR(INDEX(creg185!$B$2:$B$13583,SMALL(IF((creg185!$S$2:$S$13583="MAYOR")*(creg185!$A$2:$A$13583=$A11),ROW(creg185!$S$2:$S$13583)-ROW(creg185!$S$2)+1),COUNTIF($A$3:$A11,$A11))),"")}
A12: 46289 | B12: {=IFERROR(INDEX(creg185!$B$2:$B$13583,SMALL(IF((creg185!$S$2:$S$13583="MAYOR")*(creg185!$A$2:$A$13583=$A12),ROW(creg185!$S$2:$S$13583)-ROW(creg185!$S$2)+1),COUNTIF($A$3:$A12,$A12))),"")}
A15: REMITENTES CON SALDOS MENORES DEL -5%
A16: Fecha | B16: Remitente
A17: 46289 | B17: {=IFERROR(INDEX(creg185!$B$2:$B$13583,SMALL(IF((creg185!$T$2:$T$13583="MENOR")*(creg185!$A$2:$A$13583=$A17),ROW(creg185!$S$2:$S$13583)-ROW(creg185!$S$2)+1),COUNTIF($A$17:$A17,$A17))),"")} -> ENEL COLOMBIA S.A. E.S.P
A18: 46289 | B18: {=IFERROR(INDEX(creg185!$B$2:$B$13583,SMALL(IF((creg185!$T$2:$T$13583="MENOR")*(creg185!$A$2:$A$13583=$A18),ROW(creg185!$S$2:$S$13583)-ROW(creg185!$S$2)+1),COUNTIF($A$17:$A18,$A18))),"")} -> GNI GAS NATURAL INDUSTRIAL DE COLOMBIA S.A. ESP
A19: 46289 | B19: {=IFERROR(INDEX(creg185!$B$2:$B$13583,SMALL(IF((creg185!$T$2:$T$13583="MENOR")*(creg185!$A$2:$A$13583=$A19),ROW(creg185!$S$2:$S$13583)-ROW(creg185!$S$2)+1),COUNTIF($A$17:$A19,$A19))),"")} -> KRONOS ENERGY S.A.S E.S.P
A20: 46289 | B20: {=IFERROR(INDEX(creg185!$B$2:$B$13583,SMALL(IF((creg185!$T$2:$T$13583="MENOR")*(creg185!$A$2:$A$13583=$A20),ROW(creg185!$S$2:$S$13583)-ROW(creg185!$S$2)+1),COUNTIF($A$17:$A20,$A20))),"")} -> ORGANIZACION TERPEL S.A.
A21: 46289 | B21: {=IFERROR(INDEX(creg185!$B$2:$B$13583,SMALL(IF((creg185!$T$2:$T$13583="MENOR")*(creg185!$A$2:$A$13583=$A21),ROW(creg185!$S$2:$S$13583)-ROW(creg185!$S$2)+1),COUNTIF($A$17:$A21,$A21))),"")}
A22: 46289 | B22: {=IFERROR(INDEX(creg185!$B$2:$B$13583,SMALL(IF((creg185!$T$2:$T$13583="MENOR")*(creg185!$A$2:$A$13583=$A22),ROW(creg185!$S$2:$S$13583)-ROW(creg185!$S$2)+1),COUNTIF($A$17:$A22,$A22))),"")}
A23: 46289 | B23: {=IFERROR(INDEX(creg185!$B$2:$B$13583,SMALL(IF((creg185!$T$2:$T$13583="MENOR")*(creg185!$A$2:$A$13583=$A23),ROW(creg185!$S$2:$S$13583)-ROW(creg185!$S$2)+1),COUNTIF($A$17:$A23,$A23))),"")}

Sheet 25
A1: REMITENTES CON SALDOS MAYORES DEL +5%
A2: Fecha | B2: Remitente
A3: 46290 | B3: {=IFERROR(INDEX(creg185!$B$2:$B$13583,SMALL(IF((creg185!$S$2:$S$13583="MAYOR")*(creg185!$A$2:$A$13583=$A3),ROW(creg185!$S$2:$S$13583)-ROW(creg185!$S$2)+1),COUNTIF($A$3:$A3,$A3))),"")} -> ECOPETROL S.A.
A4: 46290 | B4: {=IFERROR(INDEX(creg185!$B$2:$B$13583,SMALL(IF((creg185!$S$2:$S$13583="MAYOR")*(creg185!$A$2:$A$13583=$A4),ROW(creg185!$S$2:$S$13583)-ROW(creg185!$S$2)+1),COUNTIF($A$3:$A4,$A4))),"")} -> GASES DEL CARIBE
A5: 46290 | B5: {=IFERROR(INDEX(creg185!$B$2:$B$13583,SMALL(IF((creg185!$S$2:$S$13583="MAYOR")*(creg185!$A$2:$A$13583=$A5),ROW(creg185!$S$2:$S$13583)-ROW(creg185!$S$2)+1),COUNTIF($A$3:$A5,$A5))),"")}
A6: 46290 | B6: {=IFERROR(INDEX(creg185!$B$2:$B$13583,SMALL(IF((creg185!$S$2:$S$13583="MAYOR")*(creg185!$A$2:$A$13583=$A6),ROW(creg185!$S$2:$S$13583)-ROW(creg185!$S$2)+1),COUNTIF($A$3:$A6,$A6))),"")}
A7: 46290 | B7: {=IFERROR(INDEX(creg185!$B$2:$B$13583,SMALL(IF((creg185!$S$2:$S$13583="MAYOR")*(creg185!$A$2:$A$13583=$A7),ROW(creg185!$S$2:$S$13583)-ROW(creg185!$S$2)+1),COUNTIF($A$3:$A7,$A7))),"")}
A8: 46290 | B8: {=IFERROR(INDEX(creg185!$B$2:$B$13583,SMALL(IF((creg185!$S$2:$S$13583="MAYOR")*(creg185!$A$2:$A$13583=$A8),ROW(creg185!$S$2:$S$13583)-ROW(creg185!$S$2)+1),COUNTIF($A$3:$A8,$A8))),"")}
A9: 46290 | B9: {=IFERROR(INDEX(creg185!$B$2:$B$13583,SMALL(IF((creg185!$S$2:$S$13583="MAYOR")*(creg185!$A$2:$A$13583=$A9),ROW(creg185!$S$2:$S$13583)-ROW(creg185!$S$2)+1),COUNTIF($A$3:$A9,$A9))),"")}
A10: 46290 | B10: {=IFERROR(INDEX(creg185!$B$2:$B$13583,SMALL(IF((creg185!$S$2:$S$13583="MAYOR")*(creg185!$A$2:$A$13583=$A10),ROW(creg185!$S$2:$S$13583)-ROW(creg185!$S$2)+1),COUNTIF($A$3:$A10,$A10))),"")}
A11: 46290 | B11: {=IFERROR(INDEX(creg185!$B$2:$B$13583,SMALL(IF((creg185!$S$2:$S$13583="MAYOR")*(creg185!$A$2:$A$13583=$A11),ROW(creg185!$S$2:$S$13583)-ROW(creg185!$S$2)+1),COUNTIF($A$3:$A11,$A11))),"")}
A12: 46290 | B12: {=IFERROR(INDEX(creg185!$B$2:$B$13583,SMALL(IF((creg185!$S$2:$S$13583="MAYOR")*(creg185!$A$2:$A$13583=$A12),ROW(creg185!$S$2:$S$13583)-ROW(creg185!$S$2)+1),COUNTIF($A$3:$A12,$A12))),"")}
A15: REMITENTES CON SALDOS MENORES DEL -5%
A16: Fecha | B16: Remitente
A17: 46290 | B17: {=IFERROR(INDEX(creg185!$B$2:$B$13583,SMALL(IF((creg185!$T$2:$T$13583="MENOR")*(creg185!$A$2:$A$13583=$A17),ROW(creg185!$S$2:$S$13583)-ROW(creg185!$S$2)+1),COUNTIF($A$17:$A17,$A17))),"")} -> CENIT TRANSPORTEYLOGÍSTICA DE HIDROCARBUROS S.A.S
A18: 46290 | B18: {=IFERROR(INDEX(creg185!$B$2:$B$13583,SMALL(IF((creg185!$T$2:$T$13583="MENOR")*(creg185!$A$2:$A$13583=$A18),ROW(creg185!$S$2:$S$13583)-ROW(creg185!$S$2)+1),COUNTIF($A$17:$A18,$A18))),"")} -> ENEL COLOMBIA S.A. E.S.P
A19: 46290 | B19: {=IFERROR(INDEX(creg185!$B$2:$B$13583,SMALL(IF((creg185!$T$2:$T$13583="MENOR")*(creg185!$A$2:$A$13583=$A19),ROW(creg185!$S$2:$S$13583)-ROW(creg185!$S$2)+1),COUNTIF($A$17:$A19,$A19))),"")} -> KRONOS ENERGY S.A.S E.S.P
A20: 46290 | B20: {=IFERROR(INDEX(creg185!$B$2:$B$13583,SMALL(IF((creg185!$T$2:$T$13583="MENOR")*(creg185!$A$2:$A$13583=$A20),ROW(creg185!$S$2:$S$13583)-ROW(creg185!$S$2)+1),COUNTIF($A$17:$A20,$A20))),"")} -> METROGAS DE COLOMBIA S.A. E.S.P.
A21: 46290 | B21: {=IFERROR(INDEX(creg185!$B$2:$B$13583,SMALL(IF((creg185!$T$2:$T$13583="MENOR")*(creg185!$A$2:$A$13583=$A21),ROW(creg185!$S$2:$S$13583)-ROW(creg185!$S$2)+1),COUNTIF($A$17:$A21,$A21))),"")} -> ORGANIZACION TERPEL S.A.
A22: 46290 | B22: {=IFERROR(INDEX(creg185!$B$2:$B$13583,SMALL(IF((creg185!$T$2:$T$13583="MENOR")*(creg185!$A$2:$A$13583=$A22),ROW(creg185!$S$2:$S$13583)-ROW(creg185!$S$2)+1),COUNTIF($A$17:$A22,$A22))),"")} -> VANTI SA ESP
A23: 46290 | B23: {=IFERROR(INDEX(creg185!$B$2:$B$13583,SMALL(IF((creg185!$T$2:$T$13583="MENOR")*(creg185!$A$2:$A$13583=$A23),ROW(creg185!$S$2:$S$13583)-ROW(creg185!$S$2)+1),COUNTIF($A$17:$A23,$A23))),"")}

Sheet 26
A1: REMITENTES CON SALDOS MAYORES DEL +5%
A2: Fecha | B2: Remitente
A3: 46291 | B3: {=IFERROR(INDEX(creg185!$B$2:$B$13583,SMALL(IF((creg185!$S$2:$S$13583="MAYOR")*(creg185!$A$2:$A$13583=$A3),ROW(creg185!$S$2:$S$13583)-ROW(creg185!$S$2)+1),COUNTIF($A$3:$A3,$A3))),"")} -> ECOPETROL S.A.
A4: 46291 | B4: {=IFERROR(INDEX(creg185!$B$2:$B$13583,SMALL(IF((creg185!$S$2:$S$13583="MAYOR")*(creg185!$A$2:$A$13583=$A4),ROW(creg185!$S$2:$S$13583)-ROW(creg185!$S$2)+1),COUNTIF($A$3:$A4,$A4))),"")} -> GNI GAS NATURAL INDUSTRIAL DE COLOMBIA S.A. ESP
A5: 46291 | B5: {=IFERROR(INDEX(creg185!$B$2:$B$13583,SMALL(IF((creg185!$S$2:$S$13583="MAYOR")*(creg185!$A$2:$A$13583=$A5),ROW(creg185!$S$2:$S$13583)-ROW(creg185!$S$2)+1),COUNTIF($A$3:$A5,$A5))),"")}
A6: 46291 | B6: {=IFERROR(INDEX(creg185!$B$2:$B$13583,SMALL(IF((creg185!$S$2:$S$13583="MAYOR")*(creg185!$A$2:$A$13583=$A6),ROW(creg185!$S$2:$S$13583)-ROW(creg185!$S$2)+1),COUNTIF($A$3:$A6,$A6))),"")}
A7: 46291 | B7: {=IFERROR(INDEX(creg185!$B$2:$B$13583,SMALL(IF((creg185!$S$2:$S$13583="MAYOR")*(creg185!$A$2:$A$13583=$A7),ROW(creg185!$S$2:$S$13583)-ROW(creg185!$S$2)+1),COUNTIF($A$3:$A7,$A7))),"")}
A8: 46291 | B8: {=IFERROR(INDEX(creg185!$B$2:$B$13583,SMALL(IF((creg185!$S$2:$S$13583="MAYOR")*(creg185!$A$2:$A$13583=$A8),ROW(creg185!$S$2:$S$13583)-ROW(creg185!$S$2)+1),COUNTIF($A$3:$A8,$A8))),"")}
A9: 46291 | B9: {=IFERROR(INDEX(creg185!$B$2:$B$13583,SMALL(IF((creg185!$S$2:$S$13583="MAYOR")*(creg185!$A$2:$A$13583=$A9),ROW(creg185!$S$2:$S$13583)-ROW(creg185!$S$2)+1),COUNTIF($A$3:$A9,$A9))),"")}
A10: 46291 | B10: {=IFERROR(INDEX(creg185!$B$2:$B$13583,SMALL(IF((creg185!$S$2:$S$13583="MAYOR")*(creg185!$A$2:$A$13583=$A10),ROW(creg185!$S$2:$S$13583)-ROW(creg185!$S$2)+1),COUNTIF($A$3:$A10,$A10))),"")}
A11: 46291 | B11: {=IFERROR(INDEX(creg185!$B$2:$B$13583,SMALL(IF((creg185!$S$2:$S$13583="MAYOR")*(creg185!$A$2:$A$13583=$A11),ROW(creg185!$S$2:$S$13583)-ROW(creg185!$S$2)+1),COUNTIF($A$3:$A11,$A11))),"")}
A12: 46291 | B12: {=IFERROR(INDEX(creg185!$B$2:$B$13583,SMALL(IF((creg185!$S$2:$S$13583="MAYOR")*(creg185!$A$2:$A$13583=$A12),ROW(creg185!$S$2:$S$13583)-ROW(creg185!$S$2)+1),COUNTIF($A$3:$A12,$A12))),"")}
A15: REMITENTES CON SALDOS MENORES DEL -5%
A16: Fecha | B16: Remitente
A17: 46291 | B17: {=IFERROR(INDEX(creg185!$B$2:$B$13583,SMALL(IF((creg185!$T$2:$T$13583="MENOR")*(creg185!$A$2:$A$13583=$A17),ROW(creg185!$S$2:$S$13583)-ROW(creg185!$S$2)+1),COUNTIF($A$17:$A17,$A17))),"")} -> CENIT TRANSPORTEYLOGÍSTICA DE HIDROCARBUROS S.A.S
A18: 46291 | B18: {=IFERROR(INDEX(creg185!$B$2:$B$13583,SMALL(IF((creg185!$T$2:$T$13583="MENOR")*(creg185!$A$2:$A$13583=$A18),ROW(creg185!$S$2:$S$13583)-ROW(creg185!$S$2)+1),COUNTIF($A$17:$A18,$A18))),"")} -> ENEL COLOMBIA S.A. E.S.P
A19: 46291 | B19: {=IFERROR(INDEX(creg185!$B$2:$B$13583,SMALL(IF((creg185!$T$2:$T$13583="MENOR")*(creg185!$A$2:$A$13583=$A19),ROW(creg185!$S$2:$S$13583)-ROW(creg185!$S$2)+1),COUNTIF($A$17:$A19,$A19))),"")} -> GASES DEL CARIBE
A20: 46291 | B20: {=IFERROR(INDEX(creg185!$B$2:$B$13583,SMALL(IF((creg185!$T$2:$T$13583="MENOR")*(creg185!$A$2:$A$13583=$A20),ROW(creg185!$S$2:$S$13583)-ROW(creg185!$S$2)+1),COUNTIF($A$17:$A20,$A20))),"")} -> KRONOS ENERGY S.A.S E.S.P
A21: 46291 | B21: {=IFERROR(INDEX(creg185!$B$2:$B$13583,SMALL(IF((creg185!$T$2:$T$13583="MENOR")*(creg185!$A$2:$A$13583=$A21),ROW(creg185!$S$2:$S$13583)-ROW(creg185!$S$2)+1),COUNTIF($A$17:$A21,$A21))),"")} -> METROGAS DE COLOMBIA S.A. E.S.P.
A22: 46291 | B22: {=IFERROR(INDEX(creg185!$B$2:$B$13583,SMALL(IF((creg185!$T$2:$T$13583="MENOR")*(creg185!$A$2:$A$13583=$A22),ROW(creg185!$S$2:$S$13583)-ROW(creg185!$S$2)+1),COUNTIF($A$17:$A22,$A22))),"")} -> ORGANIZACION TERPEL S.A.
A23: 46291 | B23: {=IFERROR(INDEX(creg185!$B$2:$B$13583,SMALL(IF((creg185!$T$2:$T$13583="MENOR")*(creg185!$A$2:$A$13583=$A23),ROW(creg185!$S$2:$S$13583)-ROW(creg185!$S$2)+1),COUNTIF($A$17:$A23,$A23))),"")} -> PERENCO COLOMBIA LTD.

Sheet 27
A1: REMITENTES CON SALDOS MAYORES DEL +5%
A2: Fecha | B2: Remitente
A3: 46292 | B3: {=IFERROR(INDEX(creg185!$B$2:$B$13583,SMALL(IF((creg185!$S$2:$S$13583="MAYOR")*(creg185!$A$2:$A$13583=$A3),ROW(creg185!$S$2:$S$13583)-ROW(creg185!$S$2)+1),COUNTIF($A$3:$A3,$A3))),"")} -> EFIGAS GAS NATURAL S.A. E.S.P.
A4: 46292 | B4: {=IFERROR(INDEX(creg185!$B$2:$B$13583,SMALL(IF((creg185!$S$2:$S$13583="MAYOR")*(creg185!$A$2:$A$13583=$A4),ROW(creg185!$S$2:$S$13583)-ROW(creg185!$S$2)+1),COUNTIF($A$3:$A4,$A4))),"")} -> GASES DEL LLANO
A5: 46292 | B5: {=IFERROR(INDEX(creg185!$B$2:$B$13583,SMALL(IF((creg185!$S$2:$S$13583="MAYOR")*(creg185!$A$2:$A$13583=$A5),ROW(creg185!$S$2:$S$13583)-ROW(creg185!$S$2)+1),COUNTIF($A$3:$A5,$A5))),"")} -> METROGAS DE COLOMBIA S.A. E.S.P.
A6: 46292 | B6: {=IFERROR(INDEX(creg185!$B$2:$B$13583,SMALL(IF((creg185!$S$2:$S$13583="MAYOR")*(creg185!$A$2:$A$13583=$A6),ROW(creg185!$S$2:$S$13583)-ROW(creg185!$S$2)+1),COUNTIF($A$3:$A6,$A6))),"")} -> VANTI SA ESP
A7: 46292 | B7: {=IFERROR(INDEX(creg185!$B$2:$B$13583,SMALL(IF((creg185!$S$2:$S$13583="MAYOR")*(creg185!$A$2:$A$13583=$A7),ROW(creg185!$S$2:$S$13583)-ROW(creg185!$S$2)+1),COUNTIF($A$3:$A7,$A7))),"")}
A8: 46292 | B8: {=IFERROR(INDEX(creg185!$B$2:$B$13583,SMALL(IF((creg185!$S$2:$S$13583="MAYOR")*(creg185!$A$2:$A$13583=$A8),ROW(creg185!$S$2:$S$13583)-ROW(creg185!$S$2)+1),COUNTIF($A$3:$A8,$A8))),"")}
A9: 46292 | B9: {=IFERROR(INDEX(creg185!$B$2:$B$13583,SMALL(IF((creg185!$S$2:$S$13583="MAYOR")*(creg185!$A$2:$A$13583=$A9),ROW(creg185!$S$2:$S$13583)-ROW(creg185!$S$2)+1),COUNTIF($A$3:$A9,$A9))),"")}
A10: 46292 | B10: {=IFERROR(INDEX(creg185!$B$2:$B$13583,SMALL(IF((creg185!$S$2:$S$13583="MAYOR")*(creg185!$A$2:$A$13583=$A10),ROW(creg185!$S$2:$S$13583)-ROW(creg185!$S$2)+1),COUNTIF($A$3:$A10,$A10))),"")}
A11: 46292 | B11: {=IFERROR(INDEX(creg185!$B$2:$B$13583,SMALL(IF((creg185!$S$2:$S$13583="MAYOR")*(creg185!$A$2:$A$13583=$A11),ROW(creg185!$S$2:$S$13583)-ROW(creg185!$S$2)+1),COUNTIF($A$3:$A11,$A11))),"")}
A12: 46292 | B12: {=IFERROR(INDEX(creg185!$B$2:$B$13583,SMALL(IF((creg185!$S$2:$S$13583="MAYOR")*(creg185!$A$2:$A$13583=$A12),ROW(creg185!$S$2:$S$13583)-ROW(creg185!$S$2)+1),COUNTIF($A$3:$A12,$A12))),"")}
A15: REMITENTES CON SALDOS MENORES DEL -5%
A16: Fecha | B16: Remitente
A17: 46292 | B17: {=IFERROR(INDEX(creg185!$B$2:$B$13583,SMALL(IF((creg185!$T$2:$T$13583="MENOR")*(creg185!$A$2:$A$13583=$A17),ROW(creg185!$S$2:$S$13583)-ROW(creg185!$S$2)+1),COUNTIF($A$17:$A17,$A17))),"")} -> KRONOS ENERGY S.A.S E.S.P
A18: 46292 | B18: {=IFERROR(INDEX(creg185!$B$2:$B$13583,SMALL(IF((creg185!$T$2:$T$13583="MENOR")*(creg185!$A$2:$A$13583=$A18),ROW(creg185!$S$2:$S$13583)-ROW(creg185!$S$2)+1),COUNTIF($A$17:$A18,$A18))),"")} -> ORGANIZACION TERPEL S.A.
A19: 46292 | B19: {=IFERROR(INDEX(creg185!$B$2:$B$13583,SMALL(IF((creg185!$T$2:$T$13583="MENOR")*(creg185!$A$2:$A$13583=$A19),ROW(creg185!$S$2:$S$13583)-ROW(creg185!$S$2)+1),COUNTIF($A$17:$A19,$A19))),"")}
A20: 46292 | B20: {=IFERROR(INDEX(creg185!$B$2:$B$13583,SMALL(IF((creg185!$T$2:$T$13583="MENOR")*(creg185!$A$2:$A$13583=$A20),ROW(creg185!$S$2:$S$13583)-ROW(creg185!$S$2)+1),COUNTIF($A$17:$A20,$A20))),"")}
A21: 46292 | B21: {=IFERROR(INDEX(creg185!$B$2:$B$13583,SMALL(IF((creg185!$T$2:$T$13583="MENOR")*(creg185!$A$2:$A$13583=$A21),ROW(creg185!$S$2:$S$13583)-ROW(creg185!$S$2)+1),COUNTIF($A$17:$A21,$A21))),"")}
A22: 46292 | B22: {=IFERROR(INDEX(creg185!$B$2:$B$13583,SMALL(IF((creg185!$T$2:$T$13583="MENOR")*(creg185!$A$2:$A$13583=$A22),ROW(creg185!$S$2:$S$13583)-ROW(creg185!$S$2)+1),COUNTIF($A$17:$A22,$A22))),"")}
A23: 46292 | B23: {=IFERROR(INDEX(creg185!$B$2:$B$13583,SMALL(IF((creg185!$T$2:$T$13583="MENOR")*(creg185!$A$2:$A$13583=$A23),ROW(creg185!$S$2:$S$13583)-ROW(creg185!$S$2)+1),COUNTIF($A$17:$A23,$A23))),"")}

Sheet 28
A1: REMITENTES CON SALDOS MAYORES DEL +5%
A2: Fecha | B2: Remitente
A3: 46293 | B3: {=IFERROR(INDEX(creg185!$B$2:$B$13583,SMALL(IF((creg185!$S$2:$S$13583="MAYOR")*(creg185!$A$2:$A$13583=$A3),ROW(creg185!$S$2:$S$13583)-ROW(creg185!$S$2)+1),COUNTIF($A$3:$A3,$A3))),"")} -> EFIGAS GAS NATURAL S.A. E.S.P.
A4: 46293 | B4: {=IFERROR(INDEX(creg185!$B$2:$B$13583,SMALL(IF((creg185!$S$2:$S$13583="MAYOR")*(creg185!$A$2:$A$13583=$A4),ROW(creg185!$S$2:$S$13583)-ROW(creg185!$S$2)+1),COUNTIF($A$3:$A4,$A4))),"")} -> METROGAS DE COLOMBIA S.A. E.S.P.
A5: 46293 | B5: {=IFERROR(INDEX(creg185!$B$2:$B$13583,SMALL(IF((creg185!$S$2:$S$13583="MAYOR")*(creg185!$A$2:$A$13583=$A5),ROW(creg185!$S$2:$S$13583)-ROW(creg185!$S$2)+1),COUNTIF($A$3:$A5,$A5))),"")} -> VANTI SA ESP
A6: 46293 | B6: {=IFERROR(INDEX(creg185!$B$2:$B$13583,SMALL(IF((creg185!$S$2:$S$13583="MAYOR")*(creg185!$A$2:$A$13583=$A6),ROW(creg185!$S$2:$S$13583)-ROW(creg185!$S$2)+1),COUNTIF($A$3:$A6,$A6))),"")}
A7: 46293 | B7: {=IFERROR(INDEX(creg185!$B$2:$B$13583,SMALL(IF((creg185!$S$2:$S$13583="MAYOR")*(creg185!$A$2:$A$13583=$A7),ROW(creg185!$S$2:$S$13583)-ROW(creg185!$S$2)+1),COUNTIF($A$3:$A7,$A7))),"")}
A8: 46293 | B8: {=IFERROR(INDEX(creg185!$B$2:$B$13583,SMALL(IF((creg185!$S$2:$S$13583="MAYOR")*(creg185!$A$2:$A$13583=$A8),ROW(creg185!$S$2:$S$13583)-ROW(creg185!$S$2)+1),COUNTIF($A$3:$A8,$A8))),"")}
A9: 46293 | B9: {=IFERROR(INDEX(creg185!$B$2:$B$13583,SMALL(IF((creg185!$S$2:$S$13583="MAYOR")*(creg185!$A$2:$A$13583=$A9),ROW(creg185!$S$2:$S$13583)-ROW(creg185!$S$2)+1),COUNTIF($A$3:$A9,$A9))),"")}
A10: 46293 | B10: {=IFERROR(INDEX(creg185!$B$2:$B$13583,SMALL(IF((creg185!$S$2:$S$13583="MAYOR")*(creg185!$A$2:$A$13583=$A10),ROW(creg185!$S$2:$S$13583)-ROW(creg185!$S$2)+1),COUNTIF($A$3:$A10,$A10))),"")}
A11: 46293 | B11: {=IFERROR(INDEX(creg185!$B$2:$B$13583,SMALL(IF((creg185!$S$2:$S$13583="MAYOR")*(creg185!$A$2:$A$13583=$A11),ROW(creg185!$S$2:$S$13583)-ROW(creg185!$S$2)+1),COUNTIF($A$3:$A11,$A11))),"")}
A12: 46293 | B12: {=IFERROR(INDEX(creg185!$B$2:$B$13583,SMALL(IF((creg185!$S$2:$S$13583="MAYOR")*(creg185!$A$2:$A$13583=$A12),ROW(creg185!$S$2:$S$13583)-ROW(creg185!$S$2)+1),COUNTIF($A$3:$A12,$A12))),"")}
A15: REMITENTES CON SALDOS MENORES DEL -5%
A16: Fecha | B16: Remitente
A17: 46293 | B17: {=IFERROR(INDEX(creg185!$B$2:$B$13583,SMALL(IF((creg185!$T$2:$T$13583="MENOR")*(creg185!$A$2:$A$13583=$A17),ROW(creg185!$S$2:$S$13583)-ROW(creg185!$S$2)+1),COUNTIF($A$17:$A17,$A17))),"")} -> CENIT TRANSPORTEYLOGÍSTICA DE HIDROCARBUROS S.A.S
A18: 46293 | B18: {=IFERROR(INDEX(creg185!$B$2:$B$13583,SMALL(IF((creg185!$T$2:$T$13583="MENOR")*(creg185!$A$2:$A$13583=$A18),ROW(creg185!$S$2:$S$13583)-ROW(creg185!$S$2)+1),COUNTIF($A$17:$A18,$A18))),"")} -> ORGANIZACION TERPEL S.A.
A19: 46293 | B19: {=IFERROR(INDEX(creg185!$B$2:$B$13583,SMALL(IF((creg185!$T$2:$T$13583="MENOR")*(creg185!$A$2:$A$13583=$A19),ROW(creg185!$S$2:$S$13583)-ROW(creg185!$S$2)+1),COUNTIF($A$17:$A19,$A19))),"")}
A20: 46293 | B20: {=IFERROR(INDEX(creg185!$B$2:$B$13583,SMALL(IF((creg185!$T$2:$T$13583="MENOR")*(creg185!$A$2:$A$13583=$A20),ROW(creg185!$S$2:$S$13583)-ROW(creg185!$S$2)+1),COUNTIF($A$17:$A20,$A20))),"")}
A21: 46293 | B21: {=IFERROR(INDEX(creg185!$B$2:$B$13583,SMALL(IF((creg185!$T$2:$T$13583="MENOR")*(creg185!$A$2:$A$13583=$A21),ROW(creg185!$S$2:$S$13583)-ROW(creg185!$S$2)+1),COUNTIF($A$17:$A21,$A21))),"")}
A22: 46293 | B22: {=IFERROR(INDEX(creg185!$B$2:$B$13583,SMALL(IF((creg185!$T$2:$T$13583="MENOR")*(creg185!$A$2:$A$13583=$A22),ROW(creg185!$S$2:$S$13583)-ROW(creg185!$S$2)+1),COUNTIF($A$17:$A22,$A22))),"")}
A23: 46293 | B23: {=IFERROR(INDEX(creg185!$B$2:$B$13583,SMALL(IF((creg185!$T$2:$T$13583="MENOR")*(creg185!$A$2:$A$13583=$A23),ROW(creg185!$S$2:$S$13583)-ROW(creg185!$S$2)+1),COUNTIF($A$17:$A23,$A23))),"")}

Sheet 29
A1: REMITENTES CON SALDOS MAYORES DEL +5%
A2: Fecha | B2: Remitente
A3: 46294 | B3: {=IFERROR(INDEX(creg185!$B$2:$B$13583,SMALL(IF((creg185!$S$2:$S$13583="MAYOR")*(creg185!$A$2:$A$13583=$A3),ROW(creg185!$S$2:$S$13583)-ROW(creg185!$S$2)+1),COUNTIF($A$3:$A3,$A3))),"")}
A4: 46294 | B4: {=IFERROR(INDEX(creg185!$B$2:$B$13583,SMALL(IF((creg185!$S$2:$S$13583="MAYOR")*(creg185!$A$2:$A$13583=$A4),ROW(creg185!$S$2:$S$13583)-ROW(creg185!$S$2)+1),COUNTIF($A$3:$A4,$A4))),"")}
A5: 46294 | B5: {=IFERROR(INDEX(creg185!$B$2:$B$13583,SMALL(IF((creg185!$S$2:$S$13583="MAYOR")*(creg185!$A$2:$A$13583=$A5),ROW(creg185!$S$2:$S$13583)-ROW(creg185!$S$2)+1),COUNTIF($A$3:$A5,$A5))),"")}
A6: 46294 | B6: {=IFERROR(INDEX(creg185!$B$2:$B$13583,SMALL(IF((creg185!$S$2:$S$13583="MAYOR")*(creg185!$A$2:$A$13583=$A6),ROW(creg185!$S$2:$S$13583)-ROW(creg185!$S$2)+1),COUNTIF($A$3:$A6,$A6))),"")}
A7: 46294 | B7: {=IFERROR(INDEX(creg185!$B$2:$B$13583,SMALL(IF((creg185!$S$2:$S$13583="MAYOR")*(creg185!$A$2:$A$13583=$A7),ROW(creg185!$S$2:$S$13583)-ROW(creg185!$S$2)+1),COUNTIF($A$3:$A7,$A7))),"")}
A8: 46294 | B8: {=IFERROR(INDEX(creg185!$B$2:$B$13583,SMALL(IF((creg185!$S$2:$S$13583="MAYOR")*(creg185!$A$2:$A$13583=$A8),ROW(creg185!$S$2:$S$13583)-ROW(creg185!$S$2)+1),COUNTIF($A$3:$A8,$A8))),"")}
A9: 46294 | B9: {=IFERROR(INDEX(creg185!$B$2:$B$13583,SMALL(IF((creg185!$S$2:$S$13583="MAYOR")*(creg185!$A$2:$A$13583=$A9),ROW(creg185!$S$2:$S$13583)-ROW(creg185!$S$2)+1),COUNTIF($A$3:$A9,$A9))),"")}
A10: 46294 | B10: {=IFERROR(INDEX(creg185!$B$2:$B$13583,SMALL(IF((creg185!$S$2:$S$13583="MAYOR")*(creg185!$A$2:$A$13583=$A10),ROW(creg185!$S$2:$S$13583)-ROW(creg185!$S$2)+1),COUNTIF($A$3:$A10,$A10))),"")}
A11: 46294 | B11: {=IFERROR(INDEX(creg185!$B$2:$B$13583,SMALL(IF((creg185!$S$2:$S$13583="MAYOR")*(creg185!$A$2:$A$13583=$A11),ROW(creg185!$S$2:$S$13583)-ROW(creg185!$S$2)+1),COUNTIF($A$3:$A11,$A11))),"")}
A12: 46294 | B12: {=IFERROR(INDEX(creg185!$B$2:$B$13583,SMALL(IF((creg185!$S$2:$S$13583="MAYOR")*(creg185!$A$2:$A$13583=$A12),ROW(creg185!$S$2:$S$13583)-ROW(creg185!$S$2)+1),COUNTIF($A$3:$A12,$A12))),"")}
A15: REMITENTES CON SALDOS MENORES DEL -5%
A16: Fecha | B16: Remitente
A17: 46294 | B17: {=IFERROR(INDEX(creg185!$B$2:$B$13583,SMALL(IF((creg185!$T$2:$T$13583="MENOR")*(creg185!$A$2:$A$13583=$A17),ROW(creg185!$S$2:$S$13583)-ROW(creg185!$S$2)+1),COUNTIF($A$17:$A17,$A17))),"")}
A18: 46294 | B18: {=IFERROR(INDEX(creg185!$B$2:$B$13583,SMALL(IF((creg185!$T$2:$T$13583="MENOR")*(creg185!$A$2:$A$13583=$A18),ROW(creg185!$S$2:$S$13583)-ROW(creg185!$S$2)+1),COUNTIF($A$17:$A18,$A18))),"")}
A19: 46294 | B19: {=IFERROR(INDEX(creg185!$B$2:$B$13583,SMALL(IF((creg185!$T$2:$T$13583="MENOR")*(creg185!$A$2:$A$13583=$A19),ROW(creg185!$S$2:$S$13583)-ROW(creg185!$S$2)+1),COUNTIF($A$17:$A19,$A19))),"")}
A20: 46294 | B20: {=IFERROR(INDEX(creg185!$B$2:$B$13583,SMALL(IF((creg185!$T$2:$T$13583="MENOR")*(creg185!$A$2:$A$13583=$A20),ROW(creg185!$S$2:$S$13583)-ROW(creg185!$S$2)+1),COUNTIF($A$17:$A20,$A20))),"")}
A21: 46294 | B21: {=IFERROR(INDEX(creg185!$B$2:$B$13583,SMALL(IF((creg185!$T$2:$T$13583="MENOR")*(creg185!$A$2:$A$13583=$A21),ROW(creg185!$S$2:$S$13583)-ROW(creg185!$S$2)+1),COUNTIF($A$17:$A21,$A21))),"")}
A22: 46294 | B22: {=IFERROR(INDEX(creg185!$B$2:$B$13583,SMALL(IF((creg185!$T$2:$T$13583="MENOR")*(creg185!$A$2:$A$13583=$A22),ROW(creg185!$S$2:$S$13583)-ROW(creg185!$S$2)+1),COUNTIF($A$17:$A22,$A22))),"")}
A23: 46294 | B23: {=IFERROR(INDEX(creg185!$B$2:$B$13583,SMALL(IF((creg185!$T$2:$T$13583="MENOR")*(creg185!$A$2:$A$13583=$A23),ROW(creg185!$S$2:$S$13583)-ROW(creg185!$S$2)+1),COUNTIF($A$17:$A23,$A23))),"")}

Sheet 30
A1: REMITENTES CON SALDOS MAYORES DEL +5%
A2: Fecha | B2: Remitente
A3: 46295 | B3: {=IFERROR(INDEX(creg185!$B$2:$B$13583,SMALL(IF((creg185!$S$2:$S$13583="MAYOR")*(creg185!$A$2:$A$13583=$A3),ROW(creg185!$S$2:$S$13583)-ROW(creg185!$S$2)+1),COUNTIF($A$3:$A3,$A3))),"")}
A4: 46295 | B4: {=IFERROR(INDEX(creg185!$B$2:$B$13583,SMALL(IF((creg185!$S$2:$S$13583="MAYOR")*(creg185!$A$2:$A$13583=$A4),ROW(creg185!$S$2:$S$13583)-ROW(creg185!$S$2)+1),COUNTIF($A$3:$A4,$A4))),"")}
A5: 46295 | B5: {=IFERROR(INDEX(creg185!$B$2:$B$13583,SMALL(IF((creg185!$S$2:$S$13583="MAYOR")*(creg185!$A$2:$A$13583=$A5),ROW(creg185!$S$2:$S$13583)-ROW(creg185!$S$2)+1),COUNTIF($A$3:$A5,$A5))),"")}
A6: 46295 | B6: {=IFERROR(INDEX(creg185!$B$2:$B$13583,SMALL(IF((creg185!$S$2:$S$13583="MAYOR")*(creg185!$A$2:$A$13583=$A6),ROW(creg185!$S$2:$S$13583)-ROW(creg185!$S$2)+1),COUNTIF($A$3:$A6,$A6))),"")}
A7: 46295 | B7: {=IFERROR(INDEX(creg185!$B$2:$B$13583,SMALL(IF((creg185!$S$2:$S$13583="MAYOR")*(creg185!$A$2:$A$13583=$A7),ROW(creg185!$S$2:$S$13583)-ROW(creg185!$S$2)+1),COUNTIF($A$3:$A7,$A7))),"")}
A8: 46295 | B8: {=IFERROR(INDEX(creg185!$B$2:$B$13583,SMALL(IF((creg185!$S$2:$S$13583="MAYOR")*(creg185!$A$2:$A$13583=$A8),ROW(creg185!$S$2:$S$13583)-ROW(creg185!$S$2)+1),COUNTIF($A$3:$A8,$A8))),"")}
A9: 46295 | B9: {=IFERROR(INDEX(creg185!$B$2:$B$13583,SMALL(IF((creg185!$S$2:$S$13583="MAYOR")*(creg185!$A$2:$A$13583=$A9),ROW(creg185!$S$2:$S$13583)-ROW(creg185!$S$2)+1),COUNTIF($A$3:$A9,$A9))),"")}
A10: 46295 | B10: {=IFERROR(INDEX(creg185!$B$2:$B$13583,SMALL(IF((creg185!$S$2:$S$13583="MAYOR")*(creg185!$A$2:$A$13583=$A10),ROW(creg185!$S$2:$S$13583)-ROW(creg185!$S$2)+1),COUNTIF($A$3:$A10,$A10))),"")}
A11: 46295 | B11: {=IFERROR(INDEX(creg185!$B$2:$B$13583,SMALL(IF((creg185!$S$2:$S$13583="MAYOR")*(creg185!$A$2:$A$13583=$A11),ROW(creg185!$S$2:$S$13583)-ROW(creg185!$S$2)+1),COUNTIF($A$3:$A11,$A11))),"")}
A12: 46295 | B12: {=IFERROR(INDEX(creg185!$B$2:$B$13583,SMALL(IF((creg185!$S$2:$S$13583="MAYOR")*(creg185!$A$2:$A$13583=$A12),ROW(creg185!$S$2:$S$13583)-ROW(creg185!$S$2)+1),COUNTIF($A$3:$A12,$A12))),"")}
A15: REMITENTES CON SALDOS MENORES DEL -5%
A16: Fecha | B16: Remitente
A17: 46295 | B17: {=IFERROR(INDEX(creg185!$B$2:$B$13583,SMALL(IF((creg185!$T$2:$T$13583="MENOR")*(creg185!$A$2:$A$13583=$A17),ROW(creg185!$S$2:$S$13583)-ROW(creg185!$S$2)+1),COUNTIF($A$17:$A17,$A17))),"")}
A18: 46295 | B18: {=IFERROR(INDEX(creg185!$B$2:$B$13583,SMALL(IF((creg185!$T$2:$T$13583="MENOR")*(creg185!$A$2:$A$13583=$A18),ROW(creg185!$S$2:$S$13583)-ROW(creg185!$S$2)+1),COUNTIF($A$17:$A18,$A18))),"")}
A19: 46295 | B19: {=IFERROR(INDEX(creg185!$B$2:$B$13583,SMALL(IF((creg185!$T$2:$T$13583="MENOR")*(creg185!$A$2:$A$13583=$A19),ROW(creg185!$S$2:$S$13583)-ROW(creg185!$S$2)+1),COUNTIF($A$17:$A19,$A19))),"")}
A20: 46295 | B20: {=IFERROR(INDEX(creg185!$B$2:$B$13583,SMALL(IF((creg185!$T$2:$T$13583="MENOR")*(creg185!$A$2:$A$13583=$A20),ROW(creg185!$S$2:$S$13583)-ROW(creg185!$S$2)+1),COUNTIF($A$17:$A20,$A20))),"")}
A21: 46295 | B21: {=IFERROR(INDEX(creg185!$B$2:$B$13583,SMALL(IF((creg185!$T$2:$T$13583="MENOR")*(creg185!$A$2:$A$13583=$A21),ROW(creg185!$S$2:$S$13583)-ROW(creg185!$S$2)+1),COUNTIF($A$17:$A21,$A21))),"")}
A22: 46295 | B22: {=IFERROR(INDEX(creg185!$B$2:$B$13583,SMALL(IF((creg185!$T$2:$T$13583="MENOR")*(creg185!$A$2:$A$13583=$A22),ROW(creg185!$S$2:$S$13583)-ROW(creg185!$S$2)+1),COUNTIF($A$17:$A22,$A22))),"")}
A23: 46295 | B23: {=IFERROR(INDEX(creg185!$B$2:$B$13583,SMALL(IF((creg185!$T$2:$T$13583="MENOR")*(creg185!$A$2:$A$13583=$A23),ROW(creg185!$S$2:$S$13583)-ROW(creg185!$S$2)+1),COUNTIF($A$17:$A23,$A23))),"")}

Sheet creg185
A1: Fecha | B1: Remitente | C1: Punto | D1: Desbalance_Acumulado_Previo | E1: Nominacion | F1: Medicion | G1: Desbalance_Diario | H1: Desbalance_Acumulado | I1: Compensacion_Gas_Transportador | J1: Compensacion_Gas_Remitente | K1: Desbalance_Positivo_Perdido | L1: Contract_Balance_Transfer | M1: Transferido_Diff_Medicion_Punto | N1: Transferido_Desde_CREG114 | O1: Transferido_Desde_Cuentas_Congelada | P1: Capacidad | Q1: CruceCapacidad | R1: Porcentaje | S1: MAYORES | T1: MENORES
A2: 46204 | B2: A & A ENERGY S.A.S. | C2: CREG185 | D2: 0 | E2: 725 | F2: 725 | G2: 0 | H2: 0 | P2: 74 | R2: 0 | S2: =IF(cuenta_balance_creg185[[#This Row],[Porcentaje]]>=5,"MAYOR","") | T2: =IF(cuenta_balance_creg185[[#This Row],[Porcentaje]]<=-5,"MENOR","")
A3: 46205 | B3: A & A ENERGY S.A.S. | C3: CREG185 | D3: 0 | E3: 604 | F3: 604 | G3: 0 | H3: 0 | P3: 0 | S3: =IF(cuenta_balance_creg185[[#This Row],[Porcentaje]]>=5,"MAYOR","") | T3: =IF(cuenta_balance_creg185[[#This Row],[Porcentaje]]<=-5,"MENOR","")
A4: 46206 | B4: A & A ENERGY S.A.S. | C4: CREG185 | D4: 0 | E4: 926 | F4: 926 | G4: 0 | H4: 0 | P4: 0 | S4: =IF(cuenta_balance_creg185[[#This Row],[Porcentaje]]>=5,"MAYOR","") | T4: =IF(cuenta_balance_creg185[[#This Row],[Porcentaje]]<=-5,"MENOR","")
A5: 46207 | B5: A & A ENERGY S.A.S. | C5: CREG185 | D5: 0 | E5: 282 | F5: 282 | G5: 0 | H5: 0 | P5: 0 | S5: =IF(cuenta_balance_creg185[[#This Row],[Porcentaje]]>=5,"MAYOR","") | T5: =IF(cuenta_balance_creg185[[#This Row],[Porcentaje]]<=-5,"MENOR","")
A6: 46208 | B6: A & A ENERGY S.A.S. | C6: CREG185 | D6: 0 | E6: 845 | F6: 845 | G6: 0 | H6: 0 | P6: 0 | S6: =IF(cuenta_balance_creg185[[#This Row],[Porcentaje]]>=5,"MAYOR","") | T6: =IF(cuenta_balance_creg185[[#This Row],[Porcentaje]]<=-5,"MENOR","")
A7: 46209 | B7: A & A ENERGY S.A.S. | C7: CREG185 | D7: 0 | E7: 431 | F7: 431 | G7: 0 | H7: 0 | P7: 0 | S7: =IF(cuenta_balance_creg185[[#This Row],[Porcentaje]]>=5,"MAYOR","") | T7: =IF(cuenta_balance_creg185[[#This Row],[Porcentaje]]<=-5,"MENOR","")
A8: 46210 | B8: A & A ENERGY S.A.S. | C8: CREG185 | D8: 0 | E8: 378 | F8: 378 | G8: 0 | H8: 0 | P8: 0 | S8: =IF(cuenta_balance_creg185[[#This Row],[Porcentaje]]>=5,"MAYOR","") | T8: =IF(cuenta_balance_creg185[[#This Row],[Porcentaje]]<=-5,"MENOR","")
A9: 46211 | B9: A & A ENERGY S.A.S. | C9: CREG185 | D9: 0 | E9: 290 | F9: 290 | G9: 0 | H9: 0 | P9: 0 | S9: =IF(cuenta_balance_creg185[[#This Row],[Porcentaje]]>=5,"MAYOR","") | T9: =IF(cuenta_balance_creg185[[#This Row],[Porcentaje]]<=-5,"MENOR","")
A10: 46212 | B10: A & A ENERGY S.A.S. | C10: CREG185 | D10: 0 | E10: 692 | F10: 692 | G10: 0 | H10: 0 | P10: 0 | S10: =IF(cuenta_balance_creg185[[#This Row],[Porcentaje]]>=5,"MAYOR","") | T10: =IF(cuenta_balance_creg185[[#This Row],[Porcentaje]]<=-5,"MENOR","")
A11: 46213 | B11: A & A ENERGY S.A.S. | C11: CREG185 | D11: 0 | E11: 310 | F11: 310 | G11: 0 | H11: 0 | P11: 0 | S11: =IF(cuenta_balance_creg185[[#This Row],[Porcentaje]]>=5,"MAYOR","") | T11: =IF(cuenta_balance_creg185[[#This Row],[Porcentaje]]<=-5,"MENOR","")
A12: 46214 | B12: A & A ENERGY S.A.S. | C12: CREG185 | D12: 0 | E12: 307 | F12: 307 | G12: 0 | H12: 0 | P12: 0 | S12: =IF(cuenta_balance_creg185[[#This Row],[Porcentaje]]>=5,"MAYOR","") | T12: =IF(cuenta_balance_creg185[[#This Row],[Porcentaje]]<=-5,"MENOR","")
A13: 46215 | B13: A & A ENERGY S.A.S. | C13: CREG185 | D13: 0 | E13: 322 | F13: 322 | G13: 0 | H13: 0 | P13: 0 | S13: =IF(cuenta_balance_creg185[[#This Row],[Porcentaje]]>=5,"MAYOR","") | T13: =IF(cuenta_balance_creg185[[#This Row],[Porcentaje]]<=-5,"MENOR","")
A14: 46216 | B14: A & A ENERGY S.A.S. | C14: CREG185 | D14: 0 | E14: 322 | F14: 322 | G14: 0 | H14: 0 | P14: 0 | S14: =IF(cuenta_balance_creg185[[#This Row],[Porcentaje]]>=5,"MAYOR","") | T14: =IF(cuenta_balance_creg185[[#This Row],[Porcentaje]]<=-5,"MENOR","")
... A18: 46220 | B18: A & A ENERGY S.A.S. | C18: CREG185 | D18: 0 | E18: 349 | F18: 349 | G18: 0 | H18: 0 | P18: 0 | S18: =IF(cuenta_balance_creg185[[#This Row],[Porcentaje]]>=5,"MAYOR","") | T18: =IF(cuenta_balance_creg185[[#This Row],[Porcentaje]]<=-5,"MENOR","")
A19: 46204 | B19: ALCANOS DE COLOMBIA S.A. ESP. | C19: CREG185 | D19: 119.36266 | E19: 15093 | F19: 14545.569 | G19: 547.43126 | H19: 666.79392 | M19: 0 | N19: 0 | O19: 0 | P19: 78985 | R19: 0.8442 | S19: =IF(cuenta_balance_creg185[[#This Row],[Porcentaje]]>=5,"MAYOR","") | T19: =IF(cuenta_balance_creg185[[#This Row],[Porcentaje]]<=-5,"MENOR","")
A20: 46205 | B20: ALCANOS DE COLOMBIA S.A. ESP. | C20: CREG185 | D20: 666.79392 | E20: 14128 | F20: 14498.634 | G20: -369.74198 | H20: 297.05194 | M20: 0 | N20: 0 | O20: 0 | P20: 79043 | R20: 0.3758 | S20: =IF(cuenta_balance_creg185[[#This Row],[Porcentaje]]>=5,"MAYOR","") | T20: =IF(cuenta_balance_creg185[[#This Row],[Porcentaje]]<=-5,"MENOR","")
A21: 46206 | B21: ALCANOS DE COLOMBIA S.A. ESP. | C21: CREG185 | D21: 297.05194 | E21: 14184 | F21: 14493.495 | G21: -309.49485 | H21: -12.44291 | P21: 79060 | R21: -0.0157 | S21: =IF(cuenta_balance_creg185[[#This Row],[Porcentaje]]>=5,"MAYOR","") | T21: =IF(cuenta_balance_creg185[[#This Row],[Porcentaje]]<=-5,"MENOR","")
A22: 46207 | B22: ALCANOS DE COLOMBIA S.A. ESP. | C22: CREG185 | D22: -12.44291 | E22: 14138 | F22: 14244.015 | G22: -106.01465 | H22: -118.45756 | P22: 78990 | R22: -0.1499 | S22: =IF(cuenta_balance_creg185[[#This Row],[Porcentaje]]>=5,"MAYOR","") | T22: =IF(cuenta_balance_creg185[[#This Row],[Porcentaje]]<=-5,"MENOR","")
A23: 46208 | B23: ALCANOS DE COLOMBIA S.A. ESP. | C23: CREG185 | D23: -118.45756 | E23: 12672 | F23: 12600.464 | G23: 71.53623 | H23: -46.92133 | P23: 79017 | R23: -0.0593 | S23: =IF(cuenta_balance_creg185[[#This Row],[Porcentaje]]>=5,"MAYOR","") | T23: =IF(cuenta_balance_creg185[[#This Row],[Porcentaje]]<=-5,"MENOR","")
A24: 46209 | B24: ALCANOS DE COLOMBIA S.A. ESP. | C24: CREG185 | D24: -46.92133 | E24: 15238 | F24: 14525.118 | G24: 712.88236 | H24: 665.96103 | P24: 79084 | R24: 0.842 | S24: =IF(cuenta_balance_creg185[[#This Row],[Porcentaje]]>=5,"MAYOR","") | T24: =IF(cuenta_balance_creg185[[#This Row],[Porcentaje]]<=-5,"MENOR","")
A25: 46210 | B25: ALCANOS DE COLOMBIA S.A. ESP. | C25: CREG185 | D25: 665.96103 | E25: 14319 | F25: 14349.469 | G25: -30.46872 | H25: 635.49231 | M25: 0 | N25: 0 | O25: 0 | P25: 79142 | R25: 0.8029 | S25: =IF(cuenta_balance_creg185[[#This Row],[Porcentaje]]>=5,"MAYOR","") | T25: =IF(cuenta_balance_creg185[[#This Row],[Porcentaje]]<=-5,"MENOR","")
A26: 46211 | B26: ALCANOS DE COLOMBIA S.A. ESP. | C26: CREG185 | D26: 635.49231 | E26: 14562 | F26: 14451.008 | G26: 110.9921 | H26: 746.48441 | M26: 0 | N26: 0 | O26: 0 | P26: 79119 | R26: 0.9434 | S26: =IF(cuenta_balance_creg185[[#This Row],[Porcentaje]]>=5,"MAYOR","") | T26: =IF(cuenta_balance_creg185[[#This Row],[Porcentaje]]<=-5,"MENOR","")
A27: 46212 | B27: ALCANOS DE COLOMBIA S.A. ESP. | C27: CREG185 | D27: 746.48441 | E27: 14123 | F27: 14611.987 | G27: -488.96331 | H27: 257.5211 | M27: 0 | N27: 0 | O27: 0 | P27: 79143 | R27: 0.3253 | S27: =IF(cuenta_balance_creg185[[#This Row],[Porcentaje]]>=5,"MAYOR","") | T27: =IF(cuenta_balance_creg185[[#This Row],[Porcentaje]]<=-5,"MENOR","")
A28: 46213 | B28: ALCANOS DE COLOMBIA S.A. ESP. | C28: CREG185 | D28: 257.5211 | E28: 14391 | F28: 14647.569 | G28: -255.57714 | H28: 1.94396 | M28: 0 | N28: 0 | O28: 0 | P28: 79083 | R28: 0.0024 | S28: =IF(cuenta_balance_creg185[[#This Row],[Porcentaje]]>=5,"MAYOR","") | T28: =IF(cuenta_balance_creg185[[#This Row],[Porcentaje]]<=-5,"MENOR","")
A29: 46214 | B29: ALCANOS DE COLOMBIA S.A. ESP. | C29: CREG185 | D29: 1.94396 | E29: 14890 | F29: 14721.02 | G29: 168.98015 | H29: 170.92411 | P29: 79058 | R29: 0.2162 | S29: =IF(cuenta_balance_creg185[[#This Row],[Porcentaje]]>=5,"MAYOR","") | T29: =IF(cuenta_balance_creg185[[#This Row],[Porcentaje]]<=-5,"MENOR","")
A30: 46215 | B30: ALCANOS DE COLOMBIA S.A. ESP. | C30: CREG185 | D30: 170.92411 | E30: 14373 | F30: 13730.292 | G30: 642.70759 | H30: 813.6317 | M30: 0 | N30: 0 | O30: 0 | P30: 79062 | R30: 1.0291 | S30: =IF(cuenta_balance_creg185[[#This Row],[Porcentaje]]>=5,"MAYOR","") | T30: =IF(cuenta_balance_creg185[[#This Row],[Porcentaje]]<=-5,"MENOR","")
A31: 46216 | B31: ALCANOS DE COLOMBIA S.A. ESP. | C31: CREG185 | D31: 813.6317 | E31: 15510 | F31: 14202.115 | G31: 1307.8849 | H31: 2121.5166 | M31: 0 | N31: 0 | O31: 0 | P31: 79044 | R31: 2.6839 | S31: =IF(cuenta_balance_creg185[[#This Row],[Porcentaje]]>=5,"MAYOR","") | T31: =IF(cuenta_balance_creg185[[#This Row],[Porcentaje]]<=-5,"MENOR","")
A32: 46217 | B32: ALCANOS DE COLOMBIA S.A. ESP. | C32: CREG185 | D32: 2121.5166 | E32: 13245 | F32: 13828.435 | G32: -583.43461 | H32: 1538.082 | P32: 79062 | R32: 1.9454 | S32: =IF(cuenta_balance_creg185[[#This Row],[Porcentaje]]>=5,"MAYOR","") | T32: =IF(cuenta_balance_creg185[[#This Row],[Porcentaje]]<=-5,"MENOR","")
A33: 46218 | B33: ALCANOS DE COLOMBIA S.A. ESP. | C33: CREG185 | D33: 1538.082 | E33: 13635 | F33: 14224.474 | G33: -589.47391 | H33: 948.60809 | P33: 79031 | R33: 1.2002 | S33: =IF(cuenta_balance_creg185[[#This Row],[Porcentaje]]>=5,"MAYOR","") | T33: =IF(cuenta_balance_creg185[[#This Row],[Porcentaje]]<=-5,"MENOR","")
A34: 46219 | B34: ALCANOS DE COLOMBIA S.A. ESP. | C34: CREG185 | D34: 948.60809 | E34: 13403 | F34: 14084.461 | G34: -681.46114 | H34: 267.14695 | P34: 78962 | R34: 0.3383 | S34: =IF(cuenta_balance_creg185[[#This Row],[Porcentaje]]>=5,"MAYOR","") | T34: =IF(cuenta_balance_creg185[[#This Row],[Porcentaje]]<=-5,"MENOR","")
A35: 46220 | B35: ALCANOS DE COLOMBIA S.A. ESP. | C35: CREG185 | D35: 267.14695 | E35: 13169 | F35: 13910.705 | G35: -741.7052 | H35: -474.55825 | P35: 78957 | R35: -0.601 | S35: =IF(cuenta_balance_creg185[[#This Row],[Porcentaje]]>=5,"MAYOR","") | T35: =IF(cuenta_balance_creg185[[#This Row],[Porcentaje]]<=-5,"MENOR","")
A36: 46204 | B36: CENIT TRANSPORTEYLOGÍSTICA DE HIDROCARBUROS S.A.S | C36: CREG185 | D36: -7.72424 | E36: 1154 | F36: 1411.4932 | G36: -257.49315 | H36: -265.21739 | P36: 1259 | R36: -21.0657 | S36: =IF(cuenta_balance_creg185[[#This Row],[Porcentaje]]>=5,"MAYOR","") | T36: =IF(cuenta_balance_creg185[[#This Row],[Porcentaje]]<=-5,"MENOR","") -> MENOR
A37: 46205 | B37: CENIT TRANSPORTEYLOGÍSTICA DE HIDROCARBUROS S.A.S | C37: CREG185 | D37: -265.21739 | E37: 1250 | F37: 1475.5971 | G37: -225.59707 | H37: -225.59707 | J37: 265.21739 | M37: 0 | N37: 0 | O37: 0 | P37: 1259 | R37: -17.9187 | S37: =IF(cuenta_balance_creg185[[#This Row],[Porcentaje]]>=5,"MAYOR","") | T37: =IF(cuenta_balance_creg185[[#This Row],[Porcentaje]]<=-5,"MENOR","") -> MENOR
A38: 46206 | B38: CENIT TRANSPORTEYLOGÍSTICA DE HIDROCARBUROS S.A.S | C38: CREG185 | D38: -225.59707 | E38: 1250 | F38: 1084.7988 | G38: 165.20124 | H38: -60.39583 | P38: 1259 | R38: -4.7971 | S38: =IF(cuenta_balance_creg185[[#This Row],[Porcentaje]]>=5,"MAYOR","") | T38: =IF(cuenta_balance_creg185[[#This Row],[Porcentaje]]<=-5,"MENOR","")
A39: 46207 | B39: CENIT TRANSPORTEYLOGÍSTICA DE HIDROCARBUROS S.A.S | C39: CREG185 | D39: -60.39583 | E39: 1490 | F39: 1572.2741 | G39: -82.27415 | H39: -82.27415 | J39: 60.39583 | M39: 0 | N39: 0 | O39: 0 | P39: 1260 | R39: -6.5296 | S39: =IF(cuenta_balance_creg185[[#This Row],[Porcentaje]]>=5,"MAYOR","") | T39: =IF(cuenta_balance_creg185[[#This Row],[Porcentaje]]<=-5,"MENOR","") -> MENOR
A40: 46208 | B40: CENIT TRANSPORTEYLOGÍSTICA DE HIDROCARBUROS S.A.S | C40: CREG185 | D40: -82.27415 | E40: 1250 | F40: 1435.0126 | G40: -185.01261 | H40: -267.28676 | P40: 1261 | R40: -21.1964 | S40: =IF(cuenta_balance_creg185[[#This Row],[Porcentaje]]>=5,"MAYOR","") | T40: =IF(cuenta_balance_creg185[[#This Row],[Porcentaje]]<=-5,"MENOR","") -> MENOR
A41: 46209 | B41: CENIT TRANSPORTEYLOGÍSTICA DE HIDROCARBUROS S.A.S | C41: CREG185 | D41: -267.28676 | E41: 1550 | F41: 1420.3008 | G41: 129.6992 | H41: 129.6992 | J41: 267.28676 | M41: 0 | N41: 0 | O41: 0 | P41: 1261 | R41: 10.2854 | S41: =IF(cuenta_balance_creg185[[#This Row],[Porcentaje]]>=5,"MAYOR","") -> MAYOR | T41: =IF(cuenta_balance_creg185[[#This Row],[Porcentaje]]<=-5,"MENOR","")
A42: 46210 | B42: CENIT TRANSPORTEYLOGÍSTICA DE HIDROCARBUROS S.A.S | C42: CREG185 | D42: 129.6992 | E42: 1250 | F42: 1496.3603 | G42: -246.3603 | H42: -116.6611 | P42: 1262 | R42: -9.2441 | S42: =IF(cuenta_balance_creg185[[#This Row],[Porcentaje]]>=5,"MAYOR","") | T42: =IF(cuenta_balance_creg185[[#This Row],[Porcentaje]]<=-5,"MENOR","") -> MENOR
A43: 46211 | B43: CENIT TRANSPORTEYLOGÍSTICA DE HIDROCARBUROS S.A.S | C43: CREG185 | D43: -116.6611 | E43: 1551 | F43: 1193.5255 | G43: 357.47447 | H43: 357.47447 | J43: 116.6611 | M43: 0 | N43: 0 | O43: 0 | P43: 1263 | R43: 28.3036 | S43: =IF(cuenta_balance_creg185[[#This Row],[Porcentaje]]>=5,"MAYOR","") -> MAYOR | T43: =IF(cuenta_balance_creg185[[#This Row],[Porcentaje]]<=-5,"MENOR","")
A44: 46212 | B44: CENIT TRANSPORTEYLOGÍSTICA DE HIDROCARBUROS S.A.S | C44: CREG185 | D44: 357.47447 | E44: 1160 | F44: 1492.3702 | G44: -332.37023 | H44: 25.10424 | P44: 1263 | R44: 1.9876 | S44: =IF(cuenta_balance_creg185[[#This Row],[Porcentaje]]>=5,"MAYOR","") | T44: =IF(cuenta_balance_creg185[[#This Row],[Porcentaje]]<=-5,"MENOR","")
A45: 46213 | B45: CENIT TRANSPORTEYLOGÍSTICA DE HIDROCARBUROS S.A.S | C45: CREG185 | D45: 25.10424 | E45: 1450 | F45: 1658.3453 | G45: -208.34532 | H45: -183.24108 | P45: 1263 | R45: -14.5083 | S45: =IF(cuenta_balance_creg185[[#This Row],[Porcentaje]]>=5,"MAYOR","") | T45: =IF(cuenta_balance_creg185[[#This Row],[Porcentaje]]<=-5,"MENOR","") -> MENOR
A46: 46214 | B46: CENIT TRANSPORTEYLOGÍSTICA DE HIDROCARBUROS S.A.S | C46: CREG185 | D46: -183.24108 | E46: 1367 | F46: 1382.181 | G46: -15.18102 | H46: -15.18102 | J46: 183.24108 | M46: 0 | N46: 0 | O46: 0 | P46: 1262 | R46: -1.2029 | S46: =IF(cuenta_balance_creg185[[#This Row],[Porcentaje]]>=5,"MAYOR","") | T46: =IF(cuenta_balance_creg185[[#This Row],[Porcentaje]]<=-5,"MENOR","")
A47: 46215 | B47: CENIT TRANSPORTEYLOGÍSTICA DE HIDROCARBUROS S.A.S | C47: CREG185 | D47: -15.18102 | E47: 1400 | F47: 1357.4276 | G47: 42.57244 | H47: 27.39142 | P47: 1264 | R47: 2.167 | S47: =IF(cuenta_balance_creg185[[#This Row],[Porcentaje]]>=5,"MAYOR","") | T47: =IF(cuenta_balance_creg185[[#This Row],[Porcentaje]]<=-5,"MENOR","")
A48: 46216 | B48: CENIT TRANSPORTEYLOGÍSTICA DE HIDROCARBUROS S.A.S | C48: CREG185 | D48: 27.39142 | E48: 1400 | F48: 1438.174 | G48: -38.17404 | H48: -10.78262 | P48: 1263 | R48: -0.8537 | S48: =IF(cuenta_balance_creg185[[#This Row],[Porcentaje]]>=5,"MAYOR","") | T48: =IF(cuenta_balance_creg185[[#This Row],[Porcentaje]]<=-5,"MENOR","")
A49: 46217 | B49: CENIT TRANSPORTEYLOGÍSTICA DE HIDROCARBUROS S.A.S | C49: CREG185 | D49: -10.78262 | E49: 1250 | F49: 792.17578 | G49: 457.82422 | H49: 447.0416 | P49: 1264 | R49: 35.3672 | S49: =IF(cuenta_balance_creg185[[#This Row],[Porcentaje]]>=5,"MAYOR","") -> MAYOR | T49: =IF(cuenta_balance_creg185[[#This Row],[Porcentaje]]<=-5,"MENOR","")
A50: 46218 | B50: CENIT TRANSPORTEYLOGÍSTICA DE HIDROCARBUROS S.A.S | C50: CREG185 | D50: 447.0416 | E50: 1100 | F50: 1641.0443 | G50: -541.04426 | H50: -94.00266 | P50: 1264 | R50: -7.4369 | S50: =IF(cuenta_balance_creg185[[#This Row],[Porcentaje]]>=5,"MAYOR","") | T50: =IF(cuenta_balance_creg185[[#This Row],[Porcentaje]]<=-5,"MENOR","") -> MENOR
A51: 46219 | B51: CENIT TRANSPORTEYLOGÍSTICA DE HIDROCARBUROS S.A.S | C51: CREG185 | D51: -94.00266 | E51: 1098 | F51: 1495.8129 | G51: -397.81291 | H51: -397.81291 | J51: 94.00266 | M51: 0 | N51: 0 | O51: 0 | P51: 1261 | R51: -31.5474 | S51: =IF(cuenta_balance_creg185[[#This Row],[Porcentaje]]>=5,"MAYOR","") | T51: =IF(cuenta_balance_creg185[[#This Row],[Porcentaje]]<=-5,"MENOR","") -> MENOR
A52: 46220 | B52: CENIT TRANSPORTEYLOGÍSTICA DE HIDROCARBUROS S.A.S | C52: CREG185 | D52: -397.81291 | E52: 1423 | F52: 1300.2328 | G52: 122.76716 | H52: 122.76716 | J52: 397.81291 | M52: 0 | N52: 0 | O52: 0 | P52: 1261 | R52: 9.7356 | S52: =IF(cuenta_balance_creg185[[#This Row],[Porcentaje]]>=5,"MAYOR","") -> MAYOR | T52: =IF(cuenta_balance_creg185[[#This Row],[Porcentaje]]<=-5,"MENOR","")
A53: 46204 | B53: COGASEN SAS ESP | C53: CREG185 | D53: 0 | E53: 225 | F53: 225 | G53: 0 | H53: 0 | M53: 0 | N53: 0 | O53: 0 | P53: 528 | R53: 0 | S53: =IF(cuenta_balance_creg185[[#This Row],[Porcentaje]]>=5,"MAYOR","") | T53: =IF(cuenta_balance_creg185[[#This Row],[Porcentaje]]<=-5,"MENOR","")
A54: 46205 | B54: COGASEN SAS ESP | C54: CREG185 | D54: 0 | E54: 225 | F54: 225 | G54: 0 | H54: 0 | M54: 0 | N54: 0 | O54: 0 | P54: 528 | R54: 0 | S54: =IF(cuenta_balance_creg185[[#This Row],[Porcentaje]]>=5,"MAYOR","") | T54: =IF(cuenta_balance_creg185[[#This Row],[Porcentaje]]<=-5,"MENOR","")
A55: 46206 | B55: COGASEN SAS ESP | C55: CREG185 | D55: 0 | E55: 225 | F55: 225 | G55: 0 | H55: 0 | M55: 0 | N55: 0 | O55: 0 | P55: 513 | R55: 0 | S55: =IF(cuenta_balance_creg185[[#This Row],[Porcentaje]]>=5,"MAYOR","") | T55: =IF(cuenta_balance_creg185[[#This Row],[Porcentaje]]<=-5,"MENOR","")
A56: 46207 | B56: COGASEN SAS ESP | C56: CREG185 | D56: 0 | E56: 227 | F56: 227 | G56: 0 | H56: 0 | M56: 0 | N56: 0 | O56: 0 | P56: 519 | R56: 0 | S56: =IF(cuenta_balance_creg185[[#This Row],[Porcentaje]]>=5,"MAYOR","") | T56: =IF(cuenta_balance_creg185[[#This Row],[Porcentaje]]<=-5,"MENOR","")
A57: 46208 | B57: COGASEN SAS ESP | C57: CREG185 | D57: 0 | E57: 231 | F57: 231 | G57: 0 | H57: 0 | P57: 522 | R57: 0 | S57: =IF(cuenta_balance_creg185[[#This Row],[Porcentaje]]>=5,"MAYOR","") | T57: =IF(cuenta_balance_creg185[[#This Row],[Porcentaje]]<=-5,"MENOR","")
A58: 46209 | B58: COGASEN SAS ESP | C58: CREG185 | D58: 0 | E58: 231 | F58: 231 | G58: 0 | H58: 0 | P58: 526 | R58: 0 | S58: =IF(cuenta_balance_creg185[[#This Row],[Porcentaje]]>=5,"MAYOR","") | T58: =IF(cuenta_balance_creg185[[#This Row],[Porcentaje]]<=-5,"MENOR","")
A59: 46210 | B59: COGASEN SAS ESP | C59: CREG185 | D59: 0 | E59: 275 | F59: 275 | G59: 0 | H59: 0 | P59: 527 | R59: 0 | S59: =IF(cuenta_balance_creg185[[#This Row],[Porcentaje]]>=5,"MAYOR","") | T59: =IF(cuenta_balance_creg185[[#This Row],[Porcentaje]]<=-5,"MENOR","")
A60: 46211 | B60: COGASEN SAS ESP | C60: CREG185 | D60: 0 | E60: 275 | F60: 275 | G60: 0 | H60: 0 | P60: 528 | R60: 0 | S60: =IF(cuenta_balance_creg185[[#This Row],[Porcentaje]]>=5,"MAYOR","") | T60: =IF(cuenta_balance_creg185[[#This Row],[Porcentaje]]<=-5,"MENOR","")
A61: 46212 | B61: COGASEN SAS ESP | C61: CREG185 | D61: 0 | E61: 275 | F61: 275 | G61: 0 | H61: 0 | P61: 528 | R61: 0 | S61: =IF(cuenta_balance_creg185[[#This Row],[Porcentaje]]>=5,"MAYOR","") | T61: =IF(cuenta_balance_creg185[[#This Row],[Porcentaje]]<=-5,"MENOR","")
A62: 46213 | B62: COGASEN SAS ESP | C62: CREG185 | D62: 0 | E62: 275 | F62: 275 | G62: 0 | H62: 0 | P62: 527 | R62: 0 | S62: =IF(cuenta_balance_creg185[[#This Row],[Porcentaje]]>=5,"MAYOR","") | T62: =IF(cuenta_balance_creg185[[#This Row],[Porcentaje]]<=-5,"MENOR","")
A63: 46214 | B63: COGASEN SAS ESP | C63: CREG185 | D63: 0 | E63: 275 | F63: 275 | G63: 0 | H63: 0 | P63: 528 | R63: 0 | S63: =IF(cuenta_balance_creg185[[#This Row],[Porcentaje]]>=5,"MAYOR","") | T63: =IF(cuenta_balance_creg185[[#This Row],[Porcentaje]]<=-5,"MENOR","")
A64: 46215 | B64: COGASEN SAS ESP | C64: CREG185 | D64: 0 | E64: 275 | F64: 275 | G64: 0 | H64: 0 | P64: 517 | R64: 0 | S64: =IF(cuenta_balance_creg185[[#This Row],[Porcentaje]]>=5,"MAYOR","") | T64: =IF(cuenta_balance_creg185[[#This Row],[Porcentaje]]<=-5,"MENOR","")
A65: 46216 | B65: COGASEN SAS ESP | C65: CREG185 | D65: 0 | E65: 345 | F65: 345 | G65: 0 | H65: 0 | P65: 514 | R65: 0 | S65: =IF(cuenta_balance_creg185[[#This Row],[Porcentaje]]>=5,"MAYOR","") | T65: =IF(cuenta_balance_creg185[[#This Row],[Porcentaje]]<=-5,"MENOR","")
A66: 46217 | B66: COGASEN SAS ESP | C66: CREG185 | D66: 0 | E66: 275 | F66: 275 | G66: 0 | H66: 0 | P66: 523 | R66: 0 | S66: =IF(cuenta_balance_creg185[[#This Row],[Porcentaje]]>=5,"MAYOR","") | T66: =IF(cuenta_balance_creg185[[#This Row],[Porcentaje]]<=-5,"MENOR","")
A67: 46218 | B67: COGASEN SAS ESP | C67: CREG185 | D67: 0 | E67: 275 | F67: 275 | G67: 0 | H67: 0 | P67: 527 | R67: 0 | S67: =IF(cuenta_balance_creg185[[#This Row],[Porcentaje]]>=5,"MAYOR","") | T67: =IF(cuenta_balance_creg185[[#This Row],[Porcentaje]]<=-5,"MENOR","")
A68: 46219 | B68: COGASEN SAS ESP | C68: CREG185 | D68: 0 | E68: 275 | F68: 275 | G68: 0 | H68: 0 | P68: 526 | R68: 0 | S68: =IF(cuenta_balance_creg185[[#This Row],[Porcentaje]]>=5,"MAYOR","") | T68: =IF(cuenta_balance_creg185[[#This Row],[Porcentaje]]<=-5,"MENOR","")
A69: 46220 | B69: COGASEN SAS ESP | C69: CREG185 | D69: 0 | E69: 251 | F69: 251 | G69: 0 | H69: 0 | M69: 0 | N69: 0 | O69: 0 | P69: 525 | R69: 0 | S69: =IF(cuenta_balance_creg185[[#This Row],[Porcentaje]]>=5,"MAYOR","") | T69: =IF(cuenta_balance_creg185[[#This Row],[Porcentaje]]<=-5,"MENOR","")
A70: 46204 | B70: COMBUSTIBLES Y GASES S.A. | C70: CREG185 | D70: 0 | E70: 0 | F70: 0 | G70: 0 | H70: 0 | P70: 0 | S70: =IF(cuenta_balance_creg185[[#This Row],[Porcentaje]]>=5,"MAYOR","") | T70: =IF(cuenta_balance_creg185[[#This Row],[Porcentaje]]<=-5,"MENOR","")
A71: 46205 | B71: COMBUSTIBLES Y GASES S.A. | C71: CREG185 | D71: 0 | E71: 0 | F71: 0 | G71: 0 | H71: 0 | P71: 0 | S71: =IF(cuenta_balance_creg185[[#This Row],[Porcentaje]]>=5,"MAYOR","") | T71: =IF(cuenta_balance_creg185[[#This Row],[Porcentaje]]<=-5,"MENOR","")
A72: 46206 | B72: COMBUSTIBLES Y GASES S.A. | C72: CREG185 | D72: 0 | E72: 0 | F72: 0 | G72: 0 | H72: 0 | P72: 0 | S72: =IF(cuenta_balance_creg185[[#This Row],[Porcentaje]]>=5,"MAYOR","") | T72: =IF(cuenta_balance_creg185[[#This Row],[Porcentaje]]<=-5,"MENOR","")
A73: 46207 | B73: COMBUSTIBLES Y GASES S.A. | C73: CREG185 | D73: 0 | E73: 0 | F73: 0 | G73: 0 | H73: 0 | P73: 0 | S73: =IF(cuenta_balance_creg185[[#This Row],[Porcentaje]]>=5,"MAYOR","") | T73: =IF(cuenta_balance_creg185[[#This Row],[Porcentaje]]<=-5,"MENOR","")
A74: 46208 | B74: COMBUSTIBLES Y GASES S.A. | C74: CREG185 | D74: 0 | E74: 0 | F74: 0 | G74: 0 | H74: 0 | P74: 0 | S74: =IF(cuenta_balance_creg185[[#This Row],[Porcentaje]]>=5,"MAYOR","") | T74: =IF(cuenta_balance_creg185[[#This Row],[Porcentaje]]<=-5,"MENOR","")
A75: 46209 | B75: COMBUSTIBLES Y GASES S.A. | C75: CREG185 | D75: 0 | E75: 0 | F75: 0 | G75: 0 | H75: 0 | P75: 0 | S75: =IF(cuenta_balance_creg185[[#This Row],[Porcentaje]]>=5,"MAYOR","") | T75: =IF(cuenta_balance_creg185[[#This Row],[Porcentaje]]<=-5,"MENOR","")
A76: 46210 | B76: COMBUSTIBLES Y GASES S.A. | C76: CREG185 | D76: 0 | E76: 0 | F76: 0 | G76: 0 | H76: 0 | P76: 0 | S76: =IF(cuenta_balance_creg185[[#This Row],[Porcentaje]]>=5,"MAYOR","") | T76: =IF(cuenta_balance_creg185[[#This Row],[Porcentaje]]<=-5,"MENOR","")
A77: 46211 | B77: COMBUSTIBLES Y GASES S.A. | C77: CREG185 | D77: 0 | E77: 0 | F77: 0 | G77: 0 | H77: 0 | P77: 0 | S77: =IF(cuenta_balance_creg185[[#This Row],[Porcentaje]]>=5,"MAYOR","") | T77: =IF(cuenta_balance_creg185[[#This Row],[Porcentaje]]<=-5,"MENOR","")
A78: 46212 | B78: COMBUSTIBLES Y GASES S.A. | C78: CREG185 | D78: 0 | E78: 0 | F78: 0 | G78: 0 | H78: 0 | P78: 0 | S78: =IF(cuenta_balance_creg185[[#This Row],[Porcentaje]]>=5,"MAYOR","") | T78: =IF(cuenta_balance_creg185[[#This Row],[Porcentaje]]<=-5,"MENOR","")
A79: 46213 | B79: COMBUSTIBLES Y GASES S.A. | C79: CREG185 | D79: 0 | E79: 0 | F79: 0 | G79: 0 | H79: 0 | P79: 0 | S79: =IF(cuenta_balance_creg185[[#This Row],[Porcentaje]]>=5,"MAYOR","") | T79: =IF(cuenta_balance_creg185[[#This Row],[Porcentaje]]<=-5,"MENOR","")
A80: 46214 | B80: COMBUSTIBLES Y GASES S.A. | C80: CREG185 | D80: 0 | E80: 0 | F80: 0 | G80: 0 | H80: 0 | P80: 0 | S80: =IF(cuenta_balance_creg185[[#This Row],[Porcentaje]]>=5,"MAYOR","") | T80: =IF(cuenta_balance_creg185[[#This Row],[Porcentaje]]<=-5,"MENOR","")
A81: 46215 | B81: COMBUSTIBLES Y GASES S.A. | C81: CREG185 | D81: 0 | E81: 0 | F81: 0 | G81: 0 | H81: 0 | P81: 0 | S81: =IF(cuenta_balance_creg185[[#This Row],[Porcentaje]]>=5,"MAYOR","") | T81: =IF(cuenta_balance_creg185[[#This Row],[Porcentaje]]<=-5,"MENOR","")
... A86: 46220 | B86: COMBUSTIBLES Y GASES S.A. | C86: CREG185 | D86: 0 | E86: 0 | F86: 0 | G86: 0 | H86: 0 | P86: 0 | S86: =IF(cuenta_balance_creg185[[#This Row],[Porcentaje]]>=5,"MAYOR","") | T86: =IF(cuenta_balance_creg185[[#This Row],[Porcentaje]]<=-5,"MENOR","")
A87: 46204 | B87: DISTRACOM S.A. | C87: CREG185 | E87: 1234 | F87: 1234 | G87: 0 | H87: 0 | P87: 2507 | R87: 0 | S87: =IF(cuenta_balance_creg185[[#This Row],[Porcentaje]]>=5,"MAYOR","") | T87: =IF(cuenta_balance_creg185[[#This Row],[Porcentaje]]<=-5,"MENOR","")
A88: 46205 | B88: DISTRACOM S.A. | C88: CREG185 | D88: 0 | E88: 1231 | F88: 1231 | G88: 0 | H88: 0 | P88: 2735 | R88: 0 | S88: =IF(cuenta_balance_creg185[[#This Row],[Porcentaje]]>=5,"MAYOR","") | T88: =IF(cuenta_balance_creg185[[#This Row],[Porcentaje]]<=-5,"MENOR","")
A89: 46206 | B89: DISTRACOM S.A. | C89: CREG185 | D89: 0 | E89: 1064 | F89: 1064 | G89: 0 | H89: 0 | P89: 2337 | R89: 0 | S89: =IF(cuenta_balance_creg185[[#This Row],[Porcentaje]]>=5,"MAYOR","") | T89: =IF(cuenta_balance_creg185[[#This Row],[Porcentaje]]<=-5,"MENOR","")
A90: 46207 | B90: DISTRACOM S.A. | C90: CREG185 | D90: 0 | E90: 1255 | F90: 1255 | G90: 0 | H90: 0 | P90: 2565 | R90: 0 | S90: =IF(cuenta_balance_creg185[[#This Row],[Porcentaje]]>=5,"MAYOR","") | T90: =IF(cuenta_balance_creg185[[#This Row],[Porcentaje]]<=-5,"MENOR","")
A91: 46208 | B91: DISTRACOM S.A. | C91: CREG185 | D91: 0 | E91: 1000 | F91: 1000 | G91: 0 | H91: 0 | P91: 2226 | R91: 0 | S91: =IF(cuenta_balance_creg185[[#This Row],[Porcentaje]]>=5,"MAYOR","") | T91: =IF(cuenta_balance_creg185[[#This Row],[Porcentaje]]<=-5,"MENOR","")
A92: 46209 | B92: DISTRACOM S.A. | C92: CREG185 | D92: 0 | E92: 1169 | F92: 1169 | G92: 0 | H92: 0 | P92: 2452 | R92: 0 | S92: =IF(cuenta_balance_creg185[[#This Row],[Porcentaje]]>=5,"MAYOR","") | T92: =IF(cuenta_balance_creg185[[#This Row],[Porcentaje]]<=-5,"MENOR","")
A93: 46210 | B93: DISTRACOM S.A. | C93: CREG185 | D93: 0 | E93: 1240 | F93: 1240 | G93: 0 | H93: 0 | P93: 2512 | R93: 0 | S93: =IF(cuenta_balance_creg185[[#This Row],[Porcentaje]]>=5,"MAYOR","") | T93: =IF(cuenta_balance_creg185[[#This Row],[Porcentaje]]<=-5,"MENOR","")
A94: 46211 | B94: DISTRACOM S.A. | C94: CREG185 | D94: 0 | E94: 1236 | F94: 1236 | G94: 0 | H94: 0 | P94: 2512 | R94: 0 | S94: =IF(cuenta_balance_creg185[[#This Row],[Porcentaje]]>=5,"MAYOR","") | T94: =IF(cuenta_balance_creg185[[#This Row],[Porcentaje]]<=-5,"MENOR","")
A95: 46212 | B95: DISTRACOM S.A. | C95: CREG185 | D95: 0 | E95: 1236 | F95: 1236 | G95: 0 | H95: 0 | P95: 2517 | R95: 0 | S95: =IF(cuenta_balance_creg185[[#This Row],[Porcentaje]]>=5,"MAYOR","") | T95: =IF(cuenta_balance_creg185[[#This Row],[Porcentaje]]<=-5,"MENOR","")
A96: 46213 | B96: DISTRACOM S.A. | C96: CREG185 | D96: 0 | E96: 1236 | F96: 1236 | G96: 0 | H96: 0 | P96: 2513 | R96: 0 | S96: =IF(cuenta_balance_creg185[[#This Row],[Porcentaje]]>=5,"MAYOR","") | T96: =IF(cuenta_balance_creg185[[#This Row],[Porcentaje]]<=-5,"MENOR","")
A97: 46214 | B97: DISTRACOM S.A. | C97: CREG185 | D97: 0 | E97: 1236 | F97: 1236 | G97: 0 | H97: 0 | P97: 2512 | R97: 0 | S97: =IF(cuenta_balance_creg185[[#This Row],[Porcentaje]]>=5,"MAYOR","") | T97: =IF(cuenta_balance_creg185[[#This Row],[Porcentaje]]<=-5,"MENOR","")
A98: 46215 | B98: DISTRACOM S.A. | C98: CREG185 | D98: 0 | E98: 1236 | F98: 1236 | G98: 0 | H98: 0 | P98: 2517 | R98: 0 | S98: =IF(cuenta_balance_creg185[[#This Row],[Porcentaje]]>=5,"MAYOR","") | T98: =IF(cuenta_balance_creg185[[#This Row],[Porcentaje]]<=-5,"MENOR","")
A99: 46216 | B99: DISTRACOM S.A. | C99: CREG185 | D99: 0 | E99: 813 | F99: 813 | G99: 0 | H99: 0 | P99: 2056 | R99: 0 | S99: =IF(cuenta_balance_creg185[[#This Row],[Porcentaje]]>=5,"MAYOR","") | T99: =IF(cuenta_balance_creg185[[#This Row],[Porcentaje]]<=-5,"MENOR","")
... A107: 46207 | B107: ECOPETROL S.A. | C107: CREG185 | D107: 1003.2988 | E107: 99877 | F107: 107879.57 | G107: -8002.5651 | H107: -6999.2663 | P107: 79997 | R107: -8.7494 | S107: =IF(cuenta_balance_creg185[[#This Row],[Porcentaje]]>=5,"MAYOR","") | T107: =IF(cuenta_balance_creg185[[#This Row],[Porcentaje]]<=-5,"MENOR","") -> MENOR
A108: 46208 | B108: ECOPETROL S.A. | C108: CREG185 | D108: -6999.2663 | E108: 101090 | F108: 100502.87 | G108: 587.1299 | H108: -174.13641 | J108: 6238 | M108: 0 | N108: 0 | O108: 0 | P108: 80012 | R108: -0.2176 | S108: =IF(cuenta_balance_creg185[[#This Row],[Porcentaje]]>=5,"MAYOR","") | T108: =IF(cuenta_balance_creg185[[#This Row],[Porcentaje]]<=-5,"MENOR","")
A109: 46209 | B109: ECOPETROL S.A. | C109: CREG185 | D109: -174.13641 | E109: 97012 | F109: 95673.188 | G109: 1338.8121 | H109: 1164.6757 | P109: 79963 | R109: 1.4565 | S109: =IF(cuenta_balance_creg185[[#This Row],[Porcentaje]]>=5,"MAYOR","") | T109: =IF(cuenta_balance_creg185[[#This Row],[Porcentaje]]<=-5,"MENOR","")
A110: 46210 | B110: ECOPETROL S.A. | C110: CREG185 | D110: 1164.6757 | E110: 95598 | F110: 94841.078 | G110: 756.92224 | H110: 1921.5979 | P110: 80071 | R110: 2.3998 | S110: =IF(cuenta_balance_creg185[[#This Row],[Porcentaje]]>=5,"MAYOR","") | T110: =IF(cuenta_balance_creg185[[#This Row],[Porcentaje]]<=-5,"MENOR","")
A111: 46211 | B111: ECOPETROL S.A. | C111: CREG185 | D111: 1921.5979 | E111: 102508 | F111: 98885.021 | G111: 3622.9789 | H111: 5544.5768 | P111: 80067 | R111: 6.9249 | S111: =IF(cuenta_balance_creg185[[#This Row],[Porcentaje]]>=5,"MAYOR","") -> MAYOR | T111: =IF(cuenta_balance_creg185[[#This Row],[Porcentaje]]<=-5,"MENOR","")
A112: 46212 | B112: ECOPETROL S.A. | C112: CREG185 | D112: 5544.5768 | E112: 99989 | F112: 98526.145 | G112: 1462.855 | H112: 6271.7718 | L112: -735.66 | M112: 0 | N112: 0 | O112: 0 | P112: 80097 | R112: 7.8302 | S112: =IF(cuenta_balance_creg185[[#This Row],[Porcentaje]]>=5,"MAYOR","") -> MAYOR | T112: =IF(cuenta_balance_creg185[[#This Row],[Porcentaje]]<=-5,"MENOR","")
A113: 46213 | B113: ECOPETROL S.A. | C113: CREG185 | D113: 6271.7718 | E113: 99630 | F113: 99052.65 | G113: 577.35034 | H113: 2888.9873 | L113: -3960.1348 | M113: 0 | N113: 0 | O113: 0 | P113: 80083 | R113: 3.6074 | S113: =IF(cuenta_balance_creg185[[#This Row],[Porcentaje]]>=5,"MAYOR","") | T113: =IF(cuenta_balance_creg185[[#This Row],[Porcentaje]]<=-5,"MENOR","")
A114: 46214 | B114: ECOPETROL S.A. | C114: CREG185 | D114: 2888.9873 | E114: 105635 | F114: 102047.79 | G114: 3587.2085 | H114: 2516.061 | L114: -3960.1348 | M114: 0 | N114: 0 | O114: 0 | P114: 80041 | R114: 3.1434 | S114: =IF(cuenta_balance_creg185[[#This Row],[Porcentaje]]>=5,"MAYOR","") | T114: =IF(cuenta_balance_creg185[[#This Row],[Porcentaje]]<=-5,"MENOR","")
...
